BEGIN:VCALENDAR
VERSION:2.0
PRODID:IEEE vTools.Events//EN
CALSCALE:GREGORIAN
BEGIN:VTIMEZONE
TZID:Europe/Istanbul
BEGIN:DAYLIGHT
DTSTART:20380119T061407
TZOFFSETFROM:+0300
TZOFFSETTO:+0300
RRULE:FREQ=YEARLY;BYDAY=3TU;BYMONTH=1
TZNAME:+03
END:DAYLIGHT
BEGIN:STANDARD
DTSTART:20160907T000000
TZOFFSETFROM:+0300
TZOFFSETTO:+0300
RRULE:FREQ=YEARLY;BYDAY=1WE;BYMONTH=9
TZNAME:+03
END:STANDARD
END:VTIMEZONE
BEGIN:VEVENT
DTSTAMP:20240123T130116Z
UID:00FCF120-33F0-433F-B7DD-F4310E8953A1
DTSTART;TZID=Europe/Istanbul:20231030T160000
DTEND;TZID=Europe/Istanbul:20231030T170000
DESCRIPTION:Exploring the intersection of entrepreneurship and software wit
 h Burç Tanır\, CEO\, and Founding Partner of Prisync. Prisync specialize
 s in competitor price tracking and dynamic pricing software for global e-c
 ommerce companies. Burç Tanır\, a member of the Forbes Technology Counci
 l\, brings a wealth of professional experience and leadership\, particular
 ly in the fields of technology and e-commerce. Join us as he shares insigh
 ts and tips on starting a successful business\, drawing from his success s
 tory and expertise in technology\, pricing automation\, and e-commerce.\n\
 nRoom: B27\, Bldg: ÖzÜ-X\, Özyeğin Üniversitesi Çekmeköy Kampüsü\
 , Nişantepe Mah. Orman Sok. Çekmeköy\, İstanbul\, Istanbul\, Türkiye\
 , 34794 
LOCATION:Room: B27\, Bldg: ÖzÜ-X\, Özyeğin Üniversitesi Çekmeköy Kam
 püsü\, Nişantepe Mah. Orman Sok. Çekmeköy\, İstanbul\, Istanbul\, T
 ürkiye\, 34794 
ORGANIZER:clubs.ieee@ozu.edu.tr
SEQUENCE:13
SUMMARY:Career Talks - Burç Tanır
URL;VALUE=URI:https://events.vtools.ieee.org/m/401671
X-ALT-DESC:Description: &lt;br /&gt;&lt;p&gt;Exploring the intersection of entrepreneur
 ship and software with Bur&amp;ccedil\; Tanır\, CEO\, and Founding Partner of
  Prisync. Prisync specializes in competitor price tracking and dynamic pri
 cing software for global e-commerce companies. Bur&amp;ccedil\; Tanır\, a mem
 ber of the Forbes Technology Council\, brings a wealth of professional exp
 erience and leadership\, particularly in the fields of technology and e-co
 mmerce. Join us as he shares insights and tips on starting a successful bu
 siness\, drawing from his success story and expertise in technology\, pric
 ing automation\, and e-commerce.&lt;/p&gt;
END:VEVENT
END:VCALENDAR

