BEGIN:VCALENDAR
VERSION:2.0
PRODID:IEEE vTools.Events//EN
CALSCALE:GREGORIAN
BEGIN:VTIMEZONE
TZID:Europe/Moscow
BEGIN:STANDARD
DTSTART:20141026T010000
TZOFFSETFROM:+0400
TZOFFSETTO:+0300
TZNAME:MSK
END:STANDARD
END:VTIMEZONE
BEGIN:VEVENT
DTSTAMP:20240123T124943Z
UID:C4AD6C4F-3BFF-4E9A-9585-10BFA721F8B0
DTSTART;TZID=Europe/Moscow:20231124T000000
DTEND;TZID=Europe/Moscow:20231125T000000
DESCRIPTION:During the meetings\, a wide range of computer science problems
  was discussed within the framework of five sections: “Theoretical compu
 ter science”\, “Machine learning and neural networks”\, “System de
 sign”\, “Applied aspects of computer science”\, “Information syste
 ms and technologies in medicine”. The reports were heard in person and v
 ia video link. A total of 55 reports were presented from 13 cities in Russ
 ia\, as well as from Serbia\, Bosnia and Herzegovina.\n\nNews link: https:
 //pnzgu.ru/news/2023/11/28/11104550\n\nBldg: 40\, Krasnaya st.\, Penza\, P
 enzenskaya\, Russia\, 440026\, Virtual: https://events.vtools.ieee.org/m/4
 01675
LOCATION:Bldg: 40\, Krasnaya st.\, Penza\, Penzenskaya\, Russia\, 440026\, 
 Virtual: https://events.vtools.ieee.org/m/401675
ORGANIZER:drozhdin@yandex.ru
SEQUENCE:12
SUMMARY:XXIII International Scientific and Technical Conference “Problems
  of Informatics in Education\, Management\, Economics and Technology”
URL;VALUE=URI:https://events.vtools.ieee.org/m/401675
X-ALT-DESC:Description: &lt;br /&gt;&lt;p&gt;During the meetings\, a wide range of comp
 uter science problems was discussed within the framework of five sections:
  &amp;ldquo\;Theoretical computer science&amp;rdquo\;\, &amp;ldquo\;Machine learning a
 nd neural networks&amp;rdquo\;\, &amp;ldquo\;System design&amp;rdquo\;\, &amp;ldquo\;Appli
 ed aspects of computer science&amp;rdquo\;\, &amp;ldquo\;Information systems and t
 echnologies in medicine&amp;rdquo\;. The reports were heard in person and via 
 video link. A total of 55 reports were presented from 13 cities in Russia\
 , as well as from Serbia\, Bosnia and Herzegovina.&lt;/p&gt;\n&lt;p&gt;News link: http
 s://pnzgu.ru/news/2023/11/28/11104550&lt;/p&gt;
END:VEVENT
END:VCALENDAR

