BEGIN:VCALENDAR
VERSION:2.0
PRODID:IEEE vTools.Events//EN
CALSCALE:GREGORIAN
BEGIN:VTIMEZONE
TZID:Europe/Paris
BEGIN:DAYLIGHT
DTSTART:20240331T030000
TZOFFSETFROM:+0100
TZOFFSETTO:+0200
RRULE:FREQ=YEARLY;BYDAY=-1SU;BYMONTH=3
TZNAME:CEST
END:DAYLIGHT
BEGIN:STANDARD
DTSTART:20231029T020000
TZOFFSETFROM:+0200
TZOFFSETTO:+0100
RRULE:FREQ=YEARLY;BYDAY=-1SU;BYMONTH=10
TZNAME:CET
END:STANDARD
END:VTIMEZONE
BEGIN:VEVENT
DTSTAMP:20240123T144739Z
UID:DFDCDF9E-D609-4DC3-AF21-88089E3AC4B3
DTSTART;TZID=Europe/Paris:20231209T130000
DTEND;TZID=Europe/Paris:20231209T170000
DESCRIPTION:In an immersive three days initiative across diverse educationa
 l landscapes\, our team embarked on a journey of knowledge sharing and emp
 owerment.\n\nAt El Hneya Primary School in Sanhaja Manouba\, our first sto
 p\, the air buzzed with enthusiasm as we engaged with young minds through 
 an array of workshops.\n\nThree captivating sessions focused on Arduino\, 
 nurturing self-confidence\, and unlocking creativity through Scratch devel
 opment ignited sparks of curiosity among the children\, fostering an atmos
 phere of exploration and learning.\n\nEl Hneya Primary School Sanheja Mano
 uba \, Manouba Tunisia\, Manouba\, Tunisia\, 2037
LOCATION:El Hneya Primary School Sanheja Manouba \, Manouba Tunisia\, Manou
 ba\, Tunisia\, 2037
ORGANIZER:wieeenicarthage@gmail.com
SEQUENCE:1
SUMMARY:STAR PROGRAM &quot;El Hneya Primary School in Sanheja &quot; VISIT
URL;VALUE=URI:https://events.vtools.ieee.org/m/401684
X-ALT-DESC:Description: &lt;br /&gt;&lt;p&gt;&lt;span style=&quot;font-weight: 400\; font-famil
 y: georgia\, palatino\, serif\;&quot;&gt;In an immersive three days initiative acr
 oss diverse educational landscapes\, our team embarked on a journey of kno
 wledge sharing and empowerment.&lt;/span&gt;&lt;/p&gt;\n&lt;p&gt;&lt;span style=&quot;font-weight: 4
 00\; font-family: georgia\, palatino\, serif\;&quot;&gt;At &lt;strong&gt;El Hneya Primar
 y School in Sanhaja Manouba\,&lt;/strong&gt; our first stop\, the air buzzed wit
 h enthusiasm as we engaged with young minds through an array of workshops.
  &lt;/span&gt;&lt;/p&gt;\n&lt;p&gt;&lt;span style=&quot;font-weight: 400\; font-family: georgia\, pa
 latino\, serif\;&quot;&gt;Three captivating sessions focused on Arduino\, nurturin
 g self-confidence\, and unlocking creativity through Scratch development i
 gnited sparks of curiosity among the children\, fostering an atmosphere of
  exploration and learning.&lt;/span&gt;&lt;/p&gt;
END:VEVENT
END:VCALENDAR

