BEGIN:VCALENDAR
VERSION:2.0
PRODID:IEEE vTools.Events//EN
CALSCALE:GREGORIAN
BEGIN:VTIMEZONE
TZID:America/Chicago
BEGIN:DAYLIGHT
DTSTART:20240310T030000
TZOFFSETFROM:-0600
TZOFFSETTO:-0500
RRULE:FREQ=YEARLY;BYDAY=2SU;BYMONTH=3
TZNAME:CDT
END:DAYLIGHT
BEGIN:STANDARD
DTSTART:20231105T010000
TZOFFSETFROM:-0500
TZOFFSETTO:-0600
RRULE:FREQ=YEARLY;BYDAY=1SU;BYMONTH=11
TZNAME:CST
END:STANDARD
END:VTIMEZONE
BEGIN:VEVENT
DTSTAMP:20241213T162843Z
UID:4CF9C64E-3356-40CF-B28E-552CC9726CF1
DTSTART;TZID=America/Chicago:20240131T120000
DTEND;TZID=America/Chicago:20240131T130000
DESCRIPTION:This talk provides and overview of applications of AI and softw
 are automation in the power industry with several practical examples of th
 ese technologies being applied to real world industry problems. Lessons le
 arned are provided with each example and includes when AI should and shoul
 d not be used. Open-source resources on how to get started in AI along wit
 h the benefits of integrating with GIS solutions is also provided.\n\nSpea
 ker(s): Nathan \, \n\nVirtual: https://events.vtools.ieee.org/m/401790
LOCATION:Virtual: https://events.vtools.ieee.org/m/401790
ORGANIZER:n.wallace.us@ieee.org
SEQUENCE:41
SUMMARY:AI Applications in the Power Industry 
URL;VALUE=URI:https://events.vtools.ieee.org/m/401790
X-ALT-DESC:Description: &lt;br /&gt;&lt;p&gt;This talk provides and overview of applica
 tions of AI and software automation in the power industry with several pra
 ctical examples of these technologies being applied to real world industry
  problems. Lessons learned are provided with each example and includes whe
 n AI should and should not be used. Open-source resources on how to get st
 arted in AI along with the benefits of integrating with GIS solutions is a
 lso provided.&lt;/p&gt;
END:VEVENT
END:VCALENDAR

