BEGIN:VCALENDAR
VERSION:2.0
PRODID:IEEE vTools.Events//EN
CALSCALE:GREGORIAN
BEGIN:VTIMEZONE
TZID:Asia/Kolkata
BEGIN:STANDARD
DTSTART:19451014T230000
TZOFFSETFROM:+0630
TZOFFSETTO:+0530
TZNAME:IST
END:STANDARD
END:VTIMEZONE
BEGIN:VEVENT
DTSTAMP:20240201T100244Z
UID:86CFA680-9BB3-4575-A0A2-BE2B149870A6
DTSTART;TZID=Asia/Kolkata:20240130T110000
DTEND;TZID=Asia/Kolkata:20240130T123000
DESCRIPTION:IEEE Awareness Drive organised by IEEE LDRP Institute of Techno
 logy &amp; Research Student Branch\n\nAIM &amp; OBJECTIVE – IEEE Awareness Drive
 \n\nThe IEEE Awareness Drive is a dynamic initiative tailored for students
 \, aiming to explore and illuminate the diverse facets of technology and i
 nnovation. This platform provides an opportunity for students to engage wi
 th the rich landscape of IEEE and showcase their enthusiasm for technologi
 cal advancements.\nParticipants in the Awareness Drive will delve into int
 eractive sessions\, presentations\, and discussions\, allowing them to gai
 n insights into IEEE&#39;s mission and the myriad benefits of IEEE membership.
  The event is designed to foster collaboration\, connecting students with 
 industry professionals and academic experts.\nThe selection process for ac
 tive involvement in the Awareness Drive ensures a comprehensive evaluation
 \, overseen by a panel of distinguished individuals representing both acad
 emia and industry. Join us in this exploration of IEEE&#39;s impact on technol
 ogy and the limitless opportunities it offers to aspiring individuals.\n\n
 Registration Form : https://forms.gle/7oqgrAqJQT1YLSVV9\n\nCo-sponsored by
 : IEEE LDRP Institute of Technology &amp; Research Student Branch\n\nSpeaker(s
 ): Dr. Pooja Shah\n\nRoom: Seminar Hall\, Bldg: Mechanical Building\, LDRP
  ITR Campus\, Gandhinagar\, Gujarat\, Gujarat\, India\, 382016
LOCATION:Room: Seminar Hall\, Bldg: Mechanical Building\, LDRP ITR Campus\,
  Gandhinagar\, Gujarat\, Gujarat\, India\, 382016
ORGANIZER:kandarp.gajjar.460@gmail.com
SEQUENCE:11
SUMMARY:IEEE Awareness Drive
URL;VALUE=URI:https://events.vtools.ieee.org/m/402009
X-ALT-DESC:Description: &lt;br /&gt;&lt;p&gt;IEEE Awareness Drive organised by IEEE LDR
 P Institute of Technology &amp;amp\; Research Student Branch&lt;/p&gt;\n&lt;p&gt;&lt;strong&gt;&lt;
 span style=&quot;color: #34495e\; font-size: 14pt\;&quot;&gt;AIM &amp;amp\; OBJECTIVE &amp;ndas
 h\; IEEE Awareness Drive&lt;/span&gt;&lt;/strong&gt;&lt;/p&gt;\n&lt;p&gt;The IEEE Awareness Drive 
 is a dynamic initiative tailored for students\, aiming to explore and illu
 minate the diverse facets of technology and innovation. This platform prov
 ides an opportunity for students to engage with the rich landscape of IEEE
  and showcase their enthusiasm for technological advancements.&lt;br /&gt;Partic
 ipants in the Awareness Drive will delve into interactive sessions\, prese
 ntations\, and discussions\, allowing them to gain insights into IEEE&#39;s mi
 ssion and the myriad benefits of IEEE membership. The event is designed to
  foster collaboration\, connecting students with industry professionals an
 d academic experts.&lt;br /&gt;The selection process for active involvement in t
 he Awareness Drive ensures a comprehensive evaluation\, overseen by a pane
 l of distinguished individuals representing both academia and industry. Jo
 in us in this exploration of IEEE&#39;s impact on technology and the limitless
  opportunities it offers to aspiring individuals.&lt;/p&gt;\n&lt;p&gt;Registration For
 m : &lt;a href=&quot;https://forms.gle/7oqgrAqJQT1YLSVV9&quot;&gt;https://forms.gle/7oqgrA
 qJQT1YLSVV9&lt;/a&gt;&lt;/p&gt;
END:VEVENT
END:VCALENDAR

