BEGIN:VCALENDAR
VERSION:2.0
PRODID:IEEE vTools.Events//EN
CALSCALE:GREGORIAN
BEGIN:VTIMEZONE
TZID:America/Chicago
BEGIN:DAYLIGHT
DTSTART:20240310T030000
TZOFFSETFROM:-0600
TZOFFSETTO:-0500
RRULE:FREQ=YEARLY;BYDAY=2SU;BYMONTH=3
TZNAME:CDT
END:DAYLIGHT
BEGIN:STANDARD
DTSTART:20241103T010000
TZOFFSETFROM:-0500
TZOFFSETTO:-0600
RRULE:FREQ=YEARLY;BYDAY=1SU;BYMONTH=11
TZNAME:CST
END:STANDARD
END:VTIMEZONE
BEGIN:VEVENT
DTSTAMP:20240413T234438Z
UID:FE26FC94-3764-45AA-B745-4DC1837C0133
DTSTART;TZID=America/Chicago:20240412T113000
DTEND;TZID=America/Chicago:20240412T130000
DESCRIPTION:There is a $15.00 charge for each registrant. Guests and non-me
 mbers charge is $20.00 and Students are $5.00. Remainder of the tab will b
 e picked up by the EMB and the LMAG\, appropriately.\n\nSpeaker(s): Dr. Ko
 brina\, \n\nAgenda: \n11:30am: Business meeting: Call to order\, minutes o
 f last meeting\, treasurer&#39;s report\, new business\,\n\n12:00pm: Lunch\n\n
 12:30pm: Technical talk and discussion\n\n1::00pm: adjourn\n\nLa Fonda Ala
 mo Heights\, 633 Crownhill Blvd\, San Antonio\, Texas\, United States
LOCATION:La Fonda Alamo Heights\, 633 Crownhill Blvd\, San Antonio\, Texas\
 , United States
ORGANIZER:heena.rathore@ieee.org
SEQUENCE:13
SUMMARY:Joint IEEE EMB Chapter &amp; LMAG meeting followed by a technical talk.
   
URL;VALUE=URI:https://events.vtools.ieee.org/m/402098
X-ALT-DESC:Description: &lt;br /&gt;&lt;p&gt;There is a $15.00 charge for each registra
 nt.&amp;nbsp\; Guests and non-members charge is $20.00 and Students are $5.00.
  Remainder of the tab will be picked up by the EMB and the LMAG\, appropri
 ately.&lt;/p&gt;&lt;br /&gt;&lt;br /&gt;Agenda: &lt;br /&gt;&lt;p&gt;11:30am: Business meeting: Call to 
 order\, minutes of last meeting\, treasurer&#39;s report\, new business\,&lt;/p&gt;\
 n&lt;p&gt;12:00pm: Lunch&lt;/p&gt;\n&lt;p&gt;12:30pm: Technical talk and discussion&lt;/p&gt;\n&lt;p&gt;
 1::00pm: &amp;nbsp\;adjourn&lt;/p&gt;
END:VEVENT
END:VCALENDAR

