BEGIN:VCALENDAR
VERSION:2.0
PRODID:IEEE vTools.Events//EN
CALSCALE:GREGORIAN
BEGIN:VTIMEZONE
TZID:Asia/Kolkata
BEGIN:STANDARD
DTSTART:19451014T230000
TZOFFSETFROM:+0630
TZOFFSETTO:+0530
TZNAME:IST
END:STANDARD
END:VTIMEZONE
BEGIN:VEVENT
DTSTAMP:20240219T110524Z
UID:08A81696-B917-4C48-AEF5-2FE34A2048F9
DTSTART;TZID=Asia/Kolkata:20240131T123000
DTEND;TZID=Asia/Kolkata:20240131T143000
DESCRIPTION:Embark on a literary escapade as the world of reading unfolds o
 nce more!\n\nHop on board with &quot;Paperback Pals&quot; express for a captivating 
 book review fiesta on &quot;The Untethered Soul: The Journey Beyond Yourself&quot; b
 y Michael Alan Singer\, all brought to you by the dynamic initiative of Si
 lver Oak University IEEE Women in Engineering Student Branch Affinity Grou
 p.\n\nCalling all members to participate in this magical exploration! Kind
 ly acknowledge this message\, as we&#39;re gearing up for an exciting activity
 .\n\nWhether you&#39;re a bookworm veteran or a first-time page-turner\, join 
 us for a transformative experience reflecting on the quest of mindfulness 
 and inner peace. See you there!\n\nAhmedabad\, Gujarat\, India
LOCATION:Ahmedabad\, Gujarat\, India
ORGANIZER:ieee.fbc@socet.edu.in
SEQUENCE:15
SUMMARY:Book Review (January) - The Untethered Soul: The Journey Beyond You
 rself
URL;VALUE=URI:https://events.vtools.ieee.org/m/402181
X-ALT-DESC:Description: &lt;br /&gt;&lt;p&gt;&lt;strong&gt;Embark on a literary escapade as t
 he world of reading unfolds once more!&amp;nbsp\;&lt;/strong&gt;&lt;/p&gt;\n&lt;p&gt;Hop on boar
 d with &lt;strong&gt;&quot;Paperback Pals&quot;&lt;/strong&gt; express for a captivating book re
 view fiesta on &lt;strong&gt;&quot;The Untethered Soul: The Journey Beyond Yourself&quot;&lt;
 /strong&gt; by &lt;strong&gt;Michael Alan Singer&lt;/strong&gt;\, all brought to you by t
 he dynamic initiative of &lt;strong&gt;Silver Oak University IEEE Women in Engin
 eering Student Branch Affinity Group&lt;/strong&gt;.&amp;nbsp\;&lt;/p&gt;\n&lt;p&gt;Calling all 
 members to participate in this magical exploration! Kindly acknowledge thi
 s message\, as we&#39;re gearing up for an exciting activity.&amp;nbsp\;&lt;/p&gt;\n&lt;p&gt;W
 hether you&#39;re a bookworm veteran or a first-time page-turner\, join us for
  a transformative experience reflecting on the quest of mindfulness and in
 ner peace. &lt;strong&gt;See you there!&amp;nbsp\;&lt;/strong&gt;&lt;/p&gt;
END:VEVENT
END:VCALENDAR

