BEGIN:VCALENDAR
VERSION:2.0
PRODID:IEEE vTools.Events//EN
CALSCALE:GREGORIAN
BEGIN:VTIMEZONE
TZID:America/Chicago
BEGIN:DAYLIGHT
DTSTART:20240310T030000
TZOFFSETFROM:-0600
TZOFFSETTO:-0500
RRULE:FREQ=YEARLY;BYDAY=2SU;BYMONTH=3
TZNAME:CDT
END:DAYLIGHT
BEGIN:STANDARD
DTSTART:20231105T010000
TZOFFSETFROM:-0500
TZOFFSETTO:-0600
RRULE:FREQ=YEARLY;BYDAY=1SU;BYMONTH=11
TZNAME:CST
END:STANDARD
END:VTIMEZONE
BEGIN:VEVENT
DTSTAMP:20240226T124934Z
UID:47AD3499-7DF6-4821-8720-53CF5E1CD474
DTSTART;TZID=America/Chicago:20240222T190000
DTEND;TZID=America/Chicago:20240222T210000
DESCRIPTION:Join IEEE YP for a social night of professional networking and 
 board games sponsored by IEEE Young Professionals PES.\n\n7010 Easy Wind D
 r \, #150\, Austin\, Texas\, United States\, 78752
LOCATION:7010 Easy Wind Dr \, #150\, Austin\, Texas\, United States\, 78752
ORGANIZER:monceym@bv.com
SEQUENCE:19
SUMMARY:IEEE YP Networking Board Game Night February 22
URL;VALUE=URI:https://events.vtools.ieee.org/m/402267
X-ALT-DESC:Description: &lt;br /&gt;&lt;p&gt;Join IEEE YP for a social night of profess
 ional networking and board games sponsored by IEEE Young Professionals PES
 .&lt;/p&gt;
END:VEVENT
END:VCALENDAR

