BEGIN:VCALENDAR
VERSION:2.0
PRODID:IEEE vTools.Events//EN
CALSCALE:GREGORIAN
BEGIN:VTIMEZONE
TZID:US/Michigan
BEGIN:DAYLIGHT
DTSTART:20240310T030000
TZOFFSETFROM:-0500
TZOFFSETTO:-0400
RRULE:FREQ=YEARLY;BYDAY=2SU;BYMONTH=3
TZNAME:EDT
END:DAYLIGHT
BEGIN:STANDARD
DTSTART:20241103T010000
TZOFFSETFROM:-0400
TZOFFSETTO:-0500
RRULE:FREQ=YEARLY;BYDAY=1SU;BYMONTH=11
TZNAME:EST
END:STANDARD
END:VTIMEZONE
BEGIN:VEVENT
DTSTAMP:20240605T192051Z
UID:7947D7FC-7596-48A2-BE82-FB848D013E9B
DTSTART;TZID=US/Michigan:20240515T173000
DTEND;TZID=US/Michigan:20240515T193000
DESCRIPTION:FINAL DAY T0 REGISTER IS May 10\n\nEMC Fest &#39;2024 Vendor &amp; VIP 
 Committee Dinner Registration\n\nMay 15\, 2024\n\n[Important Registration 
 Information - Please read First!](https://www.emcsociety.org/wp/?page_id=2
 190)\n\nDrinks and hors d&#39;oeuvres at 5:30 PM DInner at 6:00 PM\n\nLocation
 : Embassy Suites 19525 Victor Parkway\, Livonia\, Michigan\,48152\, USA\n\
 nCompany receives one complimentary EMC Fest registration and one admissio
 n to the vendor – committee reception evening before event\, but each pe
 rson must separately pre-register for the dinner event. All registrations 
 at the door $100.\n\nAgenda: \n5:30 Drinks and appetizers\n\n6:00 Dinner\n
 \nThe Embassy Suites Hotel is located 22 miles from Detroit Metropolitan A
 irport. From I-275 take the 7 Mile Road - East. Travel approximately 1/4 o
 f a mile to Victory Parkway. Turn left on proceed approximately 1/4 mile. 
 Embassy Suites will be on the left . Contact (734) 462-6000 to make hotel 
 arrangements. Airport shuttle is not available so plan a taxi \, Uber or c
 ar to travel to the hotel.\n\nEmbassy Suites\, 19525 Victor Parkway\, Livo
 nia\, Michigan\, United States\, 48152
LOCATION:Embassy Suites\, 19525 Victor Parkway\, Livonia\, Michigan\, Unite
 d States\, 48152
ORGANIZER:scott@emcsociety.org
SEQUENCE:15
SUMMARY:EMC Fest 2024 Vendor &amp; Committee Dinner Registration
URL;VALUE=URI:https://events.vtools.ieee.org/m/403057
X-ALT-DESC:Description: &lt;br /&gt;&lt;p style=&quot;margin-right: .75in\; text-align: c
 enter\;&quot; align=&quot;center&quot;&gt;&lt;span style=&quot;font-size: 18pt\; color: #ff0000\;&quot;&gt;F
 INAL DAY T0 REGISTER IS May 10&lt;/span&gt;&lt;/p&gt;\n&lt;p style=&quot;margin-right: .75in\;
  text-align: center\;&quot; align=&quot;center&quot;&gt;&lt;strong&gt;&lt;span style=&quot;font-size: 36.0
 pt\; font-family: Tahoma\; color: blue\;&quot;&gt;EMC&lt;/span&gt;&lt;/strong&gt;&lt;strong&gt;&lt;span
  style=&quot;font-size: 36.0pt\; font-family: Tahoma\; color: blue\;&quot;&gt; &lt;em&gt;Fest
 &lt;/em&gt; &#39;2024 Vendor &amp;amp\; VIP Committee Dinner Registration&lt;/span&gt;&lt;/strong
 &gt;&lt;/p&gt;\n&lt;p style=&quot;margin-right: .75in\; text-align: center\;&quot; align=&quot;center
 &quot;&gt;&lt;strong&gt;&lt;span style=&quot;font-size: 18.0pt\; font-family: Tahoma\;&quot;&gt;May 15\,
  2024&lt;/span&gt;&lt;/strong&gt;&lt;/p&gt;\n&lt;p class=&quot;MsoHeading7&quot; style=&quot;text-align: cente
 r\;&quot; align=&quot;center&quot;&gt;&lt;strong&gt;&lt;a href=&quot;https://www.emcsociety.org/wp/?page_i
 d=2190&quot;&gt;Important Registration Information - Please read First!&lt;/a&gt;&lt;/stron
 g&gt;&lt;/p&gt;\n&lt;p&gt;&amp;nbsp\;&lt;/p&gt;\n&lt;p style=&quot;margin-right: .75in\; text-align: center
 \;&quot; align=&quot;center&quot;&gt;Drinks and hors d&#39;oeuvres at 5:30 PM DInner at 6:00 PM&lt;
 /p&gt;\n&lt;p style=&quot;margin-right: .75in\; text-align: center\;&quot; align=&quot;center&quot;&gt;
 &lt;span style=&quot;font-size: 14pt\; background-color: #ffffff\; color: #800080\
 ;&quot;&gt;&amp;nbsp\;Location: Embassy Suites&amp;nbsp\;&lt;span class=&quot;visualGroup&quot;&gt;&lt;span c
 lass=&quot;property-streetAddress&quot;&gt;19525 Victor Parkway&lt;/span&gt;\,&lt;/span&gt;&amp;nbsp\;&lt;
 span class=&quot;visualGroup&quot;&gt;&lt;span class=&quot;property-addressLocality&quot;&gt;Livonia&lt;/s
 pan&gt;\,&lt;/span&gt;&amp;nbsp\;&lt;span class=&quot;visualGroup&quot;&gt;&lt;span class=&quot;property-addres
 sRegion&quot;&gt;Michigan&lt;/span&gt;\,&lt;/span&gt;&lt;span class=&quot;visualGroup&quot;&gt;&lt;span class=&quot;pr
 operty-postalCode&quot;&gt;48152&lt;/span&gt;\,&lt;/span&gt;&amp;nbsp\;&lt;span class=&quot;visualGroup&quot;&gt;&lt;
 span class=&quot;property-addressCountry&quot;&gt;USA&lt;/span&gt;&lt;/span&gt;&lt;/span&gt;&lt;/p&gt;\n&lt;p styl
 e=&quot;margin-right: .75in\; text-align: center\;&quot; align=&quot;center&quot;&gt;&amp;nbsp\;&lt;/p&gt;\
 n&lt;p&gt;Company receives one complimentary EMC Fest registration and one admis
 sion to the vendor &amp;ndash\; committee reception evening before event\, but
  each person must separately pre-register for the dinner event.&amp;nbsp\; &amp;nb
 sp\;All registrations at the door $100.&lt;/p&gt;\n&lt;p&gt;&amp;nbsp\;&lt;/p&gt;&lt;br /&gt;&lt;br /&gt;Age
 nda: &lt;br /&gt;&lt;h4&gt;5:30 Drinks and appetizers&lt;/h4&gt;\n&lt;h4&gt;6:00 Dinner&amp;nbsp\;&lt;/h4
 &gt;\n&lt;p&gt;&lt;strong&gt;The Embassy Suites Hotel is located 22 miles from Detroit Me
 tropolitan Airport. From I-275 take the 7 Mile Road - East. Travel approxi
 mately 1/4 of a mile to Victory Parkway. Turn left on proceed approximatel
 y 1/4 mile. Embassy Suites will be on the left . Contact (734) 462-6000 to
  make hotel arrangements. Airport shuttle is not available so plan a taxi 
 \, Uber or car to travel to the hotel.&lt;/strong&gt;&lt;/p&gt;
END:VEVENT
END:VCALENDAR

