BEGIN:VCALENDAR
VERSION:2.0
PRODID:IEEE vTools.Events//EN
CALSCALE:GREGORIAN
BEGIN:VTIMEZONE
TZID:America/Mexico_City
BEGIN:STANDARD
DTSTART:20221030T010000
TZOFFSETFROM:-0500
TZOFFSETTO:-0600
TZNAME:CST
END:STANDARD
END:VTIMEZONE
BEGIN:VEVENT
DTSTAMP:20240205T063329Z
UID:E8DD8B3A-00F2-4383-ADA7-F4B512655576
DTSTART;TZID=America/Mexico_City:20231005T093000
DTEND;TZID=America/Mexico_City:20231005T160000
DESCRIPTION:IEEE day was a social event which we carried out with the other
  chapters where we had a social interaction executing coexistence actions\
 , such as a rally event in which groups were made that participated in the
  event in a sequence of activities where they showed their skills and team
 work.\n\nAgenda: \n09:30 AM - A conference is held with all those involved
  to give a few words about what IEEE day is\n\n10:00 AM - we start the com
 petition activities\n\n03:00 PM - Competition activities have ended.\n\n03
 :30 PM - Competition Events Completion Conference\n\n04:00 PM - Presentati
 on of recognition to the winners of the competition to end\n\nCarretera Fe
 deral 180 S/N\, Universidad Tecnologica de Campeche\, San Antonio Cardenas
 \, Carmen\, Campeche\, Mexico\, 24100
LOCATION:Carretera Federal 180 S/N\, Universidad Tecnologica de Campeche\, 
 San Antonio Cardenas\, Carmen\, Campeche\, Mexico\, 24100
ORGANIZER:JustinJASV927@ieee.org
SEQUENCE:42
SUMMARY:IEEE DAY 2023
URL;VALUE=URI:https://events.vtools.ieee.org/m/403344
X-ALT-DESC:Description: &lt;br /&gt;&lt;p&gt;IEEE day was a social event which we carri
 ed out with the other chapters where we had a social interaction executing
  coexistence actions\, such as a rally event in which groups were made tha
 t participated in the event in a sequence of activities where they showed 
 their skills and teamwork.&lt;/p&gt;&lt;br /&gt;&lt;br /&gt;Agenda: &lt;br /&gt;&lt;p&gt;09:30 AM - A co
 nference is held with all those involved to give a few words about what IE
 EE day is&lt;/p&gt;\n&lt;p&gt;10:00 AM - we start the competition activities&lt;/p&gt;\n&lt;p&gt;0
 3:00 PM - Competition activities have ended.&lt;/p&gt;\n&lt;p&gt;03:30 PM - Competitio
 n Events Completion Conference&lt;/p&gt;\n&lt;p&gt;04:00 PM - Presentation of recognit
 ion to the winners of the competition to end&lt;/p&gt;
END:VEVENT
END:VCALENDAR

