BEGIN:VCALENDAR
VERSION:2.0
PRODID:IEEE vTools.Events//EN
CALSCALE:GREGORIAN
BEGIN:VTIMEZONE
TZID:Europe/Paris
BEGIN:DAYLIGHT
DTSTART:20240331T030000
TZOFFSETFROM:+0100
TZOFFSETTO:+0200
RRULE:FREQ=YEARLY;BYDAY=-1SU;BYMONTH=3
TZNAME:CEST
END:DAYLIGHT
BEGIN:STANDARD
DTSTART:20231029T020000
TZOFFSETFROM:+0200
TZOFFSETTO:+0100
RRULE:FREQ=YEARLY;BYDAY=-1SU;BYMONTH=10
TZNAME:CET
END:STANDARD
END:VTIMEZONE
BEGIN:VEVENT
DTSTAMP:20240131T110112Z
UID:38F1BB2D-27A9-41C0-B822-29811E5520E0
DTSTART;TZID=Europe/Paris:20240124T080000
DTEND;TZID=Europe/Paris:20240124T160000
DESCRIPTION:The ISIMM CS chapter recently set up a stand to promote its upc
 oming Flutter workshop sessions scheduled for January 29th\, 30th\, and Fe
 bruary 1st at ISIMM.\n\nThe atmosphere at the stand was vibrant and inviti
 ng\, reflecting the excitement surrounding the event.\n\nMembers eagerly e
 ngaged with the promotional materials and discussions about the workshop t
 opics.\n\nTheir enthusiasm was palpable\, with many expressing eagerness t
 o participate and learn.\n\nThe positive response underscores the chapter&#39;
 s dedication to providing valuable learning opportunities and fostering en
 thusiasm within the CS community.\n\nH I Informatics &amp; Mathematics of Mona
 stir (ISIMM)\, Monastir\, Monastir\, Tunisia
LOCATION:H I Informatics &amp; Mathematics of Monastir (ISIMM)\, Monastir\, Mon
 astir\, Tunisia
ORGANIZER:sbc-cs-isimm@ieee.org
SEQUENCE:12
SUMMARY:Flutter Booth 
URL;VALUE=URI:https://events.vtools.ieee.org/m/403384
X-ALT-DESC:Description: &lt;br /&gt;&lt;p&gt;The ISIMM CS chapter recently set up a sta
 nd to promote its upcoming Flutter workshop sessions scheduled for January
  29th\, 30th\, and February 1st at ISIMM.&lt;/p&gt;\n&lt;p&gt;The atmosphere at the st
 and was vibrant and inviting\, reflecting the excitement surrounding the e
 vent.&lt;/p&gt;\n&lt;p&gt;Members eagerly engaged with the promotional materials and d
 iscussions about the workshop topics.&lt;/p&gt;\n&lt;p&gt;Their enthusiasm was palpabl
 e\, with many expressing eagerness to participate and learn.&lt;/p&gt;\n&lt;p&gt;The p
 ositive response underscores the chapter&#39;s dedication to providing valuabl
 e learning opportunities and fostering enthusiasm within the CS community.
 &lt;/p&gt;
END:VEVENT
END:VCALENDAR

