BEGIN:VCALENDAR
VERSION:2.0
PRODID:IEEE vTools.Events//EN
CALSCALE:GREGORIAN
BEGIN:VTIMEZONE
TZID:Africa/Cairo
BEGIN:DAYLIGHT
DTSTART:20230428T010000
TZOFFSETFROM:+0200
TZOFFSETTO:+0300
RRULE:FREQ=YEARLY;BYDAY=-1FR;BYMONTH=4
TZNAME:EEST
END:DAYLIGHT
BEGIN:STANDARD
DTSTART:20231026T230000
TZOFFSETFROM:+0300
TZOFFSETTO:+0200
RRULE:FREQ=YEARLY;BYDAY=-1TH;BYMONTH=10
TZNAME:EET
END:STANDARD
END:VTIMEZONE
BEGIN:VEVENT
DTSTAMP:20240130T213705Z
UID:F0C8D63C-87B0-4657-84AB-B4E64728E2BD
DTSTART;TZID=Africa/Cairo:20231014T100000
DTEND;TZID=Africa/Cairo:20231014T180000
DESCRIPTION:A group from IEEE KSB SB participated in the IEEE DAY EGYPT SEC
 TION. It was a day full of benefit and fun. The day achieved many achievem
 ents\, including the young people sharing different experiences \, experie
 nces and discussions in all fields\, which led to amazing and wonderful re
 sults. It also strengthened the young people’s relationships with each o
 ther\, which increased their For the love of IEEE.\n\nAl jizah\, Al-Jizah\
 , Egypt
LOCATION:Al jizah\, Al-Jizah\, Egypt
ORGANIZER:abdulrahmanelbanna@ieee.org
SEQUENCE:41
SUMMARY:IEEE DAY 
URL;VALUE=URI:https://events.vtools.ieee.org/m/403417
X-ALT-DESC:Description: &lt;br /&gt;&lt;p&gt;A group from IEEE KSB SB participated in t
 he IEEE DAY EGYPT SECTION. It was a day full of benefit and fun. The day a
 chieved many achievements\, including the young people sharing different e
 xperiences \, experiences and discussions in all fields\, which led to ama
 zing and wonderful results. It also strengthened the young people&amp;rsquo\;s
  relationships with each other\, which increased their For the love of IEE
 E.&lt;/p&gt;
END:VEVENT
END:VCALENDAR

