BEGIN:VCALENDAR
VERSION:2.0
PRODID:IEEE vTools.Events//EN
CALSCALE:GREGORIAN
BEGIN:VTIMEZONE
TZID:America/Argentina/Buenos_Aires
BEGIN:DAYLIGHT
DTSTART:20380119T001407
TZOFFSETFROM:-0300
TZOFFSETTO:-0300
RRULE:FREQ=YEARLY;BYDAY=3TU;BYMONTH=1
TZNAME:-03
END:DAYLIGHT
BEGIN:STANDARD
DTSTART:20090314T230000
TZOFFSETFROM:-0200
TZOFFSETTO:-0300
RRULE:FREQ=YEARLY;BYDAY=2SA;BYMONTH=3
TZNAME:-03
END:STANDARD
END:VTIMEZONE
BEGIN:VEVENT
DTSTAMP:20240315T012347Z
UID:24E31F03-1920-4841-B030-CA0487BC5BD8
DTSTART;TZID=America/Argentina/Buenos_Aires:20240214T183000
DTEND;TZID=America/Argentina/Buenos_Aires:20240214T203000
DESCRIPTION:Learn the guidelines\, terminology and basic requirements to br
 ing your electronic design to reality and be able to make a prototype. In 
 the meetings you will see the recommendations of the industry and the step
 s to follow for the design of PCBs oriented to DFA (Design for Assembly) a
 nd DFM (Design for Manufacturing). Practice making a design with Surface M
 ount Components (SMD) and Through-Mount (TH). Take home a PCB manufactured
  and assembled by yourself!\n\nFree activity!\n\nSpeaker(s): Joaquin Bergm
 ann\n\nRoom: 1164\, Bldg: Labs\, Lima 757\, Buenos Aires\, Distrito Federa
 l\, Argentina\, 1095
LOCATION:Room: 1164\, Bldg: Labs\, Lima 757\, Buenos Aires\, Distrito Feder
 al\, Argentina\, 1095
ORGANIZER:vidmar@ieee.org
SEQUENCE:4
SUMMARY:Introduction to PCB Standards and Design for Manufacturing
URL;VALUE=URI:https://events.vtools.ieee.org/m/403743
X-ALT-DESC:Description: &lt;br /&gt;&lt;p&gt;Learn the guidelines\, terminology and bas
 ic requirements to bring your electronic design to reality and be able to 
 make a prototype. In the meetings you will see the recommendations of the 
 industry and the steps to follow for the design of PCBs oriented to DFA (D
 esign for Assembly) and DFM (Design for Manufacturing). Practice making a 
 design with Surface Mount Components (SMD) and Through-Mount (TH). Take ho
 me a PCB manufactured and assembled by yourself!&lt;br /&gt;&lt;br /&gt;Free activity!
 &lt;/p&gt;
END:VEVENT
END:VCALENDAR

