BEGIN:VCALENDAR
VERSION:2.0
PRODID:IEEE vTools.Events//EN
CALSCALE:GREGORIAN
BEGIN:VTIMEZONE
TZID:America/New_York
BEGIN:DAYLIGHT
DTSTART:20240310T030000
TZOFFSETFROM:-0500
TZOFFSETTO:-0400
RRULE:FREQ=YEARLY;BYDAY=2SU;BYMONTH=3
TZNAME:EDT
END:DAYLIGHT
BEGIN:STANDARD
DTSTART:20231105T010000
TZOFFSETFROM:-0400
TZOFFSETTO:-0500
RRULE:FREQ=YEARLY;BYDAY=1SU;BYMONTH=11
TZNAME:EST
END:STANDARD
END:VTIMEZONE
BEGIN:VEVENT
DTSTAMP:20240311T131020Z
UID:6017480F-FA6A-4817-81AE-EC2A6B85BA2D
DTSTART;TZID=America/New_York:20240307T173000
DTEND;TZID=America/New_York:20240307T200000
DESCRIPTION:Please join us for a social networking event in the most wester
 n city of North Carolina -- Murphy! This is a unique opportunity to networ
 k with engineering professionals in the quiant and historic rural town. Lo
 cals and regional members of IEEE are welcome\, as well as those consideri
 ng joining IEEE.\n\nWe will meet at [Buck Bald Brewing](http://buckbaldbre
 wing.com/)\, a local brewery featuring an assortment of craft beers. A var
 iety of [Brooklyn-style pizzas](https://lh3.googleusercontent.com/p/AF1Qip
 OpCBf95R_EvKv_002BAoJOBHS3ibDWsWGmxILJ=w960-h960-n-o-v1)\, salad\, and h&#39;o
 rdeuvres will be served. (Please note food preferences below\, we will do 
 our best to accommodate.)\n\nAdmission Fee: $0 per person (however beer mu
 st be purchased on your own)\n\nPlease note: Must sign-up by March 5\, 202
 4 so we can prepare food reservations appropriately.\n\nBldg: (Located on 
 side entrance of building)\, Buck Bald Brewing\, 104 Tennessee St Suite D\
 , Murphy\, North Carolina\, United States\, 28906
LOCATION:Bldg: (Located on side entrance of building)\, Buck Bald Brewing\,
  104 Tennessee St Suite D\, Murphy\, North Carolina\, United States\, 2890
 6
ORGANIZER:avaughn@ieee.org
SEQUENCE:48
SUMMARY:Far West WNC Social Event in Murphy\, NC
URL;VALUE=URI:https://events.vtools.ieee.org/m/403917
X-ALT-DESC:Description: &lt;br /&gt;&lt;p&gt;&lt;span style=&quot;font-size: 14pt\;&quot;&gt;&lt;strong&gt;Pl
 ease join us for a social networking event in the most western city of Nor
 th Carolina -- Murphy! &lt;/strong&gt;This is a unique opportunity to network wi
 th engineering professionals in the quiant and historic rural town. Locals
  and regional members of IEEE are welcome\, as well as those considering j
 oining IEEE.&amp;nbsp\;&lt;/span&gt;&lt;/p&gt;\n&lt;p&gt;&lt;span style=&quot;font-size: 14pt\;&quot;&gt;We will
  meet at &lt;a href=&quot;http://buckbaldbrewing.com/&quot;&gt;Buck Bald Brewing&lt;/a&gt;\, a l
 ocal brewery featuring an assortment of craft beers. A variety of &lt;a href=
 &quot;https://lh3.googleusercontent.com/p/AF1QipOpCBf95R_EvKv_002BAoJOBHS3ibDWs
 WGmxILJ=w960-h960-n-o-v1&quot; target=&quot;_blank&quot; rel=&quot;noopener&quot;&gt;Brooklyn-style pi
 zzas&lt;/a&gt;\, salad\, and h&#39;ordeuvres will be served. &lt;em&gt;(Please note food p
 references below\, we will do our best to accommodate.)&lt;/em&gt;&lt;/span&gt;&lt;/p&gt;\n&lt;
 p&gt;&amp;nbsp\;&lt;/p&gt;\n&lt;p&gt;&lt;span style=&quot;font-size: 14pt\;&quot;&gt;&lt;strong&gt;Admission Fee&lt;/s
 trong&gt;: $0 per person (&lt;em&gt;however beer must be purchased on your own&lt;/em&gt;
 )&lt;/span&gt;&lt;/p&gt;\n&lt;p&gt;&amp;nbsp\;&lt;/p&gt;\n&lt;p&gt;&lt;span style=&quot;font-size: 14pt\;&quot;&gt;&lt;em&gt;&lt;span
  style=&quot;background-color: #fbeeb8\;&quot;&gt;&lt;strong&gt;Please note:&lt;/strong&gt; Must si
 gn-up by March 5\, 2024 so we can prepare food reservations appropriately.
 &lt;/span&gt;&lt;/em&gt;&lt;/span&gt;&lt;/p&gt;\n&lt;p&gt;&amp;nbsp\;&lt;/p&gt;
END:VEVENT
END:VCALENDAR

