BEGIN:VCALENDAR
VERSION:2.0
PRODID:IEEE vTools.Events//EN
CALSCALE:GREGORIAN
BEGIN:VTIMEZONE
TZID:Europe/Paris
BEGIN:DAYLIGHT
DTSTART:20240331T030000
TZOFFSETFROM:+0100
TZOFFSETTO:+0200
RRULE:FREQ=YEARLY;BYDAY=-1SU;BYMONTH=3
TZNAME:CEST
END:DAYLIGHT
BEGIN:STANDARD
DTSTART:20231029T020000
TZOFFSETFROM:+0200
TZOFFSETTO:+0100
RRULE:FREQ=YEARLY;BYDAY=-1SU;BYMONTH=10
TZNAME:CET
END:STANDARD
END:VTIMEZONE
BEGIN:VEVENT
DTSTAMP:20240303T091241Z
UID:01A9234C-D3C9-48E1-894E-9713B87D1F0C
DTSTART;TZID=Europe/Paris:20240224T150000
DTEND;TZID=Europe/Paris:20240225T150000
DESCRIPTION:DataQuest is a hackathon organized by Data Overflow\, an event 
 that belongs to INSAT&#39;s IEEE CS Chapter and ACM. It is a 24-hour straight 
 hackathon that takes place on the 24th and 25th of February.\n\nDataQuest 
 focuses on machine learning and data science\, and participants are provid
 ed with a developer environment with all the necessary tools and resources
 . The hackathon is open to everyone interested in these fields\, regardles
 s of their university or institute affiliation. Remarkable prizes are offe
 red to the winners\, and the event takes into consideration both beginner 
 and intermediate levels.\n\nINSAT\, Centre Urbain Nord\, Tunis\, Tunis\, T
 unisia
LOCATION:INSAT\, Centre Urbain Nord\, Tunis\, Tunis\, Tunisia
ORGANIZER:ieeeinsatsbcs@gmail.com
SEQUENCE:23
SUMMARY:DataQuest
URL;VALUE=URI:https://events.vtools.ieee.org/m/404002
X-ALT-DESC:Description: &lt;br /&gt;&lt;p&gt;DataQuest is a hackathon organized by Data
  Overflow\, an event that belongs to INSAT&#39;s IEEE CS Chapter and ACM. It i
 s a 24-hour straight hackathon that takes place on the 24th and 25th of Fe
 bruary.&lt;/p&gt;\n&lt;p&gt;DataQuest focuses on machine learning and data science\, a
 nd participants are provided with a developer environment with all the nec
 essary tools and resources. The hackathon is open to everyone interested i
 n these fields\, regardless of their university or institute affiliation. 
 Remarkable prizes are offered to the winners\, and the event takes into co
 nsideration both beginner and intermediate levels.&lt;/p&gt;
END:VEVENT
END:VCALENDAR

