BEGIN:VCALENDAR
VERSION:2.0
PRODID:IEEE vTools.Events//EN
CALSCALE:GREGORIAN
BEGIN:VTIMEZONE
TZID:US/Mountain
BEGIN:DAYLIGHT
DTSTART:20240310T030000
TZOFFSETFROM:-0700
TZOFFSETTO:-0600
RRULE:FREQ=YEARLY;BYDAY=2SU;BYMONTH=3
TZNAME:MDT
END:DAYLIGHT
BEGIN:STANDARD
DTSTART:20231105T010000
TZOFFSETFROM:-0600
TZOFFSETTO:-0700
RRULE:FREQ=YEARLY;BYDAY=1SU;BYMONTH=11
TZNAME:MST
END:STANDARD
END:VTIMEZONE
BEGIN:VEVENT
DTSTAMP:20240307T164251Z
UID:276EB3AB-4BB7-4FF6-BA8B-16603122E4ED
DTSTART;TZID=US/Mountain:20240222T180000
DTEND;TZID=US/Mountain:20240222T210000
DESCRIPTION:Schedule\n\n6:00 – Check-in\, Chapter Business and Networking
 \n\n6:30 – Dinner Served\n\n7:00 – Presentation\n\n8:00 – Adjourn\n\
 nSummary:\n\nWe will open the meeting with some chapter business\, includi
 ng our 2023 year end chapter finances and health along with a reminder of 
 officer openings\, and our plans for 2024 meetings.\n\nTitle: Power Grid P
 hasing – How to Understand it and Keep it Straight\n\nDescription:\n\nPh
 ase shifts\, rotations and phase I.D. issues can cause a lot of headaches.
  Walt will go over the basics so you’ll be better equipped to avoid and 
 solve these power grid pitfalls.\n\nSpeaker(s): Walt\n\nAgenda: \nSchedule
 \n\n6:00 – Check-in\, Chapter Business and Networking\n\n6:30 – Dinner
  Served\n\n7:00 – Presentation\n\n8:00 – Adjourn\n\nRoom: Upstairs Mee
 ting Room\, Bldg: The Original Brooklyn&#39;s\, 2644 W Colfax Ave\, Denver\, C
 olorado\, United States\, 80204\, Virtual: https://events.vtools.ieee.org/
 m/404381
LOCATION:Room: Upstairs Meeting Room\, Bldg: The Original Brooklyn&#39;s\, 2644
  W Colfax Ave\, Denver\, Colorado\, United States\, 80204\, Virtual: https
 ://events.vtools.ieee.org/m/404381
ORGANIZER:
SEQUENCE:11
SUMMARY:IEEE Denver PES/IAS Chapter February 2024 Meeting
URL;VALUE=URI:https://events.vtools.ieee.org/m/404381
X-ALT-DESC:Description: &lt;br /&gt;&lt;p&gt;&lt;strong&gt;Schedule&lt;/strong&gt;&lt;/p&gt;\n&lt;p&gt;6:00 &amp;nd
 ash\; Check-in\, Chapter Business and Networking&lt;/p&gt;\n&lt;p&gt;6:30 &amp;ndash\; Din
 ner Served&lt;/p&gt;\n&lt;p&gt;7:00 &amp;ndash\; Presentation&lt;/p&gt;\n&lt;p&gt;8:00 &amp;ndash\; Adjour
 n&lt;/p&gt;\n&lt;p style=&quot;font-weight: 400\;&quot;&gt;Summary: &amp;nbsp\;&lt;/p&gt;\n&lt;p style=&quot;font-
 weight: 400\;&quot;&gt;We will open the meeting with some chapter business\, inclu
 ding our 2023 year end chapter finances and health along with a reminder o
 f officer openings\, and our plans for 2024 meetings.&lt;/p&gt;\n&lt;p style=&quot;font-
 weight: 400\;&quot;&gt;&lt;strong&gt;Title: Power Grid Phasing &amp;ndash\; How to Understan
 d it and Keep it Straight&lt;/strong&gt;&lt;/p&gt;\n&lt;p style=&quot;font-weight: 400\;&quot;&gt;&lt;str
 ong&gt;Description:&amp;nbsp\;&lt;/strong&gt;&lt;/p&gt;\n&lt;p&gt;Phase shifts\, rotations and phas
 e I.D. issues can cause a lot of headaches. Walt will go over the basics s
 o you&amp;rsquo\;ll be better equipped to avoid and solve these power grid pit
 falls.&lt;/p&gt;\n&lt;p style=&quot;font-weight: 400\;&quot;&gt;&amp;nbsp\;&lt;/p&gt;&lt;br /&gt;&lt;br /&gt;Agenda: &lt;
 br /&gt;&lt;p&gt;&lt;strong&gt;Schedule&lt;/strong&gt;&lt;/p&gt;\n&lt;p&gt;6:00 &amp;ndash\; Check-in\, Chapter
  Business and Networking&lt;/p&gt;\n&lt;p&gt;6:30 &amp;ndash\; Dinner Served&lt;/p&gt;\n&lt;p&gt;7:00 
 &amp;ndash\; Presentation&lt;/p&gt;\n&lt;p&gt;8:00 &amp;ndash\; Adjourn&lt;/p&gt;
END:VEVENT
END:VCALENDAR

