BEGIN:VCALENDAR
VERSION:2.0
PRODID:IEEE vTools.Events//EN
CALSCALE:GREGORIAN
BEGIN:VTIMEZONE
TZID:America/New_York
BEGIN:DAYLIGHT
DTSTART:20240310T030000
TZOFFSETFROM:-0500
TZOFFSETTO:-0400
RRULE:FREQ=YEARLY;BYDAY=2SU;BYMONTH=3
TZNAME:EDT
END:DAYLIGHT
BEGIN:STANDARD
DTSTART:20231105T010000
TZOFFSETFROM:-0400
TZOFFSETTO:-0500
RRULE:FREQ=YEARLY;BYDAY=1SU;BYMONTH=11
TZNAME:EST
END:STANDARD
END:VTIMEZONE
BEGIN:VEVENT
DTSTAMP:20240225T215511Z
UID:FBD10FE9-CD17-4846-AF3B-9345C05D6DB8
DTSTART;TZID=America/New_York:20240222T173000
DTEND;TZID=America/New_York:20240222T193000
DESCRIPTION:Our first kick-off event for newly reformed [IEEE Power Electro
 nics Society (PELS) Boston Chapter](https://www.linkedin.com/company/ieee-
 power-electronics-society-pels-boston-chapter/) is sponsored by [Plexim](h
 ttps://www.linkedin.com/company/plexim/) this year!!\nJoin us for a meet a
 nd greet\, chapter introduction\, interesting technical talk on &#39;Future tr
 ends in Power electronics&#39; by IEEE PELS President\, Dr. [Brad Lehman](http
 s://www.linkedin.com/in/ACoAAAGPTg8BFCyRvt_5nARJoMqYZ2eKg2IlQdY)\, trivia\
 , meet your peers from different universities\, professors\, and professio
 nals from industry and pizzaaa!\n\nRSVP here (to join in person or online)
 : https://lnkd.in/eYtxysfR\nWhen: February 22\, 2024 | 5:30-7:30PM\nWhere:
  Shillman Hall 335\, Northeastern University\, 115 Forsyth Ave\, Boston\, 
 MA\, 02115\n\nFill out this Google form - https://lnkd.in/ePVUPZkK to join
  for our mailing list\nFollow us on LinkedIn - https://lnkd.in/erqE46N8 to
  stay tuned in for more events this year!\n\nReach out to arshiah.mirza@ie
 ee.org incase of questions\n\nSpeaker(s): Dr. Brad Lehman\, Dr. Arshiah Mi
 rza\n\nAgenda: \nAgenda:\n\nIn-person and online:\nOpening remarks by Prof
 . Brad Lehman\,\nNEU\, IEEE PELS President - 5 min\nChapter introduction b
 y Dr. Arshiah\nMirza\, Shell Techworks\, IEEE PELS\nBoston Chapter Chair -
  5 min\nIntroduction by Plexim - 5 min\nTechnical talk on ‘Future trends
  in Power\nelectronics’\, by Prof. Brad Lehman - 30\nmin\nTrivia (online
  game) - 20 min\n\nIn-person only:\nMeet and Greet - Pizza provided - 1 hr
 \n\nRoom: 335\, Bldg: Shillman Hall \, 115 Forsyth Ave \, North eastern un
 iversity \, Boston\, Massachusetts\, United States\, 02115\, Virtual: http
 s://events.vtools.ieee.org/m/405075
LOCATION:Room: 335\, Bldg: Shillman Hall \, 115 Forsyth Ave \, North easter
 n university \, Boston\, Massachusetts\, United States\, 02115\, Virtual: 
 https://events.vtools.ieee.org/m/405075
ORGANIZER:arshiah.mirza@ieee.org
SEQUENCE:14
SUMMARY:IEEE PELS Boston Chapter - Kick off - Meet and Greet 
URL;VALUE=URI:https://events.vtools.ieee.org/m/405075
X-ALT-DESC:Description: &lt;br /&gt;&lt;p&gt;Our first kick-off event for newly reforme
 d&amp;nbsp\;&lt;a href=&quot;https://www.linkedin.com/company/ieee-power-electronics-s
 ociety-pels-boston-chapter/&quot; data-attribute-index=&quot;0&quot; data-entity-type=&quot;MI
 NI_COMPANY&quot;&gt;IEEE Power Electronics Society (PELS) Boston Chapter&lt;/a&gt;&amp;nbsp\
 ;is sponsored by&amp;nbsp\;&lt;a href=&quot;https://www.linkedin.com/company/plexim/&quot; 
 data-attribute-index=&quot;2&quot; data-entity-type=&quot;MINI_COMPANY&quot;&gt;Plexim&lt;/a&gt;&amp;nbsp\;
 this year!!&lt;br /&gt;Join us for a meet and greet\, chapter introduction\, int
 eresting technical talk on &#39;Future trends in Power electronics&#39; by IEEE PE
 LS President\, Dr. &lt;a href=&quot;https://www.linkedin.com/in/ACoAAAGPTg8BFCyRvt
 _5nARJoMqYZ2eKg2IlQdY&quot; data-attribute-index=&quot;4&quot; data-entity-type=&quot;MINI_PRO
 FILE&quot;&gt;Brad Lehman&lt;/a&gt;\, trivia\, meet your peers from different universiti
 es\, professors\, and professionals from industry and pizzaaa!&lt;br /&gt;&lt;br /&gt;
 RSVP here (to join in person or online):&amp;nbsp\;&lt;a href=&quot;https://lnkd.in/eY
 txysfR&quot; target=&quot;_self&quot; data-attribute-index=&quot;6&quot;&gt;https://lnkd.in/eYtxysfR&lt;/
 a&gt;&lt;br /&gt;When: February 22\, 2024 | 5:30-7:30PM&lt;br /&gt;Where: Shillman Hall 3
 35\, Northeastern University\, 115 Forsyth Ave\, Boston\, MA\, 02115&lt;br /&gt;
 &lt;br /&gt;Fill out this Google form - &lt;a href=&quot;https://lnkd.in/ePVUPZkK&quot; targe
 t=&quot;_self&quot; data-attribute-index=&quot;19&quot;&gt;https://lnkd.in/ePVUPZkK&lt;/a&gt;&amp;nbsp\;to 
 join for our mailing list&lt;br /&gt;Follow us on LinkedIn -&amp;nbsp\;&lt;a href=&quot;http
 s://lnkd.in/erqE46N8&quot; target=&quot;_self&quot; data-attribute-index=&quot;20&quot;&gt;https://lnk
 d.in/erqE46N8&lt;/a&gt;&amp;nbsp\;to stay tuned in for more events this year!&lt;br /&gt;&lt;
 br /&gt;Reach out to&amp;nbsp\;&lt;a href=&quot;mailto:arshiah.mirza@ieee.org&quot; target=&quot;_s
 elf&quot; data-attribute-index=&quot;21&quot;&gt;arshiah.mirza@ieee.org&lt;/a&gt;&amp;nbsp\;incase of 
 questions&lt;/p&gt;\n&lt;p&gt;&amp;nbsp\;&lt;/p&gt;&lt;br /&gt;&lt;br /&gt;Agenda: &lt;br /&gt;&lt;p&gt;&lt;strong&gt;Agenda: 
 &lt;/strong&gt;&lt;/p&gt;\n&lt;p&gt;&lt;strong&gt;In-person and online:&lt;/strong&gt;&lt;br /&gt;Opening rema
 rks by Prof. Brad Lehman\,&lt;br /&gt;NEU\, IEEE PELS President - 5 min&lt;br /&gt;Cha
 pter introduction by Dr. Arshiah&lt;br /&gt;Mirza\, Shell Techworks\, IEEE PELS&lt;
 br /&gt;Boston Chapter Chair - 5 min&lt;br /&gt;Introduction by Plexim - 5 min&lt;br /
 &gt;Technical talk on &amp;lsquo\;Future trends in Power&lt;br /&gt;electronics&amp;rsquo\;
 \, by Prof. Brad Lehman - 30&lt;br /&gt;min&lt;br /&gt;Trivia (online game) - 20 min&lt;/
 p&gt;\n&lt;p&gt;&lt;br /&gt;&lt;strong&gt;In-person only:&lt;/strong&gt;&lt;br /&gt;Meet and Greet - Pizza 
 provided - 1 hr&lt;/p&gt;
END:VEVENT
END:VCALENDAR

