BEGIN:VCALENDAR
VERSION:2.0
PRODID:IEEE vTools.Events//EN
CALSCALE:GREGORIAN
BEGIN:VTIMEZONE
TZID:America/New_York
BEGIN:DAYLIGHT
DTSTART:20240310T030000
TZOFFSETFROM:-0500
TZOFFSETTO:-0400
RRULE:FREQ=YEARLY;BYDAY=2SU;BYMONTH=3
TZNAME:EDT
END:DAYLIGHT
BEGIN:STANDARD
DTSTART:20231105T010000
TZOFFSETFROM:-0400
TZOFFSETTO:-0500
RRULE:FREQ=YEARLY;BYDAY=1SU;BYMONTH=11
TZNAME:EST
END:STANDARD
END:VTIMEZONE
BEGIN:VEVENT
DTSTAMP:20240319T145246Z
UID:93F1D179-3739-47DC-AF93-04883EC9C774
DTSTART;TZID=America/New_York:20240224T110000
DTEND;TZID=America/New_York:20240224T130000
DESCRIPTION:The Region 3 YP Chair\, Binesh Kumar\, will be headlining the Q
 1 Town Hall for 2024! The expected attendees are the active and passionate
  IEEE Young Professional YP Chairs of Region 3.\n\nThis is the forum to\n1
 . Ask Questions on how to improve your affinity group\n2. Share your ideas
  with other YP Chairs\n3. Come forward with ways to implement your suggest
 ions with you leading the effort\n4. Provide suggestions on how IEEE can b
 e improved to better meet your evolving needs\n5. Connect with other like-
 minded YPs\n6. Understand how to start volunteering - and the available op
 portunities\n\nAll the Region 3 IEEE YPs are invited to attend this event 
 and share their ideas\, questions\, as well as suggestions on improving th
 e value of IEEE to their careers. Join us for this open discussion and con
 tribute to gaining from IEEE-related opportunities in Region 3.\n\nAgenda:
  \nIntroduction 11am - 11-15am\n\n- Executive committee introduction\n\n- 
 Our Mission\n\nTown Hall 11.15am\n\nOur Missions\n\nStrategic plan for Reg
 ion 3 YP&#39;s\n\n2024 SouthEastCon and beyond\n\nVolunteering opportunities\n
 \nVirtual: https://events.vtools.ieee.org/m/405082
LOCATION:Virtual: https://events.vtools.ieee.org/m/405082
ORGANIZER:haruna.d.gana@ieee.org
SEQUENCE:26
SUMMARY:IEEE Young Professionals South-East US : Town Hall and Open Discuss
 ion Forum - A Google Meet event
URL;VALUE=URI:https://events.vtools.ieee.org/m/405082
X-ALT-DESC:Description: &lt;br /&gt;&lt;p&gt;The Region 3 YP Chair\, Binesh Kumar\, wil
 l be headlining the Q1 Town Hall for 2024! The expected attendees are the 
 active and passionate IEEE Young Professional YP Chairs of Region 3.&lt;/p&gt;\n
 &lt;p&gt;&lt;br /&gt;This is the forum to&lt;br /&gt;1. Ask Questions on how to improve your
  affinity group&lt;br /&gt;2. Share your ideas with other YP Chairs&lt;br /&gt;3. Come
  forward with ways to implement your suggestions with you leading the effo
 rt&lt;br /&gt;4. Provide suggestions on how IEEE can be improved to better meet 
 your evolving needs&lt;br /&gt;5. Connect with other like-minded YPs&lt;br /&gt;6. Und
 erstand how to start volunteering - and the available opportunities&lt;/p&gt;\n&lt;
 p&gt;&lt;br /&gt;All the Region 3 IEEE YPs are invited to attend this event and sha
 re their ideas\, questions\, as well as suggestions on improving the value
  of IEEE to their careers. Join us for this open discussion and contribute
  to gaining from IEEE-related opportunities in Region 3.&amp;nbsp\;&lt;/p&gt;&lt;br /&gt;&lt;
 br /&gt;Agenda: &lt;br /&gt;&lt;p&gt;&lt;span style=&quot;text-decoration: underline\;&quot;&gt;&lt;strong&gt;I
 ntroduction 11am - 11-15am&lt;/strong&gt;&lt;/span&gt;&lt;/p&gt;\n&lt;ol&gt;\n&lt;li&gt;Executive commit
 tee introduction&lt;/li&gt;\n&lt;/ol&gt;\n&lt;ol start=&quot;2&quot;&gt;\n&lt;li&gt;Our Mission&lt;/li&gt;\n&lt;/ol&gt;\
 n&lt;p&gt;&lt;span style=&quot;text-decoration: underline\;&quot;&gt;&lt;strong&gt;Town Hall 11.15am&lt;/
 strong&gt;&lt;/span&gt;&lt;/p&gt;\n&lt;p&gt;Our Missions&lt;/p&gt;\n&lt;p&gt;Strategic plan for Region 3 YP
 &#39;s&lt;/p&gt;\n&lt;p&gt;2024 SouthEastCon and beyond&lt;/p&gt;\n&lt;p&gt;Volunteering opportunities
 &lt;/p&gt;
END:VEVENT
END:VCALENDAR

