BEGIN:VCALENDAR
VERSION:2.0
PRODID:IEEE vTools.Events//EN
CALSCALE:GREGORIAN
BEGIN:VTIMEZONE
TZID:America/New_York
BEGIN:DAYLIGHT
DTSTART:20240310T030000
TZOFFSETFROM:-0500
TZOFFSETTO:-0400
RRULE:FREQ=YEARLY;BYDAY=2SU;BYMONTH=3
TZNAME:EDT
END:DAYLIGHT
BEGIN:STANDARD
DTSTART:20241103T010000
TZOFFSETFROM:-0400
TZOFFSETTO:-0500
RRULE:FREQ=YEARLY;BYDAY=1SU;BYMONTH=11
TZNAME:EST
END:STANDARD
END:VTIMEZONE
BEGIN:VEVENT
DTSTAMP:20250307T001218Z
UID:EC0816B4-A2DB-459B-A51D-5B5D0FF514F2
DTSTART;TZID=America/New_York:20240413T160000
DTEND;TZID=America/New_York:20240413T210000
DESCRIPTION:Banquet Sponsorships and Congratulatory Ads Sponsorships underw
 rite IEEE Student Scholarships\, and this evening’s Awards &amp; Banquet Pro
 gram Book. Sponsorships will be featured in the Awards Banquet Program Boo
 k. Your Company has the opportunity to promote your products &amp; services wh
 ile supporting this great organization &amp; the achievements of this year’s
  award winners! Submit your ad or corporate listing information today!\n\n
 Agenda: \nGold Sponsor: $680 - Best Value!\n\n- Full Page Color Ad (5” W
  x 8” L) in Awards Program Book\n- Half Page Digital Editorial or ad in 
 IEEE Phila. Section’s weekly meeting &amp; announcements (4\,000+ readers)\n
 - Two (2) Dinner Tickets ($180 value)\n- Prominent Signage at Event\, Corp
 orate Logo &amp; name recognition on all pre- &amp; post-event membership announce
 ments &amp; listing on IEEE Phila. Section Website\n- 6-ft Exhibit Table promi
 nently displayed during IEEE’s pre- and post-dinner reception.\n- Visibi
 lity in all sponsorship mentions (from time of sign-up)\n- GOLD Sponsorshi
 p enhances Silver Sponsorship with 2 two event tickets AND full page ad (v
 s. ½ page ad)!\n\nSilver Sponsor: $500\n\n- Half-Page Color Ad (5” W x 
 4” L) in Awards Program Book\n- Half Page Digital Editorial or ad in IEE
 E Phila. Section’s weekly meeting &amp; announcements (4\,000+ readers\n- Pr
 ominent Signage at Event\, Corporate Logo &amp; name recognition on all pre- &amp;
  post-event membership announcements &amp; a listing on the IEEE Philadelphia 
 Section Website\n- 6-ft Exhibit Table prominently displayed during pre- &amp; 
 post-dinner reception.\n- Visibility in all sponsorship mentions (from tim
 e of sign-up).\n\nExhibitor: $390\nPromote your company’s achievements\,
  equipment &amp; services on-site.\n\n- 6-ft Exhibit Table prominently display
 ed during pre- &amp; post-dinner reception\n- One (1) Dinner Ticket ($90 value
 )\n- Your company’s exhibit table will be open to attendees during a pre
 - &amp; post-dinner reception.\n\n- Visibility in all sponsorship mentions (fr
 om time of sign-up).\n\nCongratulatory Ads:\n\n$200 - Congratulations Page
  in the Awards Program Book Only -- Full page (5” x 8”)\n$100 - Congra
 tulations Page in the Awards Program Book Only -- Half-page (5” x 4”)\
 n\nBldg: The Alloy King of Prussia - a DoubleTree by Hilton\, 301 W Dekalb
  Pike\, King of Prussia\, Pennsylvania\, United States\, 19406
LOCATION:Bldg: The Alloy King of Prussia - a DoubleTree by Hilton\, 301 W D
 ekalb Pike\, King of Prussia\, Pennsylvania\, United States\, 19406
ORGANIZER:ieee@gpamg.org
SEQUENCE:32
SUMMARY:2024 Awards Banquet - Sponsorship &amp; Advertisers
URL;VALUE=URI:https://events.vtools.ieee.org/m/405253
X-ALT-DESC:Description: &lt;br /&gt;&lt;p&gt;Banquet Sponsorships and Congratulatory Ad
 s Sponsorships underwrite IEEE Student Scholarships\, and this evening&amp;rsq
 uo\;s Awards &amp;amp\; Banquet Program Book. Sponsorships will be featured in
  the Awards Banquet Program Book. Your Company has the opportunity to prom
 ote your products &amp;amp\; services while supporting this great organization
  &amp;amp\; the achievements of this year&amp;rsquo\;s award winners! Submit your 
 ad or corporate listing information today!&lt;/p&gt;&lt;br /&gt;&lt;br /&gt;Agenda: &lt;br /&gt;&lt;p
 &gt;&lt;strong&gt;&lt;u&gt;Gold Sponsor: $680 - &lt;span style=&quot;color: #e03e2d\;&quot;&gt;&lt;em&gt;Best V
 alue!&lt;/em&gt;&lt;/span&gt;&lt;/u&gt;&lt;/strong&gt;&lt;/p&gt;\n&lt;ul&gt;\n&lt;li&gt;Full Page Color Ad (5&amp;rdquo\
 ; W x 8&amp;rdquo\; L) in Awards Program Book&lt;/li&gt;\n&lt;li&gt;Half Page Digital Edit
 orial or ad in IEEE Phila. Section&amp;rsquo\;s weekly meeting &amp;amp\; announce
 ments&lt;em&gt; (4\,000+ readers)&lt;/em&gt;&lt;/li&gt;\n&lt;li&gt;Two (2) Dinner Tickets ($180 va
 lue)&lt;/li&gt;\n&lt;li&gt;Prominent Signage at Event\, Corporate Logo &amp;amp\; name rec
 ognition on all pre- &amp;amp\; post-event membership announcements &amp;amp\; lis
 ting on IEEE Phila. Section Website&lt;/li&gt;\n&lt;li&gt;6-ft Exhibit Table prominent
 ly displayed during IEEE&amp;rsquo\;s pre- and post-dinner reception.&lt;/li&gt;\n&lt;l
 i&gt;Visibility in all sponsorship mentions&lt;strong&gt; &lt;/strong&gt;(from time of si
 gn-up)&lt;/li&gt;\n&lt;li&gt;&lt;strong&gt;&lt;em&gt;GOLD Sponsorship&lt;/em&gt;&lt;/strong&gt;&lt;em&gt; &lt;/em&gt;&lt;em&gt;e
 nhances Silver Sponsorship with 2 two event tickets AND full page ad (vs. 
 &amp;frac12\; page ad)!&lt;/em&gt;&lt;/li&gt;\n&lt;/ul&gt;\n&lt;p&gt;&lt;strong&gt;&lt;u&gt;Silver Sponsor: $500&lt;/
 u&gt;&lt;/strong&gt;&lt;/p&gt;\n&lt;ul&gt;\n&lt;li&gt;Half-Page Color Ad (5&amp;rdquo\; W x 4&amp;rdquo\; L) 
 in Awards Program Book&lt;/li&gt;\n&lt;li&gt;Half Page Digital Editorial or ad in IEEE
  Phila. Section&amp;rsquo\;s weekly meeting &amp;amp\; announcements (4\,000+ read
 ers&lt;/li&gt;\n&lt;li&gt;Prominent Signage at Event\, Corporate Logo &amp;amp\; name reco
 gnition on all pre- &amp;amp\; post-event membership announcements &amp;amp\; a li
 sting on the &lt;strong&gt;IEEE &lt;/strong&gt;Philadelphia Section Website&lt;/li&gt;\n&lt;li&gt;
 6-ft Exhibit Table prominently displayed during pre- &amp;amp\; post-dinner re
 ception.&lt;/li&gt;\n&lt;li&gt;Visibility in all sponsorship mentions (from time of si
 gn-up).&lt;/li&gt;\n&lt;/ul&gt;\n&lt;p&gt;&lt;strong&gt;&lt;u&gt;Exhibitor: $390&lt;br&gt;&lt;/u&gt;&lt;/strong&gt;Promote
  your company&amp;rsquo\;s achievements\, equipment &amp;amp\; services on-site.&lt;/
 p&gt;\n&lt;ul&gt;\n&lt;li&gt;6-ft Exhibit Table prominently displayed during pre- &amp;amp\; 
 post-dinner reception&lt;/li&gt;\n&lt;li&gt;One (1) Dinner Ticket ($90 value)\n&lt;ul&gt;\n&lt;
 li&gt;Your company&amp;rsquo\;s exhibit table will be open to attendees during a 
 pre- &amp;amp\; post-dinner reception.&lt;/li&gt;\n&lt;/ul&gt;\n&lt;/li&gt;\n&lt;li&gt;Visibility in a
 ll sponsorship mentions (from time of sign-up).&lt;/li&gt;\n&lt;/ul&gt;\n&lt;p&gt;&lt;strong&gt;&lt;s
 pan style=&quot;text-decoration: underline\;&quot;&gt;Congratulatory Ads&lt;/span&gt;&lt;/strong
 &gt;:&lt;/p&gt;\n&lt;p&gt;$200 - Congratulations Page in the Awards Program Book Only -- 
 Full page (5&amp;rdquo\; x 8&amp;rdquo\;)&lt;br&gt;$100 - Congratulations Page in the Aw
 ards Program Book Only -- Half-page (5&amp;rdquo\; x 4&amp;rdquo\;)&lt;/p&gt;
END:VEVENT
END:VCALENDAR

