BEGIN:VCALENDAR
VERSION:2.0
PRODID:IEEE vTools.Events//EN
CALSCALE:GREGORIAN
BEGIN:VTIMEZONE
TZID:America/New_York
BEGIN:DAYLIGHT
DTSTART:20240310T030000
TZOFFSETFROM:-0500
TZOFFSETTO:-0400
RRULE:FREQ=YEARLY;BYDAY=2SU;BYMONTH=3
TZNAME:EDT
END:DAYLIGHT
BEGIN:STANDARD
DTSTART:20231105T010000
TZOFFSETFROM:-0400
TZOFFSETTO:-0500
RRULE:FREQ=YEARLY;BYDAY=1SU;BYMONTH=11
TZNAME:EST
END:STANDARD
END:VTIMEZONE
BEGIN:VEVENT
DTSTAMP:20240224T213336Z
UID:BAEB8135-CA0F-4110-9C61-DCEBC29E33D0
DTSTART;TZID=America/New_York:20240221T180000
DTEND;TZID=America/New_York:20240221T193000
DESCRIPTION:The Ithaca Executive Committee invites you to join us at Brewer
 &#39;s Kitchen &amp; Taproom. We&#39;ll welcome our newly elected treasurer\, Bryan Di
 etz. The first round is on us\, and we&#39;ll provide some food. Come say hell
 o to fellow professionals in industry\, academia\, and beyond.\n\nNever at
 tended before? That&#39;s OK! We&#39;d like to meet you and hear from members of t
 he IEEE community. Please register below.\n\nAgenda: \nOur holiday gatheri
 ng at Hopshire Farm &amp; Brewery was snowy and delicious! Thank you\, Luke at
  Scratch Farmhouse Catering\, for putting on such a decadent event. If you
  missed the candied bacon\, you&#39;ll just have to attend next time.\n\nWe&#39;re
  also seeking to fill vacant section roles\, including:\n\n- Awards chair\
 n- Webmaster\, social media manager\n- Treasurer\, upcoming\n\n8735 1384 D
 ryden Rd\, Ithaca\, New York\, United States\, 14850
LOCATION:8735 1384 Dryden Rd\, Ithaca\, New York\, United States\, 14850
ORGANIZER:allisonhutchison@ieee.org
SEQUENCE:14
SUMMARY:Ithaca Section February Meeting at Brewer&#39;s Kitchen
URL;VALUE=URI:https://events.vtools.ieee.org/m/405293
X-ALT-DESC:Description: &lt;br /&gt;&lt;p&gt;The Ithaca Executive Committee invites you
  to join us at Brewer&#39;s Kitchen &amp;amp\; Taproom. We&#39;ll welcome our newly el
 ected treasurer\, Bryan Dietz. The first round is on us\, and we&#39;ll provid
 e some food. Come say hello to fellow professionals in industry\, academia
 \, and beyond.&lt;/p&gt;\n&lt;p&gt;Never attended before? That&#39;s OK! We&#39;d like to meet
  you and hear from members of the IEEE community. Please register below.&lt;/
 p&gt;&lt;br /&gt;&lt;br /&gt;Agenda: &lt;br /&gt;&lt;p&gt;Our holiday gathering at Hopshire Farm &amp;amp
 \; Brewery was snowy and delicious! Thank you\, Luke at Scratch Farmhouse 
 Catering\, for putting on such a decadent event. If you missed the candied
  bacon\, you&#39;ll just have to attend next time.&amp;nbsp\;&lt;/p&gt;\n&lt;p&gt;We&#39;re also s
 eeking to fill vacant section roles\, including:&lt;/p&gt;\n&lt;ul&gt;\n&lt;li aria-level
 =&quot;2&quot;&gt;Awards chair&lt;/li&gt;\n&lt;li aria-level=&quot;2&quot;&gt;Webmaster\, social media manage
 r&lt;/li&gt;\n&lt;li aria-level=&quot;2&quot;&gt;Treasurer\, upcoming&lt;/li&gt;\n&lt;/ul&gt;
END:VEVENT
END:VCALENDAR

