BEGIN:VCALENDAR
VERSION:2.0
PRODID:IEEE vTools.Events//EN
CALSCALE:GREGORIAN
BEGIN:VTIMEZONE
TZID:America/Chicago
BEGIN:DAYLIGHT
DTSTART:20240310T030000
TZOFFSETFROM:-0600
TZOFFSETTO:-0500
RRULE:FREQ=YEARLY;BYDAY=2SU;BYMONTH=3
TZNAME:CDT
END:DAYLIGHT
BEGIN:STANDARD
DTSTART:20241103T010000
TZOFFSETFROM:-0500
TZOFFSETTO:-0600
RRULE:FREQ=YEARLY;BYDAY=1SU;BYMONTH=11
TZNAME:CST
END:STANDARD
END:VTIMEZONE
BEGIN:VEVENT
DTSTAMP:20240317T150115Z
UID:CEE79535-F500-462F-8D22-23D6FC4E4ECA
DTSTART;TZID=America/Chicago:20240310T120000
DTEND;TZID=America/Chicago:20240310T133000
DESCRIPTION:The IEEE Twin Cities Section is hosting a virtual Senior Member
  Elevation Event to elevate qualified section members to the Senior Member
  grade. See [requirements](https://enotice.mmsend.com/link.cfm?r=2GxopnmVU
 goSwHpb4_hh0g~~&amp;pe=HZVf52SIyFfVg6GH8s-SEsBP7XLe0C3Ef-0SfAqZQjytnW9BBevhuII
 RETo3DMGqTzDnUhgDhb_jZJE0Eyjllw~~&amp;t=VMpde0OwmrG4gtatMYtY6A~~) to determine
  if you are eligible. At this event\, Senior Members will be available to 
 conduct interviews and to serve as references for candidates. Candidates a
 re requested to send a resume at least one week in advance\, by March 3\, 
 to El Nolley (e.nolley@ieee.org) to enable reference providers time to rev
 iew candidate resumes.\n\nCo-sponsored by: El Nolley and Wayne Hochrein\n\
 nTwin Cities Section\, Minnesota\, United States\, 55402\, Virtual: https:
 //events.vtools.ieee.org/m/405883
LOCATION:Twin Cities Section\, Minnesota\, United States\, 55402\, Virtual:
  https://events.vtools.ieee.org/m/405883
ORGANIZER:e.nolley@ieee.org
SEQUENCE:31
SUMMARY:Senior Member Elevation Event
URL;VALUE=URI:https://events.vtools.ieee.org/m/405883
X-ALT-DESC:Description: &lt;br /&gt;&lt;p&gt;The IEEE Twin Cities Section is hosting a 
 virtual Senior Member Elevation Event to elevate qualified section members
  to the Senior Member grade.&amp;nbsp\;&amp;nbsp\; See &lt;a href=&quot;https://enotice.mm
 send.com/link.cfm?r=2GxopnmVUgoSwHpb4_hh0g~~&amp;amp\;pe=HZVf52SIyFfVg6GH8s-SE
 sBP7XLe0C3Ef-0SfAqZQjytnW9BBevhuIIRETo3DMGqTzDnUhgDhb_jZJE0Eyjllw~~&amp;amp\;t
 =VMpde0OwmrG4gtatMYtY6A~~&quot;&gt;requirements&lt;/a&gt; to determine if you are eligib
 le.&amp;nbsp\;&amp;nbsp\; At this event\, Senior Members will be available to cond
 uct interviews and to serve as references for candidates.&amp;nbsp\; Candidate
 s are requested to send a resume at least one week in advance\, by March 3
 \, to El Nolley (&lt;a href=&quot;mailto:e.nolley@ieee.org&quot;&gt;e.nolley@ieee.org&lt;/a&gt;)
  &amp;nbsp\;to enable reference providers time to review candidate resumes.&lt;/p
 &gt;
END:VEVENT
END:VCALENDAR

