BEGIN:VCALENDAR
VERSION:2.0
PRODID:IEEE vTools.Events//EN
CALSCALE:GREGORIAN
BEGIN:VTIMEZONE
TZID:America/New_York
BEGIN:DAYLIGHT
DTSTART:20240310T030000
TZOFFSETFROM:-0500
TZOFFSETTO:-0400
RRULE:FREQ=YEARLY;BYDAY=2SU;BYMONTH=3
TZNAME:EDT
END:DAYLIGHT
BEGIN:STANDARD
DTSTART:20231105T010000
TZOFFSETFROM:-0400
TZOFFSETTO:-0500
RRULE:FREQ=YEARLY;BYDAY=1SU;BYMONTH=11
TZNAME:EST
END:STANDARD
END:VTIMEZONE
BEGIN:VEVENT
DTSTAMP:20240228T012554Z
UID:023F4A07-B4ED-4FC1-BBFF-2DD219EE9120
DTSTART;TZID=America/New_York:20240224T090000
DTEND;TZID=America/New_York:20240224T160000
DESCRIPTION:This is the rescheduled training that was planned for January. 
 The purpose is to provide information to newly elected Officers and Direct
 ors.\n\nThe goal is to have as much in-person interaction as possible\, wi
 th virtual attendees using Zoom. Zoom users will receive a link when they 
 register.\n\nCo-sponsored by: Washington Section\, Baltimore Section\n\nAg
 enda: \nAgenda for 24 February 2024 Section Officer/Director Training Even
 t\n\n9:00 am Coffee\, Pastries\n\n10:00 am Introductions\n\n10:30 am Docum
 ents for Monthly Section Meetings (Dan)\n\n11:00 am Chapters and Affinity 
 Groups (Murty)\n\n11:30 am Lunch\n\n1:00 pm Structure of IEEE above Sectio
 n Level\; Merger of Regions 1 and 2 (Murty)\n\n2:00 pm Introduction to vTo
 ols\, eNotices\, and Events (Dan)\n\n2:30 pm The Budget\, NEXTGEN and Conc
 ur (Rolo)\n\n3:00 pm Collabratec (Murty)\n\n4:00 pm Adjourn\n\nBldg: First
  Floor Meeting Room\, Knights of Columbus Hall\, 5115 Little Falls Road\, 
 Arlington\, Virginia\, United States\, 22205\, Virtual: https://events.vto
 ols.ieee.org/m/405982
LOCATION:Bldg: First Floor Meeting Room\, Knights of Columbus Hall\, 5115 L
 ittle Falls Road\, Arlington\, Virginia\, United States\, 22205\, Virtual:
  https://events.vtools.ieee.org/m/405982
ORGANIZER:dcrosscole@yahoo.com
SEQUENCE:27
SUMMARY:Section Officer/Director Training
URL;VALUE=URI:https://events.vtools.ieee.org/m/405982
X-ALT-DESC:Description: &lt;br /&gt;&lt;p&gt;This is the rescheduled training that was 
 planned for January.&amp;nbsp\; The purpose is to provide information to newly
  elected Officers and Directors.&lt;/p&gt;\n&lt;p&gt;The goal is to have as much in-pe
 rson interaction as possible\, with virtual attendees using Zoom.&amp;nbsp\; Z
 oom users will receive a link when they register.&lt;/p&gt;&lt;br /&gt;&lt;br /&gt;Agenda: &lt;
 br /&gt;&lt;p&gt;Agenda for 24 February 2024 Section Officer/Director Training Even
 t&lt;/p&gt;\n&lt;p&gt;&amp;nbsp\;&lt;/p&gt;\n&lt;p&gt;9:00 am Coffee\, Pastries&lt;/p&gt;\n&lt;p&gt;&amp;nbsp\;&lt;/p&gt;\n&lt;
 p&gt;10:00 am Introductions&lt;/p&gt;\n&lt;p&gt;&amp;nbsp\;&lt;/p&gt;\n&lt;p&gt;10:30 am Documents for Mo
 nthly Section Meetings (Dan)&lt;/p&gt;\n&lt;p&gt;&amp;nbsp\;&lt;/p&gt;\n&lt;p&gt;11:00 am Chapters and
  Affinity Groups (Murty)&lt;/p&gt;\n&lt;p&gt;&amp;nbsp\;&lt;/p&gt;\n&lt;p&gt;11:30 am Lunch&lt;/p&gt;\n&lt;p&gt;&amp;n
 bsp\;&lt;/p&gt;\n&lt;p&gt;1:00 pm Structure of IEEE above Section Level\; Merger of Re
 gions 1 and 2 (Murty)&lt;/p&gt;\n&lt;p&gt;&amp;nbsp\;&lt;/p&gt;\n&lt;p&gt;2:00 pm Introduction to vToo
 ls\, eNotices\, and Events (Dan)&lt;/p&gt;\n&lt;p&gt;&amp;nbsp\;&lt;/p&gt;\n&lt;p&gt;2:30 pm The Budge
 t\, NEXTGEN and Concur (Rolo)&lt;/p&gt;\n&lt;p&gt;&amp;nbsp\;&lt;/p&gt;\n&lt;p&gt;3:00 pm Collabratec 
 (Murty)&lt;/p&gt;\n&lt;p&gt;&amp;nbsp\;&lt;/p&gt;\n&lt;p&gt;4:00 pm Adjourn&lt;/p&gt;
END:VEVENT
END:VCALENDAR

