BEGIN:VCALENDAR
VERSION:2.0
PRODID:IEEE vTools.Events//EN
CALSCALE:GREGORIAN
BEGIN:VTIMEZONE
TZID:America/Chicago
BEGIN:DAYLIGHT
DTSTART:20240310T030000
TZOFFSETFROM:-0600
TZOFFSETTO:-0500
RRULE:FREQ=YEARLY;BYDAY=2SU;BYMONTH=3
TZNAME:CDT
END:DAYLIGHT
BEGIN:STANDARD
DTSTART:20231105T010000
TZOFFSETFROM:-0500
TZOFFSETTO:-0600
RRULE:FREQ=YEARLY;BYDAY=1SU;BYMONTH=11
TZNAME:CST
END:STANDARD
END:VTIMEZONE
BEGIN:VEVENT
DTSTAMP:20240226T140111Z
UID:A1D1636B-59B0-4AAA-91F1-804A05266605
DTSTART;TZID=America/Chicago:20240223T110000
DTEND;TZID=America/Chicago:20240223T120000
DESCRIPTION:Dr. Avimanyu Sahoo\, Assistant Professor\, ECE Department will 
 be presenting a research seminar of &quot;Revolutionizing Electric Vehicle Safe
 ty: The Next Generation of Battery Management Systems.&quot; For more informati
 on\, see attached flyer\n\nCo-sponsored by: UAH Electrical and Computer En
 gineering Department\n\nSpeaker(s): Dr. Avimanyu Sahoo\n\nRoom: Room 258\,
  Bldg: Engineering Building\, UAH\,  301 Sparkman Drive Huntsville\, Alaba
 ma 35899\, Huntsville\, Alabama\, United States\, 35805
LOCATION:Room: Room 258\, Bldg: Engineering Building\, UAH\,  301 Sparkman 
 Drive Huntsville\, Alabama 35899\, Huntsville\, Alabama\, United States\, 
 35805
ORGANIZER:lilycompher3@bellsouth.net
SEQUENCE:39
SUMMARY:Revolutionizing Electric Vehicle Safety: The Next Generation of Bat
 tery Management Systems
URL;VALUE=URI:https://events.vtools.ieee.org/m/406061
X-ALT-DESC:Description: &lt;br /&gt;&lt;p&gt;Dr. Avimanyu Sahoo\, Assistant Professor\,
  ECE Department will be presenting a research seminar of &quot;Revolutionizing 
 Electric Vehicle Safety: The Next Generation of Battery Management Systems
 .&quot; For more information\, see attached flyer&lt;/p&gt;
END:VEVENT
END:VCALENDAR

