BEGIN:VCALENDAR
VERSION:2.0
PRODID:IEEE vTools.Events//EN
CALSCALE:GREGORIAN
BEGIN:VTIMEZONE
TZID:America/New_York
BEGIN:DAYLIGHT
DTSTART:20240310T030000
TZOFFSETFROM:-0500
TZOFFSETTO:-0400
RRULE:FREQ=YEARLY;BYDAY=2SU;BYMONTH=3
TZNAME:EDT
END:DAYLIGHT
BEGIN:STANDARD
DTSTART:20231105T010000
TZOFFSETFROM:-0400
TZOFFSETTO:-0500
RRULE:FREQ=YEARLY;BYDAY=1SU;BYMONTH=11
TZNAME:EST
END:STANDARD
END:VTIMEZONE
BEGIN:VEVENT
DTSTAMP:20240310T203316Z
UID:C0A2011F-FF81-4805-9D52-D98C8E106BEA
DTSTART;TZID=America/New_York:20240306T120000
DTEND;TZID=America/New_York:20240306T130000
DESCRIPTION:The NTN (non-terrestrial networks) expression has been used to 
 refer to the satellite communications paradigm almost exclusively until re
 cently. It is now increasingly acknowledged that within NTN\, there are se
 parate satellite\, HAPS (high altitude platform station)\, and UAS (unscre
 wed aerial systems) paradigms with their own special dynamics. NTN is not 
 only for connectivity\; the framework includes connectivity\, computing\, 
 edge intelligence\, surveillance\, security\, sensing\, monitoring\, posit
 ioning\, localization\, navigation\, and more. The humanity will demonstra
 te its full potential in every dimension (economic prosperity\, wellbeing\
 , equal opportunity\, environmental\, and more)\, when the communities get
  ultra-connected with a sustainable\, reliable\, resilient\, intelligent\,
  green/clean/eco-friendly\, secure\, ubiquitous &amp; affordable\, and ultra h
 igh-speed &quot;network of networks&quot; with terrestrial (6G and beyond) and non-t
 errestrial (space and stratospheric) components. NTN will arguably be one 
 of the most prominent aspects of 6G. This discussion will continue through
 out the 2030s as well in the beyond-6G era. Join us in fruitful talk by Pr
 of. Halim Yanikomeroglu to learn more about this interesting topic.\n\nSpe
 aker(s): Dr. Halim Yanikomeroglu\, \n\nRoom: RBCx Finance Quarter Room\, B
 ldg: Hub 350\, 350 Legget Drive\, Ottawa\, Ontario\, Canada\, ON K2K 0G7
LOCATION:Room: RBCx Finance Quarter Room\, Bldg: Hub 350\, 350 Legget Drive
 \, Ottawa\, Ontario\, Canada\, ON K2K 0G7
ORGANIZER:n.javanbakht.1992@ieee.org
SEQUENCE:10
SUMMARY:High Altitude Platform Stations in Stratosphere: Towards an Integra
 ted Network of Networks
URL;VALUE=URI:https://events.vtools.ieee.org/m/406074
X-ALT-DESC:Description: &lt;br /&gt;&lt;p&gt;The NTN (non-terrestrial networks) express
 ion has been used to refer to the satellite communications paradigm almost
  exclusively until recently. It is now increasingly acknowledged that with
 in NTN\, there are separate satellite\, HAPS (high altitude platform stati
 on)\, and UAS (unscrewed aerial systems) paradigms with their own special 
 dynamics. NTN is not only for connectivity\; the framework includes connec
 tivity\, computing\, edge intelligence\, surveillance\, security\, sensing
 \, monitoring\, positioning\, localization\, navigation\, and more. The hu
 manity will demonstrate its full potential in every dimension (economic pr
 osperity\, wellbeing\, equal opportunity\, environmental\, and more)\, whe
 n the communities get ultra-connected with a sustainable\, reliable\, resi
 lient\, intelligent\, green/clean/eco-friendly\, secure\, ubiquitous &amp;amp\
 ; affordable\, and ultra high-speed &quot;network of networks&quot; with terrestrial
  (6G and beyond) and non-terrestrial (space and stratospheric) components.
  NTN will arguably be one of the most prominent aspects of 6G. This discus
 sion will continue throughout the 2030s as well in the beyond-6G era. Join
  us in fruitful talk by Prof. Halim Yanikomeroglu to learn more about this
  interesting topic.&lt;/p&gt;
END:VEVENT
END:VCALENDAR

