BEGIN:VCALENDAR
VERSION:2.0
PRODID:IEEE vTools.Events//EN
CALSCALE:GREGORIAN
BEGIN:VTIMEZONE
TZID:America/New_York
BEGIN:DAYLIGHT
DTSTART:20240310T030000
TZOFFSETFROM:-0500
TZOFFSETTO:-0400
RRULE:FREQ=YEARLY;BYDAY=2SU;BYMONTH=3
TZNAME:EDT
END:DAYLIGHT
BEGIN:STANDARD
DTSTART:20231105T010000
TZOFFSETFROM:-0400
TZOFFSETTO:-0500
RRULE:FREQ=YEARLY;BYDAY=1SU;BYMONTH=11
TZNAME:EST
END:STANDARD
END:VTIMEZONE
BEGIN:VEVENT
DTSTAMP:20240302T175740Z
UID:E6AEC5B8-38AE-4C08-BCDD-14551099782B
DTSTART;TZID=America/New_York:20240302T090100
DTEND;TZID=America/New_York:20240302T110100
DESCRIPTION:In 2024 we offered ‘Officer Training’ to our ‘newly’ el
 ected officers\, veteran officers and volunteers\; as well as any IEEE mem
 ber\, at any grade level or position. Our wish is to help all gain a fulle
 r awareness of the communication and management skills used within the IEE
 E\, how they function and how to employ them both as IEEE officers\, and i
 n your everyday work and life. These are referred to as ‘soft skills’ 
 in that they are not based on the physical principles we all learned as we
  worked toward our engineering degrees. They are psychological\, organizat
 ional\, interpersonal and their training requires that they be ‘learned
 ’ in two associated ways.\n\nIn this session\, we will focus on advanced
  vtools and other features which we could not cover in the prior sessions.
  We will entertain all varieties of questions and ideas.\n\nNote: Space fo
 r these classes is not like outer space\, it is limited\, so you must regi
 ster to receive the necessary codes and passwords to attend.\n\nSpeaker(s)
 : Sharan Kalwani\n\nAgenda: \n08:45 AM - Set up\, introductions\, (ON YOUR
  OWN) coffee/tea\, mini muffins\, croissants\n09:00 AM - Start of Session\
 n10:45 AM - End of formal session\, start of Q&amp;A\, discussions\, topics no
 t covered by any other IEEE Geo-units\n11:00 AM - Wrap Up\n\nNote: ALL TIM
 ES are EST/EDT (UTC-5)\n\nVirtual: https://events.vtools.ieee.org/m/406161
LOCATION:Virtual: https://events.vtools.ieee.org/m/406161
ORGANIZER:sharan.kalwani@ieee.org
SEQUENCE:33
SUMMARY:Advanced Vtools &amp; other Features Training
URL;VALUE=URI:https://events.vtools.ieee.org/m/406161
X-ALT-DESC:Description: &lt;br /&gt;&lt;p&gt;&lt;span style=&quot;font-family: arial\, helvetic
 a\, sans-serif\; font-size: 14pt\;&quot;&gt;In 2024 we offered &amp;lsquo\;Officer Tra
 ining&amp;rsquo\; to our &amp;lsquo\;newly&amp;rsquo\; elected officers\, veteran offi
 cers and volunteers\; as well as &lt;u&gt;any IEEE member&lt;/u&gt;\, at any grade lev
 el or position.&amp;nbsp\; Our wish is to help all gain a fuller awareness of 
 the communication and management skills used within the IEEE\, how they fu
 nction and how to employ them both as IEEE officers\, &lt;u&gt;and in your every
 day work and life&lt;/u&gt;.&amp;nbsp\; These are referred to as &amp;lsquo\;soft skills
 &amp;rsquo\; in that they are not based on the physical principles we all lear
 ned as we worked toward our engineering degrees. They are psychological\, 
 organizational\, interpersonal and their training requires that they be &amp;l
 squo\;learned&amp;rsquo\; in two associated ways. &amp;nbsp\;&lt;/span&gt;&lt;/p&gt;\n&lt;p&gt;&lt;span
  style=&quot;font-family: arial\, helvetica\, sans-serif\; font-size: 14pt\;&quot;&gt;I
 n this session\, we will focus on advanced vtools and other features which
  we could not cover in the prior sessions. We will &lt;strong&gt;entertain all v
 arieties&lt;/strong&gt;&amp;nbsp\;of questions and ideas. &amp;nbsp\; &lt;br&gt;&lt;/span&gt;&lt;/p&gt;\n&lt;
 p&gt;&lt;span style=&quot;font-family: arial\, helvetica\, sans-serif\; font-size: 14
 pt\;&quot;&gt;&lt;strong&gt;Note:&lt;/strong&gt; Space for these classes is not like outer spa
 ce\, it is limited\, so you must &lt;span style=&quot;text-decoration: underline\;
  color: #e03e2d\;&quot;&gt;&lt;strong&gt;register&lt;/strong&gt;&lt;/span&gt; to receive the necessa
 ry codes and passwords to attend.&amp;nbsp\;&lt;/span&gt;&lt;/p&gt;\n&lt;p&gt;&amp;nbsp\;&lt;/p&gt;&lt;br /&gt;&lt;
 br /&gt;Agenda: &lt;br /&gt;&lt;p&gt;08:45 AM - Set up\, introductions\, (ON YOUR OWN) co
 ffee/tea\, mini muffins\, croissants&lt;br&gt;09:00 AM - Start of Session&lt;br&gt;10:
 45 AM - End of formal session\, start of Q&amp;amp\;A\, discussions\, topics n
 ot covered by any other IEEE Geo-units&lt;br&gt;11:00 AM - Wrap Up&lt;/p&gt;\n&lt;p&gt;&lt;span
  style=&quot;color: #e03e2d\;&quot;&gt;&lt;strong&gt;Note: ALL TIMES are EST/EDT (UTC-5)&lt;/str
 ong&gt;&lt;/span&gt;&lt;/p&gt;
END:VEVENT
END:VCALENDAR

