BEGIN:VCALENDAR
VERSION:2.0
PRODID:IEEE vTools.Events//EN
CALSCALE:GREGORIAN
BEGIN:VTIMEZONE
TZID:America/Los_Angeles
BEGIN:DAYLIGHT
DTSTART:20240310T030000
TZOFFSETFROM:-0800
TZOFFSETTO:-0700
RRULE:FREQ=YEARLY;BYDAY=2SU;BYMONTH=3
TZNAME:PDT
END:DAYLIGHT
BEGIN:STANDARD
DTSTART:20231105T010000
TZOFFSETFROM:-0700
TZOFFSETTO:-0800
RRULE:FREQ=YEARLY;BYDAY=1SU;BYMONTH=11
TZNAME:PST
END:STANDARD
END:VTIMEZONE
BEGIN:VEVENT
DTSTAMP:20240304T033324Z
UID:AC94FA1A-A03E-4B5A-B759-9D2F76F339D6
DTSTART;TZID=America/Los_Angeles:20240228T170000
DTEND;TZID=America/Los_Angeles:20240228T180000
DESCRIPTION:Join the rest of the Computer Society Seattle Chapter to discus
 s our plan for 2024. The executive committee will introduce the 2024 chapt
 er officers\, present the plan for the technical and non-technical events\
 , highlight upcoming conferences\, and ways to get involved in the society
 . There will also be a section for new business\, where members may presen
 t ideas or motions.\n\nSpeaker(s): Walter J. Scheirer\n\nAgenda: \n1. Chap
 ter Chair Report\n\n2. Technical Community on Pattern Analysis and Compute
 r Intelligence\, Walter Scheirer\n\n3. IEEE / CVF Computer Vision and Patt
 ern Recognition Conference\, Walter Scheirer\n\n4. Event Survey Results\n\
 n5. Chapter Choropleth Map\n\n5. Get Involved in the Computer Society\n\n6
 . New Business\n\nVirtual: https://events.vtools.ieee.org/m/406247
LOCATION:Virtual: https://events.vtools.ieee.org/m/406247
ORGANIZER:walkerbrianpatrick@ieee.org
SEQUENCE:84
SUMMARY:IEEE Computer Society Seattle Chapter General Membership Meeting
URL;VALUE=URI:https://events.vtools.ieee.org/m/406247
X-ALT-DESC:Description: &lt;br /&gt;&lt;p&gt;Join the rest of the Computer Society Seat
 tle Chapter to discuss our plan for 2024. The executive committee will int
 roduce the 2024 chapter officers\, present the plan for the technical and 
 non-technical events\, highlight upcoming conferences\, and ways to get in
 volved in the society. There will also be a section for new business\, whe
 re members may present ideas or motions.&lt;/p&gt;&lt;br /&gt;&lt;br /&gt;Agenda: &lt;br /&gt;&lt;p&gt;1
 . Chapter Chair Report&lt;/p&gt;\n&lt;p&gt;2. Technical Community on Pattern Analysis 
 and Computer Intelligence\, Walter Scheirer&amp;nbsp\;&lt;/p&gt;\n&lt;p&gt;3. IEEE / CVF C
 omputer Vision and Pattern Recognition Conference\, Walter Scheirer&lt;/p&gt;\n&lt;
 p&gt;4. Event Survey Results&lt;/p&gt;\n&lt;p&gt;5. Chapter Choropleth Map&lt;/p&gt;\n&lt;p&gt;5. Get
  Involved in the Computer Society&amp;nbsp\;&lt;/p&gt;\n&lt;p&gt;6. New Business&lt;/p&gt;
END:VEVENT
END:VCALENDAR

