BEGIN:VCALENDAR
VERSION:2.0
PRODID:IEEE vTools.Events//EN
CALSCALE:GREGORIAN
BEGIN:VTIMEZONE
TZID:Asia/Kolkata
BEGIN:STANDARD
DTSTART:19451014T230000
TZOFFSETFROM:+0630
TZOFFSETTO:+0530
TZNAME:IST
END:STANDARD
END:VTIMEZONE
BEGIN:VEVENT
DTSTAMP:20240216T084712Z
UID:12BD49E2-A22D-4B89-AD60-C56F2B14F60A
DTSTART;TZID=Asia/Kolkata:20240213T120000
DTEND;TZID=Asia/Kolkata:20240213T140000
DESCRIPTION:Hey future AWS Wizards and IT Leaders!\n\nReady to navigate the
  skies of your IT career?\n\nEmbark on an exhilarating adventure at &quot;Navig
 ate IT Odyssey: Career Mapping” to explore the dynamic world of IT Cloud
  Services with Silver Oak University IEEE Student Branch and AWS Cloud Clu
 bs\, Silver Oak University!\n\nKey Features:\nMap Your Career: Discover st
 rategies to navigate your IT career.\nExpert Perspectives: Engage with ind
 ustry expert for special anecdotes.\nReal-World Wisdom: Learn from the gen
 uine AWS experiences of professionals.\n\nJoin this distinctive event blen
 ding AWS expertise with a touch of cloud fun\, propelling your career to n
 ew heights! See you there\n\nCo-sponsored by: AWS Cloud Clubs at Silver Oa
 k University \n\nSpeaker(s): Mr. Hiren Deliwala \n\nAhmedabad\, Gujarat\, 
 India
LOCATION:Ahmedabad\, Gujarat\, India
ORGANIZER:ieee.fbc@socet.edu.in
SEQUENCE:21
SUMMARY:Navigate IT Odyssey: Career Mapping
URL;VALUE=URI:https://events.vtools.ieee.org/m/406291
X-ALT-DESC:Description: &lt;br /&gt;&lt;p&gt;Hey future AWS Wizards and IT Leaders!&lt;/p&gt;
 \n&lt;p&gt;Ready to navigate the skies of your IT career?&amp;nbsp\;&lt;/p&gt;\n&lt;p&gt;Embark 
 on an exhilarating adventure at &quot;Navigate IT Odyssey: Career Mapping&amp;rdquo
 \; to explore the dynamic world of IT Cloud Services with Silver Oak Unive
 rsity IEEE Student Branch and AWS Cloud Clubs\, Silver Oak University!&lt;/p&gt;
 \n&lt;p&gt;Key Features:&lt;br /&gt;&amp;nbsp\;Map Your Career: Discover strategies to nav
 igate your IT career.&lt;br /&gt;&amp;nbsp\;Expert Perspectives: Engage with industr
 y expert for special anecdotes.&lt;br /&gt;&amp;nbsp\;Real-World Wisdom: Learn from 
 the genuine AWS experiences of professionals.&lt;/p&gt;\n&lt;p&gt;Join this distinctiv
 e event blending AWS expertise with a touch of cloud fun\, propelling your
  career to new heights!&amp;nbsp\; See you there&lt;/p&gt;
END:VEVENT
END:VCALENDAR

