BEGIN:VCALENDAR
VERSION:2.0
PRODID:IEEE vTools.Events//EN
CALSCALE:GREGORIAN
BEGIN:VTIMEZONE
TZID:America/Mexico_City
BEGIN:STANDARD
DTSTART:20221030T010000
TZOFFSETFROM:-0500
TZOFFSETTO:-0600
TZNAME:CST
END:STANDARD
END:VTIMEZONE
BEGIN:VEVENT
DTSTAMP:20240529T154239Z
UID:1D875965-DE28-4914-9159-65598ECFC9DB
DTSTART;TZID=America/Mexico_City:20240229T103000
DTEND;TZID=America/Mexico_City:20240229T120000
DESCRIPTION:El seminario está enfocado a brindar conocimientos y experienc
 ias para el aprovechamiento de la infraestructura de cuartos limpios ubica
 da en el Centro de Nanociencias y Micro y Nanotecnologías del Instituto P
 olitécnico Nacional en el desarrollo de dispositivos semiconductores y ci
 rcuitos integrados a nivel nacional.\n\nCo-sponsored by: Section of Solid-
 State Electronics (SEES)\, CINVESTAV-IPN and Center for Nanociences and Mi
 cro and Nanotechnologies of the National Polytechnic Institute.\n\nSpeaker
 (s):  Dra Haydeé González\, M. en C. Francisco Hernández\n\nAgenda: \n
 Horarios Jueves 29 de febrero-CNMN-IPN\n\n10:30 a 11:00 Recepción y Bienv
 enida. Dr. Cuauhtémoc León Puertos\, Subdirector de Micro y Nanotecnolog
 ía del CNMN.\n\n11:00 a 12:00 1ª. Introducción al trabajo en cleanrooms
  Dra. Haydeé González Martínez\n\n12:00 a 13:00 2ª. Depósito de Pelí
 culas Delgadas por la técnica de PVD (Sputtering)&quot; M. en C. Francisco Jav
 ier Hernández Cuevas\n\nRoom: Sala de reuniones\, Bldg: Centro de Nanocie
 ncias y Micro y Nanotecnologías\, Av. Luis Enrique Erro S/N\, Unidad Prof
 esional Adolfo López Mateos\, Zacatenco\, Ciudad de México\, Mexico\, Me
 xico\, 07738
LOCATION:Room: Sala de reuniones\, Bldg: Centro de Nanociencias y Micro y N
 anotecnologías\, Av. Luis Enrique Erro S/N\, Unidad Profesional Adolfo L
 ópez Mateos\, Zacatenco\, Ciudad de México\, Mexico\, Mexico\, 07738
ORGANIZER:sgarduno@cinvestav.mx
SEQUENCE:8
SUMMARY:Seminario de Dispositivos Semiconductores y Circuitos Integrados
URL;VALUE=URI:https://events.vtools.ieee.org/m/407339
X-ALT-DESC:Description: &lt;br /&gt;&lt;p&gt;El seminario est&amp;aacute\; enfocado a brind
 ar conocimientos y experiencias para el aprovechamiento de la infraestruct
 ura de cuartos limpios ubicada en el Centro de Nanociencias y Micro y Nano
 tecnolog&amp;iacute\;as del Instituto Polit&amp;eacute\;cnico Nacional en el desar
 rollo de dispositivos semiconductores y circuitos integrados a nivel nacio
 nal.&amp;nbsp\;&lt;/p&gt;&lt;br /&gt;&lt;br /&gt;Agenda: &lt;br /&gt;&lt;p&gt;&lt;strong&gt;Horarios&amp;nbsp\; &amp;nbsp\
 ; &amp;nbsp\; &amp;nbsp\; &amp;nbsp\; &amp;nbsp\; &amp;nbsp\; &amp;nbsp\;Jueves 29 de febrero-CNMN
 -IPN&amp;nbsp\; &amp;nbsp\; &amp;nbsp\; &amp;nbsp\; &amp;nbsp\; &amp;nbsp\; &amp;nbsp\; &amp;nbsp\; &amp;nbsp\
 ; &amp;nbsp\; &amp;nbsp\; &amp;nbsp\; &amp;nbsp\;&amp;nbsp\;&lt;/strong&gt;&lt;/p&gt;\n&lt;p&gt;10:30 a 11:00&amp;nb
 sp\; &amp;nbsp\; &amp;nbsp\; &amp;nbsp\; &amp;nbsp\;Recepci&amp;oacute\;n y Bienvenida. &amp;nbsp\
 ; &amp;nbsp\; &amp;nbsp\; &amp;nbsp\; &amp;nbsp\; &amp;nbsp\; &amp;nbsp\; &amp;nbsp\; &amp;nbsp\; &amp;nbsp\; 
 &amp;nbsp\; &amp;nbsp\; &amp;nbsp\; &amp;nbsp\; &amp;nbsp\; &amp;nbsp\; &amp;nbsp\; &amp;nbsp\; &amp;nbsp\; &amp;n
 bsp\; &amp;nbsp\; &amp;nbsp\; &amp;nbsp\; &amp;nbsp\; &amp;nbsp\; &amp;nbsp\; &amp;nbsp\; &amp;nbsp\; &amp;nbs
 p\; &amp;nbsp\; &amp;nbsp\; &amp;nbsp\; &amp;nbsp\; &amp;nbsp\; &amp;nbsp\; &amp;nbsp\; &amp;nbsp\; &amp;nbsp\
 ; &amp;nbsp\; &amp;nbsp\; &amp;nbsp\; &amp;nbsp\; &amp;nbsp\; &amp;nbsp\; &amp;nbsp\; &amp;nbsp\; &amp;nbsp\; 
 &amp;nbsp\; &amp;nbsp\; &amp;nbsp\; &amp;nbsp\; &amp;nbsp\; &amp;nbsp\; &amp;nbsp\; &amp;nbsp\; &amp;nbsp\; &amp;n
 bsp\; &amp;nbsp\; &amp;nbsp\; &amp;nbsp\; &amp;nbsp\; &amp;nbsp\; &amp;nbsp\; &amp;nbsp\; &amp;nbsp\; &amp;nbs
 p\; &amp;nbsp\; &amp;nbsp\; &amp;nbsp\; &amp;nbsp\; &amp;nbsp\; &amp;nbsp\; &amp;nbsp\; &amp;nbsp\; &amp;nbsp\
 ; &amp;nbsp\; &amp;nbsp\; &amp;nbsp\; &amp;nbsp\; &amp;nbsp\; &amp;nbsp\; &amp;nbsp\; &amp;nbsp\; &amp;nbsp\; 
 &amp;nbsp\; &amp;nbsp\; &amp;nbsp\; &amp;nbsp\; &amp;nbsp\; &amp;nbsp\; &amp;nbsp\; &amp;nbsp\; &amp;nbsp\; &amp;n
 bsp\; &amp;nbsp\; &amp;nbsp\; &amp;nbsp\; &amp;nbsp\;&amp;nbsp\;Dr. Cuauht&amp;eacute\;moc Le&amp;oacu
 te\;n Puertos\, Subdirector de Micro y Nanotecnolog&amp;iacute\;a del CNMN. &amp;n
 bsp\;&amp;nbsp\;&lt;/p&gt;\n&lt;p&gt;11:00 a 12:00&amp;nbsp\; &amp;nbsp\; &amp;nbsp\; &amp;nbsp\; &amp;nbsp\;1
 &amp;ordf\;. Introducci&amp;oacute\;n al trabajo en cleanrooms&amp;nbsp\; &amp;nbsp\; &amp;nbs
 p\; &amp;nbsp\; &amp;nbsp\; &amp;nbsp\; &amp;nbsp\; &amp;nbsp\; &amp;nbsp\; &amp;nbsp\; &amp;nbsp\; &amp;nbsp\
 ; &amp;nbsp\; &amp;nbsp\; &amp;nbsp\; &amp;nbsp\; &amp;nbsp\; &amp;nbsp\; &amp;nbsp\; &amp;nbsp\; &amp;nbsp\; 
 &amp;nbsp\; &amp;nbsp\; &amp;nbsp\; &amp;nbsp\; &amp;nbsp\; &amp;nbsp\; &amp;nbsp\; &amp;nbsp\; &amp;nbsp\; &amp;n
 bsp\; &amp;nbsp\; &amp;nbsp\; &amp;nbsp\; &amp;nbsp\; &amp;nbsp\; &amp;nbsp\; &amp;nbsp\; &amp;nbsp\; &amp;nbs
 p\; &amp;nbsp\; &amp;nbsp\; &amp;nbsp\; &amp;nbsp\; &amp;nbsp\; &amp;nbsp\; &amp;nbsp\; &amp;nbsp\; &amp;nbsp\
 ; &amp;nbsp\; &amp;nbsp\; &amp;nbsp\; &amp;nbsp\; &amp;nbsp\; &amp;nbsp\; &amp;nbsp\; &amp;nbsp\; &amp;nbsp\; 
 &amp;nbsp\; &amp;nbsp\; &amp;nbsp\; &amp;nbsp\; &amp;nbsp\; &amp;nbsp\; &amp;nbsp\; &amp;nbsp\; &amp;nbsp\; &amp;n
 bsp\; &amp;nbsp\; &amp;nbsp\; &amp;nbsp\; &amp;nbsp\; &amp;nbsp\; &amp;nbsp\; &amp;nbsp\; &amp;nbsp\; &amp;nbs
 p\; &amp;nbsp\; &amp;nbsp\; &amp;nbsp\; &amp;nbsp\; &amp;nbsp\; &amp;nbsp\; &amp;nbsp\; &amp;nbsp\; &amp;nbsp\
 ; Dra. Hayde&amp;eacute\; Gonz&amp;aacute\;lez Mart&amp;iacute\;nez&lt;/p&gt;\n&lt;p&gt;12:00 a 13
 :00&amp;nbsp\; &amp;nbsp\; &amp;nbsp\; &amp;nbsp\; &amp;nbsp\;2&amp;ordf\;. Dep&amp;oacute\;sito de Pe
 l&amp;iacute\;culas Delgadas por la t&amp;eacute\;cnica de PVD (Sputtering)&quot;&amp;nbsp\
 ; &amp;nbsp\; &amp;nbsp\; &amp;nbsp\; &amp;nbsp\; &amp;nbsp\; &amp;nbsp\; &amp;nbsp\; &amp;nbsp\; &amp;nbsp\; 
 &amp;nbsp\; &amp;nbsp\; &amp;nbsp\; &amp;nbsp\; &amp;nbsp\; &amp;nbsp\; &amp;nbsp\; &amp;nbsp\; &amp;nbsp\; &amp;n
 bsp\; &amp;nbsp\; &amp;nbsp\; &amp;nbsp\; &amp;nbsp\; &amp;nbsp\; &amp;nbsp\; &amp;nbsp\; &amp;nbsp\; &amp;nbs
 p\; &amp;nbsp\; &amp;nbsp\; &amp;nbsp\; &amp;nbsp\; &amp;nbsp\; &amp;nbsp\; &amp;nbsp\; &amp;nbsp\; &amp;nbsp\
 ; &amp;nbsp\; &amp;nbsp\; &amp;nbsp\; &amp;nbsp\; &amp;nbsp\; &amp;nbsp\; &amp;nbsp\; &amp;nbsp\; &amp;nbsp\; 
 &amp;nbsp\; &amp;nbsp\; &amp;nbsp\; &amp;nbsp\; &amp;nbsp\; &amp;nbsp\; &amp;nbsp\; &amp;nbsp\; &amp;nbsp\; &amp;n
 bsp\; &amp;nbsp\; &amp;nbsp\; &amp;nbsp\; &amp;nbsp\; &amp;nbsp\; &amp;nbsp\; &amp;nbsp\; &amp;nbsp\; M. e
 n C. Francisco Javier Hern&amp;aacute\;ndez Cuevas&amp;nbsp\; &amp;nbsp\; &amp;nbsp\;&amp;nbsp
 \;&lt;/p&gt;
END:VEVENT
END:VCALENDAR

