BEGIN:VCALENDAR
VERSION:2.0
PRODID:IEEE vTools.Events//EN
CALSCALE:GREGORIAN
BEGIN:VTIMEZONE
TZID:America/Los_Angeles
BEGIN:DAYLIGHT
DTSTART:20240310T030000
TZOFFSETFROM:-0800
TZOFFSETTO:-0700
RRULE:FREQ=YEARLY;BYDAY=2SU;BYMONTH=3
TZNAME:PDT
END:DAYLIGHT
BEGIN:STANDARD
DTSTART:20241103T010000
TZOFFSETFROM:-0700
TZOFFSETTO:-0800
RRULE:FREQ=YEARLY;BYDAY=1SU;BYMONTH=11
TZNAME:PST
END:STANDARD
END:VTIMEZONE
BEGIN:VEVENT
DTSTAMP:20240418T175512Z
UID:3748C21E-0C05-43B2-80B2-8448C262B145
DTSTART;TZID=America/Los_Angeles:20240326T180000
DTEND;TZID=America/Los_Angeles:20240326T190000
DESCRIPTION:IEEE SusTech is hosting talks on Sustainability topics leading 
 up to the 2024 conference in April.\n\n“Groundwater as a Rescue for Sust
 aining Agriculture with Farmer’s Decision”\n\nwith Shakeel Ahmed\, Vis
 iting Professor\, Islamic University of Science and Technology\, J&amp;K\, Ind
 ia\; Former Chief Scientist\, CSIR - National Geophysical Research Institu
 te and former Team-Leader\, Indo-French Centre for Groundwater Research\, 
 Hyderabad\, India\n\nDate/Time:\n\nTuesday\, 26-March-2024\, 9-10 pm US Ea
 stern\, 6-7 pm US Pacific\n\nSpeaker(s): Shakeel Ahmed\, \n\nAgenda: \n6:0
 0 pm Introduction of Speaker\n\n7:00 pm Adjourn\n\nVirtual: https://events
 .vtools.ieee.org/m/407349
LOCATION:Virtual: https://events.vtools.ieee.org/m/407349
ORGANIZER:e.perkins@ieee.org
SEQUENCE:24
SUMMARY:SusTech Talk - Groundwater as a Rescue for Sustaining Agriculture w
 ith Farmer’s Decision
URL;VALUE=URI:https://events.vtools.ieee.org/m/407349
X-ALT-DESC:Description: &lt;br /&gt;&lt;p&gt;IEEE SusTech is hosting talks on Sustainab
 ility topics leading up to the 2024 conference in April.&lt;/p&gt;\n&lt;p&gt;&lt;span sty
 le=&quot;font-size: 14pt\;&quot;&gt;&lt;strong&gt;&amp;ldquo\;Groundwater as a Rescue for Sustain
 ing Agriculture with Farmer&amp;rsquo\;s Decision&amp;rdquo\;&lt;/strong&gt;&lt;/span&gt;&lt;/p&gt;\
 n&lt;p&gt;with Shakeel Ahmed\, Visiting Professor\, Islamic University of Scienc
 e and Technology\, J&amp;amp\;K\, India\; Former Chief Scientist\, CSIR - Nati
 onal Geophysical Research Institute and former Team-Leader\, Indo-French C
 entre for Groundwater Research\, Hyderabad\, India&lt;/p&gt;\n&lt;p&gt;&lt;strong&gt;Date/Ti
 me:&lt;/strong&gt;&lt;/p&gt;\n&lt;p&gt;Tuesday\, 26-March-2024\, 9-10 pm US Eastern\, 6-7 pm
  US Pacific&lt;/p&gt;\n&lt;p&gt;&amp;nbsp\;&lt;/p&gt;&lt;br /&gt;&lt;br /&gt;Agenda: &lt;br /&gt;&lt;p&gt;6:00 pm Introd
 uction of Speaker&lt;/p&gt;\n&lt;p&gt;7:00 pm Adjourn&lt;/p&gt;\n&lt;p&gt;&amp;nbsp\;&lt;/p&gt;
END:VEVENT
END:VCALENDAR

