BEGIN:VCALENDAR
VERSION:2.0
PRODID:IEEE vTools.Events//EN
CALSCALE:GREGORIAN
BEGIN:VTIMEZONE
TZID:Asia/Kolkata
BEGIN:STANDARD
DTSTART:19451014T230000
TZOFFSETFROM:+0630
TZOFFSETTO:+0530
TZNAME:IST
END:STANDARD
END:VTIMEZONE
BEGIN:VEVENT
DTSTAMP:20240222T040737Z
UID:32C33CF0-1F5E-4D02-9C51-3128533D4EA6
DTSTART;TZID=Asia/Kolkata:20240221T133000
DTEND;TZID=Asia/Kolkata:20240221T160000
DESCRIPTION:Dear all\,\nGreetings from Vemana Institute of Technology.\nIEE
 E Vemana Student Branch organises hands on workshop on “Design With Canv
 a”.\nWorkshop details:\nDate:21st February 2024\nTime: 1.30 P.M\nVenue :
  ECE Seminar hall\n\nCo-sponsored by: Vemana Institute Of Technology\n\nBa
 ngalore\, Karnataka\, India
LOCATION:Bangalore\, Karnataka\, India
ORGANIZER:ankinavi24@gmail.com
SEQUENCE:10
SUMMARY:Hands on workshop on Design on Canva
URL;VALUE=URI:https://events.vtools.ieee.org/m/407676
X-ALT-DESC:Description: &lt;br /&gt;&lt;p&gt;Dear all\,&lt;br /&gt;Greetings from Vemana Inst
 itute of Technology.&lt;br /&gt;IEEE Vemana Student Branch organises hands on wo
 rkshop on &amp;ldquo\;Design With Canva&amp;rdquo\;.&lt;br /&gt;Workshop details:&lt;br /&gt;D
 ate:21st February 2024&lt;br /&gt;Time: 1.30 P.M&lt;br /&gt;Venue : ECE Seminar hall&lt;/
 p&gt;
END:VEVENT
END:VCALENDAR

