BEGIN:VCALENDAR
VERSION:2.0
PRODID:IEEE vTools.Events//EN
CALSCALE:GREGORIAN
BEGIN:VTIMEZONE
TZID:America/Mexico_City
BEGIN:STANDARD
DTSTART:20221030T010000
TZOFFSETFROM:-0500
TZOFFSETTO:-0600
TZNAME:CST
END:STANDARD
END:VTIMEZONE
BEGIN:VEVENT
DTSTAMP:20240227T152216Z
UID:2120A3DB-1A80-45B6-B40A-FD93D0D9D86C
DTSTART;TZID=America/Mexico_City:20240220T170000
DTEND;TZID=America/Mexico_City:20240220T180000
DESCRIPTION:La sección Querérato se contacta con organizadores del X Simp
 osio Nacional y Tercera Reunión Latinoamericana de Ingeniería de Superfi
 cies y Tribología\, con lo cual se buscara sinergía entre las dos entida
 des.\n\nAgenda: \n1. Apertura de la Reunión\n\na. Bienvenida a los partic
 ipantes\n\nb. Breve introducción sobre el propósito de la reunión.\n\n2
 . Rol de la IEEE Sección Querétaro\n\na. Descripción del papel de la IE
 EE Sección Querétaro en elapoyo al simposio\n\nb. Detalles sobre el netw
 orking planificado durante elevento\n\nc. Oportunidades para la participac
 ión activa de losmiembros de la sociedad\n\n3. Sesión de Preguntas y Res
 puestas\n\na. Oportunidad para que los miembros de la sociedad haganpregun
 tas y expresen inquietudes\n\nb. Respuestas de la Mesa Directiva y los org
 anizadores delsimposio\n\n4. Cierre y Próximos Pasos\n\nLigas de interés
 :\n\nSimposio\n\n[https://www.iim.unam.mx/redisyt/](https://www.google.com
 /url?q=https://www.iim.unam.mx/redisyt/&amp;sa=D&amp;source=calendar&amp;ust=170874547
 9361082&amp;usg=AOvVaw1D04U3-Zr0eOwsgrISksIG)\n\nInscripción a IEEE\n\n[https
 ://www.ieee.org/membership/join/index.html?utm_source=button_text&amp;utm_medi
 um=lp-membership&amp;utm_campaign=join](https://www.google.com/url?q=https://w
 ww.ieee.org/membership/join/index.html?utm_source%3Dbutton_text%26utm_medi
 um%3Dlp-membership%26utm_campaign%3Djoin&amp;sa=D&amp;source=calendar&amp;ust=17087454
 79361082&amp;usg=AOvVaw3K7UR8lFbrAgMZ-iHjnuZt)\n\nQueretaro\, Queretaro de Art
 eaga\, Mexico
LOCATION:Queretaro\, Queretaro de Arteaga\, Mexico
ORGANIZER:elodieclaire@ieee.org
SEQUENCE:21
SUMMARY:Apoyo de IEEE sección Querétaro al Simposio de superficies y trib
 ología 
URL;VALUE=URI:https://events.vtools.ieee.org/m/407777
X-ALT-DESC:Description: &lt;br /&gt;&lt;p&gt;La secci&amp;oacute\;n Quer&amp;eacute\;rato se co
 ntacta con organizadores del X Simposio Nacional y Tercera Reuni&amp;oacute\;n
  Latinoamericana de Ingenier&amp;iacute\;a de Superficies y Tribolog&amp;iacute\;a
 \, con lo cual se buscara sinerg&amp;iacute\;a entre las dos entidades.&lt;/p&gt;&lt;br
  /&gt;&lt;br /&gt;Agenda: &lt;br /&gt;&lt;p&gt;&lt;strong&gt;1. Apertura de la Reuni&amp;oacute\;n &lt;/stro
 ng&gt;&lt;/p&gt;\n&lt;p&gt;a. Bienvenida a los participantes&lt;/p&gt;\n&lt;p&gt;b. Breve introducci&amp;
 oacute\;n sobre el prop&amp;oacute\;sito de la reuni&amp;oacute\;n.&lt;/p&gt;\n&lt;p&gt;&lt;stron
 g&gt;2. Rol de la IEEE Secci&amp;oacute\;n Quer&amp;eacute\;taro &lt;/strong&gt;&lt;/p&gt;\n&lt;p&gt;a.
  Descripci&amp;oacute\;n del papel de la IEEE Secci&amp;oacute\;n Quer&amp;eacute\;tar
 o en elapoyo al simposio&lt;/p&gt;\n&lt;p&gt;b. Detalles sobre el networking planifica
 do durante elevento&lt;/p&gt;\n&lt;p&gt;c. Oportunidades para la participaci&amp;oacute\;n
  activa de losmiembros de la sociedad&lt;/p&gt;\n&lt;p&gt;&lt;strong&gt;3. Sesi&amp;oacute\;n de
  Preguntas y Respuestas &lt;/strong&gt;&lt;/p&gt;\n&lt;p&gt;a. Oportunidad para que los miem
 bros de la sociedad haganpreguntas y expresen inquietudes&lt;/p&gt;\n&lt;p&gt;b. Respu
 estas de la Mesa Directiva y los organizadores delsimposio&lt;/p&gt;\n&lt;p&gt;&lt;strong
 &gt;4. Cierre y Pr&amp;oacute\;ximos Pasos &lt;/strong&gt;&lt;/p&gt;\n&lt;p&gt;&lt;strong&gt;&amp;nbsp\;&lt;/str
 ong&gt;&lt;/p&gt;\n&lt;p&gt;&lt;strong&gt;Ligas de inter&amp;eacute\;s:&lt;/strong&gt;&lt;/p&gt;\n&lt;p&gt;&lt;strong&gt;&amp;n
 bsp\;&lt;/strong&gt;&lt;/p&gt;\n&lt;p&gt;&lt;strong&gt;Simposio&lt;/strong&gt;&lt;/p&gt;\n&lt;p&gt;&lt;strong&gt;&lt;a href=&quot;
 https://www.google.com/url?q=https://www.iim.unam.mx/redisyt/&amp;amp\;sa=D&amp;am
 p\;source=calendar&amp;amp\;ust=1708745479361082&amp;amp\;usg=AOvVaw1D04U3-Zr0eOws
 grISksIG&quot; target=&quot;_blank&quot; rel=&quot;noopener&quot;&gt;https://www.iim.unam.mx/redisyt/&lt;
 /a&gt;&lt;/strong&gt;&lt;/p&gt;\n&lt;p&gt;&lt;strong&gt;Inscripci&amp;oacute\;n a IEEE&lt;/strong&gt;&lt;/p&gt;\n&lt;p&gt;&lt;
 strong&gt;&lt;a href=&quot;https://www.google.com/url?q=https://www.ieee.org/membersh
 ip/join/index.html?utm_source%3Dbutton_text%26utm_medium%3Dlp-membership%2
 6utm_campaign%3Djoin&amp;amp\;sa=D&amp;amp\;source=calendar&amp;amp\;ust=1708745479361
 082&amp;amp\;usg=AOvVaw3K7UR8lFbrAgMZ-iHjnuZt&quot; target=&quot;_blank&quot; rel=&quot;noopener&quot;&gt;
 https://www.ieee.org/membership/join/index.html?utm_source=button_text&amp;amp
 \;utm_medium=lp-membership&amp;amp\;utm_campaign=join&lt;/a&gt;&lt;/strong&gt;&lt;/p&gt;
END:VEVENT
END:VCALENDAR

