BEGIN:VCALENDAR
VERSION:2.0
PRODID:IEEE vTools.Events//EN
CALSCALE:GREGORIAN
BEGIN:VTIMEZONE
TZID:America/Argentina/Buenos_Aires
BEGIN:DAYLIGHT
DTSTART:20380119T001407
TZOFFSETFROM:-0300
TZOFFSETTO:-0300
RRULE:FREQ=YEARLY;BYDAY=3TU;BYMONTH=1
TZNAME:-03
END:DAYLIGHT
BEGIN:STANDARD
DTSTART:20090314T230000
TZOFFSETFROM:-0200
TZOFFSETTO:-0300
RRULE:FREQ=YEARLY;BYDAY=2SA;BYMONTH=3
TZNAME:-03
END:STANDARD
END:VTIMEZONE
BEGIN:VEVENT
DTSTAMP:20240223T212214Z
UID:E2620564-1604-49C9-9D0C-40135C0B5DB0
DTSTART;TZID=America/Argentina/Buenos_Aires:20240222T170000
DTEND;TZID=America/Argentina/Buenos_Aires:20240222T183000
DESCRIPTION:Reunión administrativa de los capítulos estudiantiles de la r
 ama IEEE-ITBA. Los capítulos son CS\, WIE\, EMB y RAS.\n\nAgenda: \nCopar
 ticipación en eventos y VTools.\n\nVirtual: https://events.vtools.ieee.or
 g/m/408139
LOCATION:Virtual: https://events.vtools.ieee.org/m/408139
ORGANIZER:ieee@itba.edu.ar
SEQUENCE:6
SUMMARY:Reunión de capítulos IEEE-ITBA
URL;VALUE=URI:https://events.vtools.ieee.org/m/408139
X-ALT-DESC:Description: &lt;br /&gt;&lt;p&gt;Reuni&amp;oacute\;n administrativa de los cap&amp;
 iacute\;tulos estudiantiles de la rama IEEE-ITBA. Los cap&amp;iacute\;tulos so
 n CS\, WIE\, EMB y RAS.&lt;/p&gt;&lt;br /&gt;&lt;br /&gt;Agenda: &lt;br /&gt;&lt;p&gt;Coparticipaci&amp;oacu
 te\;n en eventos y VTools.&lt;/p&gt;
END:VEVENT
END:VCALENDAR

