BEGIN:VCALENDAR
VERSION:2.0
PRODID:IEEE vTools.Events//EN
CALSCALE:GREGORIAN
BEGIN:VTIMEZONE
TZID:US/Eastern
BEGIN:DAYLIGHT
DTSTART:20160313T030000
TZOFFSETFROM:-0500
TZOFFSETTO:-0400
RRULE:FREQ=YEARLY;BYDAY=2SU;BYMONTH=3
TZNAME:EDT
END:DAYLIGHT
BEGIN:STANDARD
DTSTART:20161106T010000
TZOFFSETFROM:-0400
TZOFFSETTO:-0500
RRULE:FREQ=YEARLY;BYDAY=1SU;BYMONTH=11
TZNAME:EST
END:STANDARD
END:VTIMEZONE
BEGIN:VEVENT
DTSTAMP:20180321T140923Z
UID:EF7660A7-63B7-11E6-96B8-0050568D2FB3
DTSTART;TZID=US/Eastern:20160916T170000
DTEND;TZID=US/Eastern:20160916T180000
DESCRIPTION:Here is my event where i will describe\n\n1 Race Street\, Phila
 delphia\, Pennsylvania\, United States
LOCATION:1 Race Street\, Philadelphia\, Pennsylvania\, United States
ORGANIZER:wie-phila@ieee.org
SEQUENCE:2
SUMMARY:Here is my title for my event
URL;VALUE=URI:https://events.vtools.ieee.org/m/40818
X-ALT-DESC:Description: &lt;br /&gt;&lt;p&gt;Here is my event where i will describe&amp;nbs
 p\;&lt;/p&gt;
END:VEVENT
END:VCALENDAR

