BEGIN:VCALENDAR
VERSION:2.0
PRODID:IEEE vTools.Events//EN
CALSCALE:GREGORIAN
BEGIN:VTIMEZONE
TZID:America/New_York
BEGIN:DAYLIGHT
DTSTART:20240310T030000
TZOFFSETFROM:-0500
TZOFFSETTO:-0400
RRULE:FREQ=YEARLY;BYDAY=2SU;BYMONTH=3
TZNAME:EDT
END:DAYLIGHT
BEGIN:STANDARD
DTSTART:20241103T010000
TZOFFSETFROM:-0400
TZOFFSETTO:-0500
RRULE:FREQ=YEARLY;BYDAY=1SU;BYMONTH=11
TZNAME:EST
END:STANDARD
END:VTIMEZONE
BEGIN:VEVENT
DTSTAMP:20240321T180545Z
UID:201BE227-A160-43F3-8274-E7F3F684ECD8
DTSTART;TZID=America/New_York:20240317T140000
DTEND;TZID=America/New_York:20240317T143000
DESCRIPTION:We are delighted to invite you to the Edwin A. Link Lecture\, a
  community event and book launch program\, sponsored by the Link Foundatio
 n\, to be held at Roberson Museum and Science Center on Sunday\, March 17\
 , 2024\, 2:00 to 3:30 pm. Please click [here](https://r20.rs6.net/tn.jsp?f
 =0011zV6WgoJP5qmCX3C2ZDr3wf4fiDeF9TJiipaIwFNooqWdc5oZxeANdYmorgr2nrNgvriUX
 VDgOUVGWiI0StIj1FO94vOhCjNFx0u9dVnmIndcookDgGTE72eN19XjEZYVcrV0lR1vIEEBSWN
 DUZ07WC6dirhj3Cxlh1aI61bmyks2fLLlsfc4wH6OiD9_vTnQJzTndOGnbRiAcF_y_lKjZxDaQ
 iDFTToo7gdNqCW5jclqkdF0LY6x4BlyGSl49sdgcNvwiqeZ6W-DGnYiuLG3E6tcrRKcoXYA6y6
 wuFfAw4=&amp;c=FjzJQnve70gUiqlW0dcqf7TR5hHp77oLJi2XFMcBLnCIvfHH60BItQ==&amp;ch=J7k
 qO__RG1PdYlJCfmPL79q0XY3wAeedcwbSAzRT1Pe0c5DaEqCkHg==) to register.\n\nThe
  speaker is Guru Madhavan\, the Norman R. Augustine Senior Scholar and Sen
 ior Director of Programs at the National Academy of Engineering and a dist
 inguished Binghamton University alum. The event will include a talk and di
 scussion based on Madhavan’s new book [Wicked Problems: How to Engineer 
 a Better World](https://r20.rs6.net/tn.jsp?f=0011zV6WgoJP5qmCX3C2ZDr3wf4fi
 DeF9TJiipaIwFNooqWdc5oZxeANdYmorgr2nrNdGkxaMCOnifaLcSKrlfF6_nKVAofQLwFoXQO
 N9eXu6p1y-tRHqCaUOjC2UUJzvfX41g0H9M2NX0ZIMDqBpiqgIdFtdrXvoPA3-fh3YZL1_xhox
 duaGpFiyEk9M9NFlTRmNktpfd70VF_AjE5NklQejNQMVBYPXkYUqMvpdmh4dw=&amp;c=FjzJQnve7
 0gUiqlW0dcqf7TR5hHp77oLJi2XFMcBLnCIvfHH60BItQ==&amp;ch=J7kqO__RG1PdYlJCfmPL79q
 0XY3wAeedcwbSAzRT1Pe0c5DaEqCkHg==) (W.W. Norton)\, dedicated to Binghamton
  and centered on Ed Link’s revolutionary work to guide our approaches to
  society’s intractable problems. Shelley Dionne\, Dean of the School of 
 Management at Binghamton University and Chair of the Link Foundation Board
  of Trustees will provide opening remarks and moderate the discussion.\n\n
 Because of limited seating\, please [register](https://r20.rs6.net/tn.jsp?
 f=0011zV6WgoJP5qmCX3C2ZDr3wf4fiDeF9TJiipaIwFNooqWdc5oZxeANdYmorgr2nrNgvriU
 XVDgOUVGWiI0StIj1FO94vOhCjNFx0u9dVnmIndcookDgGTE72eN19XjEZYVcrV0lR1vIEEBSW
 NDUZ07WC6dirhj3Cxlh1aI61bmyks2fLLlsfc4wH6OiD9_vTnQJzTndOGnbRiAcF_y_lKjZxDa
 QiDFTToo7gdNqCW5jclqkdF0LY6x4BlyGSl49sdgcNvwiqeZ6W-DGnYiuLG3E6tcrRKcoXYA6y
 6wuFfAw4=&amp;c=FjzJQnve70gUiqlW0dcqf7TR5hHp77oLJi2XFMcBLnCIvfHH60BItQ==&amp;ch=J7
 kqO__RG1PdYlJCfmPL79q0XY3wAeedcwbSAzRT1Pe0c5DaEqCkHg==) at your earliest c
 onvenience (registration includes a free visit to the exhibits of Roberson
  Museum and the Science Center). Please share this invitation with friends
  and colleagues who may be interested.\n\nWe look forward to seeing you fo
 r the Edwin A. Link Lecture on March 17.\n\nSpeaker(s): \, Guru Madhavan\n
 \nAgenda: \nAGENDA\n2:00 pm Registration\, Refreshments\, and Networking\,
  Visitor’s Hall\n2:30 pm Welcome and Introduction Shelley Dionne Dean an
 d Professor of Management\, Binghamton University Chair\, The Link Foundat
 ion\n2:35 pm Engineering our Wicked Problems: Some Insights from Ed Link a
 nd Binghamton Guru Madhavan Norman R. Augustine Senior Scholar and Senior 
 Director of Programs\, National Academy of Engineering\n3:10 pm Discussion
 \n3:25 pm Concluding Remarks Michael Grasso Executive Director\, Roberson 
 Museum and Science Center\n3:30 pm Refreshments and Networking\, Visitor
 ’s Hall\n4:00 pm Adjourn\n\nRoom: Carousel Theater\, First Floor\, Rober
 son Museum and Science Center\, 30 Front Street\, Binghamton \, New York\,
  United States\, 13905
LOCATION:Room: Carousel Theater\, First Floor\, Roberson Museum and Science
  Center\, 30 Front Street\, Binghamton \, New York\, United States\, 13905
ORGANIZER:desniezek@yahoo.com
SEQUENCE:28
SUMMARY:Wicked Problems: How to Engineer a Better World 
URL;VALUE=URI:https://events.vtools.ieee.org/m/408225
X-ALT-DESC:Description: &lt;br /&gt;&lt;p style=&quot;text-align: left\; margin: 0\;&quot; ali
 gn=&quot;left&quot;&gt;We are delighted to invite you to the &lt;span style=&quot;font-weight: 
 bold\;&quot;&gt;Edwin A. Link Lecture&lt;/span&gt;\, a community event and book launch p
 rogram\, sponsored by the Link Foundation\, to be held at Roberson Museum 
 and Science Center on &lt;span style=&quot;font-weight: bold\;&quot;&gt;Sunday\, March 17\
 , 2024\, 2:00 to 3:30 pm&lt;/span&gt;. Please click &lt;a style=&quot;color: #2c74ff\; f
 ont-weight: bold\; text-decoration: none\;&quot; href=&quot;https://r20.rs6.net/tn.j
 sp?f=0011zV6WgoJP5qmCX3C2ZDr3wf4fiDeF9TJiipaIwFNooqWdc5oZxeANdYmorgr2nrNgv
 riUXVDgOUVGWiI0StIj1FO94vOhCjNFx0u9dVnmIndcookDgGTE72eN19XjEZYVcrV0lR1vIEE
 BSWNDUZ07WC6dirhj3Cxlh1aI61bmyks2fLLlsfc4wH6OiD9_vTnQJzTndOGnbRiAcF_y_lKjZ
 xDaQiDFTToo7gdNqCW5jclqkdF0LY6x4BlyGSl49sdgcNvwiqeZ6W-DGnYiuLG3E6tcrRKcoXY
 A6y6wuFfAw4=&amp;amp\;c=FjzJQnve70gUiqlW0dcqf7TR5hHp77oLJi2XFMcBLnCIvfHH60BItQ
 ==&amp;amp\;ch=J7kqO__RG1PdYlJCfmPL79q0XY3wAeedcwbSAzRT1Pe0c5DaEqCkHg==&quot; targe
 t=&quot;_blank&quot; rel=&quot;nofollow noopener noreferrer&quot;&gt;here&lt;/a&gt; to register.&lt;/p&gt;\n&lt;
 p style=&quot;text-align: left\; margin: 0\;&quot; align=&quot;left&quot;&gt;&amp;nbsp\;&lt;/p&gt;\n&lt;p styl
 e=&quot;text-align: left\; margin: 0\;&quot; align=&quot;left&quot;&gt;The speaker is &lt;span style
 =&quot;font-weight: bold\;&quot;&gt;Guru Madhavan&lt;/span&gt;\, the Norman R. Augustine Seni
 or Scholar and Senior Director of Programs at the National Academy of Engi
 neering and a distinguished Binghamton University alum. The event will inc
 lude a talk and discussion based on Madhavan&amp;rsquo\;s new book &lt;a style=&quot;c
 olor: #2c74ff\; font-weight: bold\; text-decoration: none\;&quot; href=&quot;https:/
 /r20.rs6.net/tn.jsp?f=0011zV6WgoJP5qmCX3C2ZDr3wf4fiDeF9TJiipaIwFNooqWdc5oZ
 xeANdYmorgr2nrNdGkxaMCOnifaLcSKrlfF6_nKVAofQLwFoXQON9eXu6p1y-tRHqCaUOjC2UU
 JzvfX41g0H9M2NX0ZIMDqBpiqgIdFtdrXvoPA3-fh3YZL1_xhoxduaGpFiyEk9M9NFlTRmNktp
 fd70VF_AjE5NklQejNQMVBYPXkYUqMvpdmh4dw=&amp;amp\;c=FjzJQnve70gUiqlW0dcqf7TR5hH
 p77oLJi2XFMcBLnCIvfHH60BItQ==&amp;amp\;ch=J7kqO__RG1PdYlJCfmPL79q0XY3wAeedcwbS
 AzRT1Pe0c5DaEqCkHg==&quot; target=&quot;_blank&quot; rel=&quot;nofollow noopener noreferrer&quot;&gt;W
 icked Problems: How to Engineer a Better World&lt;/a&gt; (W.W. Norton)\, dedicat
 ed to Binghamton and centered on Ed Link&amp;rsquo\;s revolutionary work to gu
 ide our approaches to society&amp;rsquo\;s intractable problems. &lt;span style=&quot;
 font-weight: bold\;&quot;&gt;Shelley Dionne&lt;/span&gt;\, Dean of the School of Managem
 ent at Binghamton University and Chair of the Link Foundation Board of Tru
 stees will provide opening remarks and moderate the discussion.&lt;/p&gt;\n&lt;p st
 yle=&quot;text-align: left\; margin: 0\;&quot; align=&quot;left&quot;&gt;&amp;nbsp\;&lt;/p&gt;\n&lt;p style=&quot;t
 ext-align: left\; margin: 0\;&quot; align=&quot;left&quot;&gt;Because of limited seating\, p
 lease &lt;a style=&quot;color: #2c74ff\; font-weight: bold\; text-decoration: none
 \;&quot; href=&quot;https://r20.rs6.net/tn.jsp?f=0011zV6WgoJP5qmCX3C2ZDr3wf4fiDeF9TJ
 iipaIwFNooqWdc5oZxeANdYmorgr2nrNgvriUXVDgOUVGWiI0StIj1FO94vOhCjNFx0u9dVnmI
 ndcookDgGTE72eN19XjEZYVcrV0lR1vIEEBSWNDUZ07WC6dirhj3Cxlh1aI61bmyks2fLLlsfc
 4wH6OiD9_vTnQJzTndOGnbRiAcF_y_lKjZxDaQiDFTToo7gdNqCW5jclqkdF0LY6x4BlyGSl49
 sdgcNvwiqeZ6W-DGnYiuLG3E6tcrRKcoXYA6y6wuFfAw4=&amp;amp\;c=FjzJQnve70gUiqlW0dcq
 f7TR5hHp77oLJi2XFMcBLnCIvfHH60BItQ==&amp;amp\;ch=J7kqO__RG1PdYlJCfmPL79q0XY3wA
 eedcwbSAzRT1Pe0c5DaEqCkHg==&quot; target=&quot;_blank&quot; rel=&quot;nofollow noopener norefe
 rrer&quot;&gt;register&lt;/a&gt; at your earliest convenience (registration includes a f
 ree visit to the exhibits of Roberson Museum and the Science Center). Plea
 se share this invitation with friends and colleagues who may be interested
 .&lt;/p&gt;\n&lt;p style=&quot;text-align: left\; margin: 0\;&quot; align=&quot;left&quot;&gt;&amp;nbsp\;&lt;/p&gt;\
 n&lt;p style=&quot;text-align: left\; margin: 0\;&quot; align=&quot;left&quot;&gt;We look forward to
  seeing you for the Edwin A. Link Lecture on March 17.&lt;/p&gt;\n&lt;p style=&quot;text
 -align: left\; margin: 0\;&quot; align=&quot;left&quot;&gt;&amp;nbsp\;&lt;/p&gt;&lt;br /&gt;&lt;br /&gt;Agenda: &lt;b
 r /&gt;&lt;p&gt;AGENDA&lt;br&gt;2:00 pm Registration\, Refreshments\, and Networking\, Vi
 sitor&amp;rsquo\;s Hall&lt;br&gt;2:30 pm Welcome and Introduction Shelley Dionne Dea
 n and Professor of Management\, Binghamton University Chair\, The Link Fou
 ndation&lt;br&gt;2:35 pm Engineering our Wicked Problems: Some Insights from Ed 
 Link and Binghamton Guru Madhavan Norman R. Augustine Senior Scholar and S
 enior Director of Programs\, National Academy of Engineering&lt;br&gt;3:10 pm Di
 scussion&lt;br&gt;3:25 pm Concluding Remarks Michael Grasso Executive Director\,
  Roberson Museum and Science Center&lt;br&gt;3:30 pm Refreshments and Networking
 \, Visitor&amp;rsquo\;s Hall&lt;br&gt;4:00 pm Adjourn&lt;/p&gt;
END:VEVENT
END:VCALENDAR

