BEGIN:VCALENDAR
VERSION:2.0
PRODID:IEEE vTools.Events//EN
CALSCALE:GREGORIAN
BEGIN:VTIMEZONE
TZID:Asia/Kolkata
BEGIN:STANDARD
DTSTART:19451014T230000
TZOFFSETFROM:+0630
TZOFFSETTO:+0530
TZNAME:IST
END:STANDARD
END:VTIMEZONE
BEGIN:VEVENT
DTSTAMP:20240910T092752Z
UID:0C58B4D6-66E4-43A6-8FA4-2F6B68CAF476
DTSTART;TZID=Asia/Kolkata:20240224T143000
DTEND;TZID=Asia/Kolkata:20240224T160000
DESCRIPTION:IEEE SPS &amp; TEMS IEEE Hyderabad Section in association with IEEE
  VNR VJIET SB are organizing a talk on Generative AI : The Next Frontier o
 n 24th Feb\, 2024 at Dr. A. P. J. Abdual Kalam Hall from 2:30 PM to 4PM at
  VNRVJIET\n\nSpeaker Bio: Mr.Vijay Ram Surampudi is a seasoned IT consulta
 nt who is fascinated by the possibilities that AI can enable the way we th
 ink and operate. In his current role as an AI consultant for Google Cloud 
 India\, he works on developing solutions and advisory for different custom
 ers on implementation of AI/ML. Prior to joining Google\, he worked in div
 erse roles including presales\, consulting and delivery.\n\nTopic: Generat
 ive AI is a branch of artificial intelligence that focuses on creating new
  content\, including text\, images\, music\, and code. The agenda of the s
 ession will be to share some basics of Generative AI and discuss how it is
  going to revolutionize how we interact with the digital content and the w
 orld around us.\n\nRoom: Dr. A. P. J. Abdul Kalam Hall\, Bldg: D  Block\, 
 Vallurupalli Nageswara Rao  (Vnr) Vignana Jyothi Institute Of Engineering 
 And Technology\, Hyderabad\, Andhra Pradesh\, India\, 500090
LOCATION:Room: Dr. A. P. J. Abdul Kalam Hall\, Bldg: D  Block\, Vallurupall
 i Nageswara Rao  (Vnr) Vignana Jyothi Institute Of Engineering And Technol
 ogy\, Hyderabad\, Andhra Pradesh\, India\, 500090
ORGANIZER:padmasai_y@ieee.org
SEQUENCE:31
SUMMARY:IEEE SPS &amp; TEMS IEEE Hyderabad Section in association with IEEE VNR
  VJIET SB are organizing a talk on Generative AI : The Next Frontier 
URL;VALUE=URI:https://events.vtools.ieee.org/m/408379
X-ALT-DESC:Description: &lt;br /&gt;&lt;p&gt;&lt;strong&gt;IEEE &amp;nbsp\;SPS &amp;amp\; TEMS IEEE H
 yderabad Section in association with IEEE VNR VJIET SB are organizing a ta
 lk on Generative AI : The Next Frontier on 24th Feb\, 2024 at Dr. A. P. J.
  Abdual Kalam Hall from 2:30 PM to 4PM at VNRVJIET&lt;/strong&gt;&lt;/p&gt;\n&lt;p&gt;&lt;stron
 g&gt;Speaker Bio: &lt;/strong&gt;Mr.Vijay Ram Surampudi is a seasoned IT consultant
  who is fascinated by the possibilities that AI can enable the way we thin
 k and operate. In his current role as an AI consultant for Google Cloud In
 dia\, he works on developing solutions and advisory for different customer
 s on implementation of AI/ML. Prior to joining Google\, he worked in diver
 se roles including presales\, consulting and delivery.&lt;/p&gt;\n&lt;p&gt;&lt;strong&gt;Top
 ic: &lt;/strong&gt;Generative AI is a branch of artificial intelligence that foc
 uses on creating new content\, including text\, images\, music\, and code.
  The agenda of the session will be to share some basics of Generative AI a
 nd discuss how it is going to revolutionize how we interact with the digit
 al content and the world around us.&lt;/p&gt;
END:VEVENT
END:VCALENDAR

