BEGIN:VCALENDAR
VERSION:2.0
PRODID:IEEE vTools.Events//EN
CALSCALE:GREGORIAN
BEGIN:VTIMEZONE
TZID:Asia/Kolkata
BEGIN:STANDARD
DTSTART:19451014T230000
TZOFFSETFROM:+0630
TZOFFSETTO:+0530
TZNAME:IST
END:STANDARD
END:VTIMEZONE
BEGIN:VEVENT
DTSTAMP:20240329T090115Z
UID:B619FC01-C88A-43FC-9C92-A211028545D5
DTSTART;TZID=Asia/Kolkata:20240318T100000
DTEND;TZID=Asia/Kolkata:20240322T180000
DESCRIPTION:https://www.semix.iitb.ac.in/semix/courses/\n\nCo-sponsored by:
  SemiX Office\n\nVictor Menezes Convention Centre\, Mumbai\, Maharashtra\,
  India
LOCATION:Victor Menezes Convention Centre\, Mumbai\, Maharashtra\, India
ORGANIZER:sandip@ee.iitb.ac.in
SEQUENCE:2
SUMMARY:Short-term course on Semiconductor Manufacturing and Technology 
URL;VALUE=URI:https://events.vtools.ieee.org/m/408404
X-ALT-DESC:Description: &lt;br /&gt;&lt;p&gt;&lt;a href=&quot;https://www.semix.iitb.ac.in/semi
 x/courses/&quot;&gt;https://www.semix.iitb.ac.in/semix/courses/&lt;/a&gt;&lt;/p&gt;
END:VEVENT
END:VCALENDAR

