BEGIN:VCALENDAR
VERSION:2.0
PRODID:IEEE vTools.Events//EN
CALSCALE:GREGORIAN
BEGIN:VTIMEZONE
TZID:Europe/Madrid
BEGIN:DAYLIGHT
DTSTART:20230326T030000
TZOFFSETFROM:+0100
TZOFFSETTO:+0200
RRULE:FREQ=YEARLY;BYDAY=-1SU;BYMONTH=3
TZNAME:CEST
END:DAYLIGHT
BEGIN:STANDARD
DTSTART:20231029T020000
TZOFFSETFROM:+0200
TZOFFSETTO:+0100
RRULE:FREQ=YEARLY;BYDAY=-1SU;BYMONTH=10
TZNAME:CET
END:STANDARD
END:VTIMEZONE
BEGIN:VEVENT
DTSTAMP:20240224T210219Z
UID:B8F6BCE2-640F-4BA5-BB46-54F9343C693F
DTSTART;TZID=Europe/Madrid:20230420T140000
DTEND;TZID=Europe/Madrid:20230420T170000
DESCRIPTION:We provide an introduction to Arduino to the Master students th
 rough a presentation\, focusing on the first steps with Arduino\n\nFaculty
  of Sciences and Technology\, Djelfa university\, Djelfa\, Djelfa\, Algeri
 a\, 17000
LOCATION:Faculty of Sciences and Technology\, Djelfa university\, Djelfa\, 
 Djelfa\, Algeria\, 17000
ORGANIZER:bs.khaldi@gmail.com
SEQUENCE:9
SUMMARY:Introduction to Arduino
URL;VALUE=URI:https://events.vtools.ieee.org/m/408614
X-ALT-DESC:Description: &lt;br /&gt;&lt;p&gt;We provide an introduction to Arduino to t
 he Master students through a presentation\, focusing on the first steps wi
 th Arduino&lt;/p&gt;
END:VEVENT
END:VCALENDAR

