BEGIN:VCALENDAR
VERSION:2.0
PRODID:IEEE vTools.Events//EN
CALSCALE:GREGORIAN
BEGIN:VTIMEZONE
TZID:Canada/Saskatchewan
BEGIN:STANDARD
DTSTART:19600424T030000
TZOFFSETFROM:-0700
TZOFFSETTO:-0600
TZNAME:CST
END:STANDARD
END:VTIMEZONE
BEGIN:VEVENT
DTSTAMP:20240430T002042Z
UID:103371D3-5339-4990-BAB5-84AB27F471D8
DTSTART;TZID=Canada/Saskatchewan:20240228T180000
DTEND;TZID=Canada/Saskatchewan:20240228T193000
DESCRIPTION:Section ExCom Meeting\n\nAgenda: \n-\nCall to Order\n2. Accepta
 nce of Agenda\n3. Acceptance of Previous Minutes\n4. Section Update\n5. Fi
 nancial Update\n6. Project Day Sponsorship Request\n7. Plan for 2024 Follo
 w-up / Scheduling / Budget\n8. AOB\n9. Adjournment\n\nRoom: Engineering Bo
 ardroom (ED 436.14)\, Bldg: Education Building\, 3737 Wascana Pkwy\, Regin
 a\, Saskatchewan\, Canada\, S4S0A2\, Virtual: https://events.vtools.ieee.o
 rg/m/408886
LOCATION:Room: Engineering Boardroom (ED 436.14)\, Bldg: Education Building
 \, 3737 Wascana Pkwy\, Regina\, Saskatchewan\, Canada\, S4S0A2\, Virtual: 
 https://events.vtools.ieee.org/m/408886
ORGANIZER:Adam.Tilson@uregina.ca
SEQUENCE:5
SUMMARY:Section Executive Committee Meeting
URL;VALUE=URI:https://events.vtools.ieee.org/m/408886
X-ALT-DESC:Description: &lt;br /&gt;&lt;p&gt;Section ExCom Meeting&lt;/p&gt;&lt;br /&gt;&lt;br /&gt;Agend
 a: &lt;br /&gt;&lt;ol&gt;\n&lt;li style=&quot;font-weight: 400\;&quot;&gt;\n&lt;div&gt;Call to Order&lt;br /&gt;2.
  Acceptance of Agenda&lt;br /&gt;3. Acceptance of Previous Minutes&lt;br /&gt;4. Secti
 on Update&lt;br /&gt;5. Financial Update&lt;/div&gt;\n&lt;div&gt;6. Project Day Sponsorship 
 Request&lt;/div&gt;\n&lt;div&gt;7. Plan for 2024 Follow-up / Scheduling / Budget&lt;br /&gt;
 8. AOB&lt;br /&gt;9. Adjournment&lt;/div&gt;\n&lt;/li&gt;\n&lt;/ol&gt;
END:VEVENT
END:VCALENDAR

