BEGIN:VCALENDAR
VERSION:2.0
PRODID:IEEE vTools.Events//EN
CALSCALE:GREGORIAN
BEGIN:VTIMEZONE
TZID:America/Chicago
BEGIN:DAYLIGHT
DTSTART:20240310T030000
TZOFFSETFROM:-0600
TZOFFSETTO:-0500
RRULE:FREQ=YEARLY;BYDAY=2SU;BYMONTH=3
TZNAME:CDT
END:DAYLIGHT
BEGIN:STANDARD
DTSTART:20241103T010000
TZOFFSETFROM:-0500
TZOFFSETTO:-0600
RRULE:FREQ=YEARLY;BYDAY=1SU;BYMONTH=11
TZNAME:CST
END:STANDARD
END:VTIMEZONE
BEGIN:VEVENT
DTSTAMP:20240324T064026Z
UID:5FDA33CE-322B-466C-AC3E-5C5C5678D567
DTSTART;TZID=America/Chicago:20240321T180000
DTEND;TZID=America/Chicago:20240321T193000
DESCRIPTION:Springtime is a good time to plan or review our financial futur
 e. We have invited Mr. Mike Karstens of Charles Schwab\, Inc. to give a ta
 lk on Estate Planning\, Trusts\, and Wills. He will answer any question yo
 u may have in financial services.\n\nSpeaker(s): Mike Karstens\n\nAgenda: 
 \n6:00 to 6:05 PM - Open for participants to enter and network.\n6:05 to 6
 :10 PM - IEEE LM and CTCN Business meeting and to introduce speaker.\n6:10
  to 7:30 PM - Formal Program and Q&amp;A.\n\nVirtual: https://events.vtools.ie
 ee.org/m/408968
LOCATION:Virtual: https://events.vtools.ieee.org/m/408968
ORGANIZER:kaiwong@ieee.org
SEQUENCE:168
SUMMARY:IEEE CTS LMAG and CTCN 3.21.2024 meeting- Estate Planning\, Trusts\
 , and Wills
URL;VALUE=URI:https://events.vtools.ieee.org/m/408968
X-ALT-DESC:Description: &lt;br /&gt;&lt;p&gt;Springtime is a good time to plan or revie
 w our financial future.&amp;nbsp\; We have invited Mr. Mike Karstens of Charle
 s Schwab\, Inc. to give a talk on Estate Planning\, Trusts\, and Wills. He
  will answer any question you may have in financial services.&lt;/p&gt;&lt;br /&gt;&lt;br
  /&gt;Agenda: &lt;br /&gt;&lt;div dir=&quot;ltr&quot; data-setdir=&quot;false&quot;&gt;6:00 to 6:05 PM - Open
  for participants to enter and network.&amp;nbsp\;&lt;/div&gt;\n&lt;div dir=&quot;ltr&quot; data-
 setdir=&quot;false&quot;&gt;6:05 to 6:10 PM - IEEE LM and CTCN Business meeting and to 
 introduce speaker.&lt;/div&gt;\n&lt;div dir=&quot;ltr&quot; data-setdir=&quot;false&quot;&gt;6:10 to 7:30 
 PM - Formal Program and Q&amp;amp\;A.&amp;nbsp\;&lt;/div&gt;
END:VEVENT
END:VCALENDAR

