BEGIN:VCALENDAR
VERSION:2.0
PRODID:IEEE vTools.Events//EN
CALSCALE:GREGORIAN
BEGIN:VTIMEZONE
TZID:America/Halifax
BEGIN:DAYLIGHT
DTSTART:20240310T030000
TZOFFSETFROM:-0400
TZOFFSETTO:-0300
RRULE:FREQ=YEARLY;BYDAY=2SU;BYMONTH=3
TZNAME:ADT
END:DAYLIGHT
BEGIN:STANDARD
DTSTART:20231105T010000
TZOFFSETFROM:-0300
TZOFFSETTO:-0400
RRULE:FREQ=YEARLY;BYDAY=1SU;BYMONTH=11
TZNAME:AST
END:STANDARD
END:VTIMEZONE
BEGIN:VEVENT
DTSTAMP:20240302T194641Z
UID:3DB3B76C-662C-4986-A8B9-AC24CA4FD89B
DTSTART;TZID=America/Halifax:20240228T150000
DTEND;TZID=America/Halifax:20240228T160000
DESCRIPTION:Let&#39;s Conversar is a conversation group\, so far informal\, wit
 h the goal of improving our communication in English. The seventh week had
  a topic: Job/Work.\n\ncampo grande\, Mato Grosso do Sul\, Brazil
LOCATION:campo grande\, Mato Grosso do Sul\, Brazil
ORGANIZER:sb.ufms.ieee@gmail.com
SEQUENCE:6
SUMMARY:Let&#39;s Conversar (7th week)
URL;VALUE=URI:https://events.vtools.ieee.org/m/409128
X-ALT-DESC:Description: &lt;br /&gt;&lt;p&gt;Let&#39;s Conversar is a conversation group\, 
 so far informal\, with the goal of improving our communication in English.
  The seventh week had a topic: Job/Work.&lt;/p&gt;
END:VEVENT
END:VCALENDAR

