BEGIN:VCALENDAR
VERSION:2.0
PRODID:IEEE vTools.Events//EN
CALSCALE:GREGORIAN
BEGIN:VTIMEZONE
TZID:Asia/Kolkata
BEGIN:STANDARD
DTSTART:19451014T230000
TZOFFSETFROM:+0630
TZOFFSETTO:+0530
TZNAME:IST
END:STANDARD
END:VTIMEZONE
BEGIN:VEVENT
DTSTAMP:20240228T053128Z
UID:3117F0F6-09BD-435C-9E9F-8C746D2D02A7
DTSTART;TZID=Asia/Kolkata:20240225T213000
DTEND;TZID=Asia/Kolkata:20240225T223000
DESCRIPTION:The meeting was convened on February 25\, 2024\, at 09:30 PM\, 
 conducted online via Google Meet. Attendees gathered virtually to discuss 
 and assign tasks related to the upcoming event. The meeting commenced with
  a detailed review of action items\, ensuring clarity and alignment among 
 team members.\n\n1. Graphics: Davit was appointed to lead the graphics tea
 m\, comprising Mayank\, Pawan\, Avneet\, and Shreya. Their responsibilitie
 s included the creation of essential visual assets such as posters\, tease
 r videos\, and standee designs. Reference links to IEEE Brand Experience T
 emplates were provided to guide their design process.\n\n2. Sponsorship Te
 am (SPON): Shubham was designated as the leader of the sponsorship team\, 
 tasked with securing financial support for the event.\n\n3. Reach of the P
 rogram: Abhishek and Palak were assigned the responsibility of managing ad
 vertisement placements in newspapers\, airport display boards\, and radio 
 promotions. Reference links to IEEE Brand Experience Templates for promoti
 onal advertising collateral were provided as guidance.\n\n4. Website: Abhi
 shek and Ishica were enlisted to support Divyansh bhaiya in website develo
 pment for the event. Reference links to IEEE Hosting Request were provided
  to facilitate the process.\n\n5. CA Planning: Abhishek\, Akshay\, and Pal
 ak were entrusted with the crucial task of planning the cultural activitie
 s for the event.\n\nThe meeting concluded with a reminder for all attendee
 s to complete their assigned tasks before the next meeting scheduled for F
 ebruary 27\, 2024. Clear communication and collaboration were emphasized t
 o ensure the successful execution of the event.\n\nOverall\, the meeting s
 erved as an effective platform for task delegation\, fostering teamwork\, 
 and setting clear objectives to achieve the desired outcomes for the upcom
 ing event.\n\nAgenda: \nAgenda Items:\n\n- Graphics:\n\n- Davit will lead 
 the graphics team\, supported by Mayank\, Pawan\, Avneet\, and Shreya.\n- 
 Tasks include creating a poster\, teaser video\, and standee design.\n- Re
 ference link: [IEEE Brand Experience Templates - Print Collateral](https:/
 /brand-experience.ieee.org/templates/print-collateral-editable-templates/e
 vent-and-trade-show-components/)\n\n- Sponsorship Team (SPON): Shubham wil
 l lead the sponsorship team.\n\n- Reach of the Program:\n\n- Abhishek and 
 Palak will handle the advertisement in newspapers\, airport display boards
 \, and radio promotions.\n- Reference link: [IEEE Brand Experience Templat
 es - Promotional Advertising Collateral](https://brand-experience.ieee.org
 /templates/promotional-advertising-collateral/)\n\n- Website:\n\n- Abhishe
 k and Ishica will assist Divyansh bhaiya in website development.\n- Refere
 nce link: [IEEE Hosting Request](https://attend.ieee.org/hosting-request/)
 \n\n- CA Planning: Abhishek\, Akshay and Palak will be responsible for CA 
 planning.\n\nVirtual: https://events.vtools.ieee.org/m/409162
LOCATION:Virtual: https://events.vtools.ieee.org/m/409162
ORGANIZER:wiechandigarhuniversity@gmail.com
SEQUENCE:17
SUMMARY:Meeting Regarding Planning of Game of Code Event 
URL;VALUE=URI:https://events.vtools.ieee.org/m/409162
X-ALT-DESC:Description: &lt;br /&gt;&lt;p&gt;The meeting was convened on February 25\, 
 2024\, at 09:30 PM\, conducted online via Google Meet. Attendees gathered 
 virtually to discuss and assign tasks related to the upcoming event. The m
 eeting commenced with a detailed review of action items\, ensuring clarity
  and alignment among team members.&lt;/p&gt;\n&lt;p&gt;1. Graphics: Davit was appointe
 d to lead the graphics team\, comprising Mayank\, Pawan\, Avneet\, and Shr
 eya. Their responsibilities included the creation of essential visual asse
 ts such as posters\, teaser videos\, and standee designs. Reference links 
 to IEEE Brand Experience Templates were provided to guide their design pro
 cess.&lt;/p&gt;\n&lt;p&gt;2. Sponsorship Team (SPON): Shubham was designated as the le
 ader of the sponsorship team\, tasked with securing financial support for 
 the event.&lt;/p&gt;\n&lt;p&gt;3. Reach of the Program: Abhishek and Palak were assign
 ed the responsibility of managing advertisement placements in newspapers\,
  airport display boards\, and radio promotions. Reference links to IEEE Br
 and Experience Templates for promotional advertising collateral were provi
 ded as guidance.&lt;/p&gt;\n&lt;p&gt;4. Website: Abhishek and Ishica were enlisted to 
 support Divyansh bhaiya in website development for the event. Reference li
 nks to IEEE Hosting Request were provided to facilitate the process.&lt;/p&gt;\n
 &lt;p&gt;5. CA Planning: Abhishek\, Akshay\, and Palak were entrusted with the c
 rucial task of planning the cultural activities for the event.&lt;/p&gt;\n&lt;p&gt;The
  meeting concluded with a reminder for all attendees to complete their ass
 igned tasks before the next meeting scheduled for February 27\, 2024. Clea
 r communication and collaboration were emphasized to ensure the successful
  execution of the event.&lt;/p&gt;\n&lt;p&gt;Overall\, the meeting served as an effect
 ive platform for task delegation\, fostering teamwork\, and setting clear 
 objectives to achieve the desired outcomes for the upcoming event.&lt;/p&gt;&lt;br 
 /&gt;&lt;br /&gt;Agenda: &lt;br /&gt;&lt;p&gt;&lt;strong&gt;Agenda Items:&lt;/strong&gt;&lt;/p&gt;\n&lt;ol&gt;\n&lt;li&gt;Gra
 phics:&lt;/li&gt;\n&lt;/ol&gt;\n&lt;ul&gt;\n&lt;li&gt;Davit will lead the graphics team\, supporte
 d by Mayank\, Pawan\, Avneet\, and Shreya.&lt;/li&gt;\n&lt;li&gt;Tasks include creatin
 g a poster\, teaser video\, and standee design.&lt;/li&gt;\n&lt;li&gt;Reference link: 
 &lt;a href=&quot;https://brand-experience.ieee.org/templates/print-collateral-edit
 able-templates/event-and-trade-show-components/&quot;&gt;IEEE Brand Experience Tem
 plates - Print Collateral&lt;/a&gt;&lt;/li&gt;\n&lt;/ul&gt;\n&lt;ol start=&quot;2&quot;&gt;\n&lt;li&gt;Sponsorship
  Team (SPON): Shubham will lead the sponsorship team.&lt;/li&gt;\n&lt;/ol&gt;\n&lt;ol sta
 rt=&quot;3&quot;&gt;\n&lt;li&gt;Reach of the Program:&lt;/li&gt;\n&lt;/ol&gt;\n&lt;ul&gt;\n&lt;li&gt;Abhishek and Pal
 ak will handle the advertisement in newspapers\, airport display boards\, 
 and radio promotions.&lt;/li&gt;\n&lt;li&gt;Reference link: &lt;a href=&quot;https://brand-exp
 erience.ieee.org/templates/promotional-advertising-collateral/&quot;&gt;IEEE Brand
  Experience Templates - Promotional Advertising Collateral&lt;/a&gt;&lt;/li&gt;\n&lt;/ul&gt;
 \n&lt;ol start=&quot;4&quot;&gt;\n&lt;li&gt;Website:&lt;/li&gt;\n&lt;/ol&gt;\n&lt;ul&gt;\n&lt;li&gt;Abhishek and Ishica 
 will assist Divyansh bhaiya in website development.&lt;/li&gt;\n&lt;li&gt;Reference li
 nk: &lt;a href=&quot;https://attend.ieee.org/hosting-request/&quot;&gt;IEEE Hosting Reques
 t&lt;/a&gt;&lt;/li&gt;\n&lt;/ul&gt;\n&lt;ol start=&quot;5&quot;&gt;\n&lt;li&gt;CA Planning: Abhishek\, Akshay and 
 Palak will be responsible for CA planning.&lt;/li&gt;\n&lt;/ol&gt;
END:VEVENT
END:VCALENDAR

