BEGIN:VCALENDAR
VERSION:2.0
PRODID:IEEE vTools.Events//EN
CALSCALE:GREGORIAN
BEGIN:VTIMEZONE
TZID:America/Chicago
BEGIN:DAYLIGHT
DTSTART:20240310T030000
TZOFFSETFROM:-0600
TZOFFSETTO:-0500
RRULE:FREQ=YEARLY;BYDAY=2SU;BYMONTH=3
TZNAME:CDT
END:DAYLIGHT
BEGIN:STANDARD
DTSTART:20241103T010000
TZOFFSETFROM:-0500
TZOFFSETTO:-0600
RRULE:FREQ=YEARLY;BYDAY=1SU;BYMONTH=11
TZNAME:CST
END:STANDARD
END:VTIMEZONE
BEGIN:VEVENT
DTSTAMP:20240320T210611Z
UID:90ABD4B8-968E-4E7E-A700-6BEC104E9015
DTSTART;TZID=America/Chicago:20240315T173000
DTEND;TZID=America/Chicago:20240315T200000
DESCRIPTION:&quot;Cybersocial Third Friday&quot; is a monthly reoccurring networking/
 social meetup hosted by the IEEE R4 Iowa-Illinois Section and Computer Soc
 iety Chapter. Join us for social hour and see your friends and colleagues.
  Cybersocial is a monthly event held the third Friday of each month.\n\nYo
 u don&#39;t need to be a Computer Society member or even an IEEE member to joi
 n us. Open to all engineers and technical professionals.\n\nAgenda: \nWe p
 lan to meet IN PERSON at Five Cities in Bettendorf.\n\nFive Cities Brewery
  \, Bettendorf\, Iowa\, United States\, 52722
LOCATION:Five Cities Brewery \, Bettendorf\, Iowa\, United States\, 52722
ORGANIZER:j.johnson@ieee.org
SEQUENCE:3
SUMMARY:Monthly IA-IL Section Social #2024 - March Third Friday Meet Up
URL;VALUE=URI:https://events.vtools.ieee.org/m/409612
X-ALT-DESC:Description: &lt;br /&gt;&lt;p&gt;&quot;Cybersocial Third Friday&quot; is a monthly re
 occurring networking/social meetup hosted by the IEEE R4 Iowa-Illinois Sec
 tion and Computer Society Chapter. Join us for social hour and see your fr
 iends and colleagues. Cybersocial is a monthly event held the third Friday
  of each month.&amp;nbsp\;&lt;/p&gt;\n&lt;p&gt;You don&#39;t need to be a Computer Society mem
 ber or even an IEEE member to join us. Open to all engineers and technical
  professionals.&lt;/p&gt;&lt;br /&gt;&lt;br /&gt;Agenda: &lt;br /&gt;&lt;p&gt;We plan to meet IN PERSON 
 at Five Cities in Bettendorf.&lt;/p&gt;
END:VEVENT
END:VCALENDAR

