BEGIN:VCALENDAR
VERSION:2.0
PRODID:IEEE vTools.Events//EN
CALSCALE:GREGORIAN
BEGIN:VTIMEZONE
TZID:America/Bogota
BEGIN:DAYLIGHT
DTSTART:20380118T221407
TZOFFSETFROM:-0500
TZOFFSETTO:-0500
RRULE:FREQ=YEARLY;BYDAY=3MO;BYMONTH=1
TZNAME:-05
END:DAYLIGHT
BEGIN:STANDARD
DTSTART:19930206T230000
TZOFFSETFROM:-0400
TZOFFSETTO:-0500
RRULE:FREQ=YEARLY;BYDAY=1SA;BYMONTH=2
TZNAME:-05
END:STANDARD
END:VTIMEZONE
BEGIN:VEVENT
DTSTAMP:20240315T201158Z
UID:A79D948D-1BC3-462A-924D-4C915368DEF1
DTSTART;TZID=America/Bogota:20240304T140000
DTEND;TZID=America/Bogota:20240304T160000
DESCRIPTION:La Rama Estudiantil de la Universidad de San Buenaventura - Sed
 e Bogotá\, el Capítulo Estudiantil IEEE en Compatibilidad Electromangét
 ica de la Universidad Nacional de Colombia (EMCC-UN) y el Capítulo Profes
 ional Colombiano de la Sociedad en Compatibilidad Electromagnética IEEE R
 egión 9 EMC27\, tienen el gusto de invitarlos a la conferencia:\n\nCo-spo
 nsored by: Rama Estudiantil IEEE de la Universidad de San Buenaventura\n\n
 Speaker(s): Jenifer\n\nAgenda: \n14:00 Saludo inicial\n\n14:10 Conferencia
 : Navegando el Horizonte del Liderazgo: Perspectivas de IEEE y Habilidades
  Esenciales para Ingenieros Moderno a cargo de la ingeniera Jenifer Paola 
 Castillo\n\n15:10 Conversatorio\n\n15:40 Sesión de preguntas\n\n15:55 Des
 pedida\n\nRoom: 309\, Bldg: Guillermo de Ockham\, Carrera 8H # 172-20\, Bo
 gotá\, Distrito Capital de Bogota\, Colombia
LOCATION:Room: 309\, Bldg: Guillermo de Ockham\, Carrera 8H # 172-20\, Bogo
 tá\, Distrito Capital de Bogota\, Colombia
ORGANIZER:efpinedava@unal.edu.co
SEQUENCE:16
SUMMARY:Navegando el Horizonte del Liderazgo: Perspectivas de IEEE y Habili
 dades Esenciales para Ingenieros Modernos
URL;VALUE=URI:https://events.vtools.ieee.org/m/409793
X-ALT-DESC:Description: &lt;br /&gt;&lt;p&gt;&lt;em&gt;&lt;strong&gt;La Rama Estudiantil de la Univ
 ersidad de San Buenaventura - Sede Bogot&amp;aacute\;\, el Cap&amp;iacute\;tulo Es
 tudiantil IEEE en Compatibilidad Electromang&amp;eacute\;tica de la Universida
 d Nacional de Colombia (EMCC-UN) y el Cap&amp;iacute\;tulo Profesional Colombi
 ano de la Sociedad en Compatibilidad Electromagn&amp;eacute\;tica IEEE Regi&amp;oa
 cute\;n 9 EMC27\, tienen el gusto de invitarlos a la conferencia:&lt;/strong&gt;
 &lt;/em&gt;&lt;/p&gt;\n&lt;p&gt;&lt;em&gt;&lt;strong&gt;&lt;img src=&quot;https://events.vtools.ieee.org/vtools_
 ui/media/display/97c6156b-e95a-4e67-9a8d-95bc16f80cbe&quot; width=&quot;309&quot; height=
 &quot;437&quot;&gt;&lt;/strong&gt;&lt;/em&gt;&lt;/p&gt;&lt;br /&gt;&lt;br /&gt;Agenda: &lt;br /&gt;&lt;p&gt;&lt;em&gt;&lt;strong&gt;14:00 Sal
 udo inicial&lt;/strong&gt;&lt;/em&gt;&lt;/p&gt;\n&lt;p&gt;&amp;nbsp\;&lt;/p&gt;\n&lt;p&gt;&lt;em&gt;&lt;strong&gt;14:10 Confer
 encia: Navegando el Horizonte del Liderazgo: Perspectivas de IEEE y Habili
 dades Esenciales para Ingenieros Moderno a cargo de la ingeniera&amp;nbsp\;Jen
 ifer Paola Castillo&lt;/strong&gt;&lt;/em&gt;&lt;/p&gt;\n&lt;p&gt;&amp;nbsp\;&lt;/p&gt;\n&lt;p&gt;&lt;em&gt;&lt;strong&gt;15:1
 0 Conversatorio&lt;/strong&gt;&lt;/em&gt;&lt;/p&gt;\n&lt;p&gt;&amp;nbsp\;&lt;/p&gt;\n&lt;p&gt;&lt;em&gt;&lt;strong&gt;15:40 Se
 si&amp;oacute\;n de preguntas&lt;/strong&gt;&lt;/em&gt;&lt;/p&gt;\n&lt;p&gt;&amp;nbsp\;&lt;/p&gt;\n&lt;p&gt;&lt;em&gt;&lt;stron
 g&gt;15:55 Despedida&lt;/strong&gt;&lt;/em&gt;&lt;/p&gt;
END:VEVENT
END:VCALENDAR

