BEGIN:VCALENDAR
VERSION:2.0
PRODID:IEEE vTools.Events//EN
CALSCALE:GREGORIAN
BEGIN:VTIMEZONE
TZID:US/Eastern
BEGIN:DAYLIGHT
DTSTART:20240310T030000
TZOFFSETFROM:-0500
TZOFFSETTO:-0400
RRULE:FREQ=YEARLY;BYDAY=2SU;BYMONTH=3
TZNAME:EDT
END:DAYLIGHT
BEGIN:STANDARD
DTSTART:20241103T010000
TZOFFSETFROM:-0400
TZOFFSETTO:-0500
RRULE:FREQ=YEARLY;BYDAY=1SU;BYMONTH=11
TZNAME:EST
END:STANDARD
END:VTIMEZONE
BEGIN:VEVENT
DTSTAMP:20240331T224703Z
UID:12DC84FB-CCEE-47B2-806E-4EE38BCCDB1C
DTSTART;TZID=US/Eastern:20240330T110000
DTEND;TZID=US/Eastern:20240330T120000
DESCRIPTION:Planning meeting\n\nVirtual: https://events.vtools.ieee.org/m/4
 09912
LOCATION:Virtual: https://events.vtools.ieee.org/m/409912
ORGANIZER:dianaaristizabal@ieee.org
SEQUENCE:2
SUMMARY:WIE Planning Meeting March 2024
URL;VALUE=URI:https://events.vtools.ieee.org/m/409912
X-ALT-DESC:Description: &lt;br /&gt;&lt;p&gt;Planning meeting&lt;/p&gt;
END:VEVENT
END:VCALENDAR

