BEGIN:VCALENDAR
VERSION:2.0
PRODID:IEEE vTools.Events//EN
CALSCALE:GREGORIAN
BEGIN:VTIMEZONE
TZID:America/New_York
BEGIN:DAYLIGHT
DTSTART:20240310T030000
TZOFFSETFROM:-0500
TZOFFSETTO:-0400
RRULE:FREQ=YEARLY;BYDAY=2SU;BYMONTH=3
TZNAME:EDT
END:DAYLIGHT
BEGIN:STANDARD
DTSTART:20241103T010000
TZOFFSETFROM:-0400
TZOFFSETTO:-0500
RRULE:FREQ=YEARLY;BYDAY=1SU;BYMONTH=11
TZNAME:EST
END:STANDARD
END:VTIMEZONE
BEGIN:VEVENT
DTSTAMP:20240314T011323Z
UID:FA8F6B20-B7B8-4B0B-A2F9-27A0ECA69A54
DTSTART;TZID=America/New_York:20240313T183000
DTEND;TZID=America/New_York:20240313T193000
DESCRIPTION:Explore tech&#39;s impact on education and careers while embracing 
 diversity&#39;s role. Join us!\n\nOur upcoming event aims to explore how techn
 ological progress affects education and professional growth\, drawing from
  the experiences and expertise of our expert panelists. Additionally\, we&#39;
 ll discuss the integration of diversity into academic programs\, workplace
 s\, and product development processes\, highlighting its significance.\n\n
 []\n\nSpeaker(s): Dr. Marilyn Powers\, Stephanie Holko\, Manjubasini Ravee
 nthran\, SHARON BARNEY MBA PMP\, Shermineh Ghasemi (PhD Candidate) \n\nVir
 tual: https://events.vtools.ieee.org/m/410060
LOCATION:Virtual: https://events.vtools.ieee.org/m/410060
ORGANIZER:SABA.RAFIEIAN95@GMAIL.COM
SEQUENCE:9
SUMMARY:Innovating Together: Embracing Diversity in Tech and Academia
URL;VALUE=URI:https://events.vtools.ieee.org/m/410060
X-ALT-DESC:Description: &lt;br /&gt;&lt;p&gt;Explore tech&#39;s impact on education and car
 eers while embracing diversity&#39;s role. Join us!&lt;/p&gt;\n&lt;p&gt;Our upcoming event
  aims to explore how technological progress affects education and professi
 onal growth\, drawing from the experiences and expertise of our expert pan
 elists. Additionally\, we&#39;ll discuss the integration of diversity into aca
 demic programs\, workplaces\, and product development processes\, highligh
 ting its significance.&lt;/p&gt;\n&lt;p&gt;&amp;nbsp\;&lt;/p&gt;\n&lt;p&gt;&lt;img src=&quot;https://events.vt
 ools.ieee.org/vtools_ui/media/display/81701ffb-498d-401b-b8a9-a9f46b70184b
 &quot; alt=&quot;&quot; width=&quot;707&quot; height=&quot;500&quot;&gt;&lt;/p&gt;\n&lt;p&gt;&amp;nbsp\;&lt;/p&gt;
END:VEVENT
END:VCALENDAR

