BEGIN:VCALENDAR
VERSION:2.0
PRODID:IEEE vTools.Events//EN
CALSCALE:GREGORIAN
BEGIN:VTIMEZONE
TZID:America/Los_Angeles
BEGIN:DAYLIGHT
DTSTART:20240310T030000
TZOFFSETFROM:-0800
TZOFFSETTO:-0700
RRULE:FREQ=YEARLY;BYDAY=2SU;BYMONTH=3
TZNAME:PDT
END:DAYLIGHT
BEGIN:STANDARD
DTSTART:20241103T010000
TZOFFSETFROM:-0700
TZOFFSETTO:-0800
RRULE:FREQ=YEARLY;BYDAY=1SU;BYMONTH=11
TZNAME:PST
END:STANDARD
END:VTIMEZONE
BEGIN:VEVENT
DTSTAMP:20240426T215551Z
UID:4775F3D6-E041-4235-939C-DD6A665EFF2E
DTSTART;TZID=America/Los_Angeles:20240423T160000
DTEND;TZID=America/Los_Angeles:20240423T173000
DESCRIPTION:Overview:\nReady to dive into the world of consulting without b
 reaking the bank? Join Phil Gerbyshak for &quot;Zero Dollar Consultancy\,&quot; wher
 e you&#39;ll learn how to launch your consulting business with minimal financi
 al investment. Get the inside scoop on snagging your first clients\, using
  budget-friendly tools\, and staying motivated through the ups and downs.\
 n\nKey Learning Objectives:\n1. Starting Your Consulting Business:\n- Lear
 n the basics of getting your consulting gig off the ground without emptyin
 g your wallet.\n- Find out how to carve your niche and show off your exper
 tise in the market.\n\n2. Getting Customers on a Budget:\n- Discover sneak
 y (but ethical!) ways to reel in those first clients without splurging on 
 marketing.\n- Dive into the art of networking and leveraging referrals to 
 keep the client train chugging along.\n\n3. Budget-Friendly Tools:\n- Expl
 ore the wild world of affordable software and tools to keep your business 
 running smoothly.\n- Find out which freebies and low-cost goodies can help
  you stay organized and professional.\n\n4. Staying Sane and Bouncing Back
 :\n- Phil&#39;s got your back with tips on staying motivated\, avoiding burnou
 t\, and bouncing back from setbacks.\n- Learn how to take care of yourself
  while hustling hard in the consulting game.\n\nProgram Format:\nNo boring
  lectures here! Dive into &quot;Zero Dollar Consultancy&quot; with Phil Gerbyshak th
 rough a mix of live sessions\, interactive workshops\, and handy resources
 . Ask all your burning questions and get real\, practical advice from some
 one who&#39;s been there\, done that.\n\nPlenty of Time for Q&amp;A:\nGot a questi
 on? Fire away! Whether it&#39;s about snagging clients\, dealing with stress\,
  or just sharing your own experiences\, there&#39;s plenty of time to chat and
  learn from Phil and your fellow consulting hopefuls.\n\nReady to kickstar
 t your consulting journey? Sign up for &quot;Zero Dollar Consultancy&quot; today and
  get ready to hustle smarter\, not harder!\n\nSpeaker(s): Phil Gerbyshak\,
  \n\nVirtual: https://events.vtools.ieee.org/m/410613
LOCATION:Virtual: https://events.vtools.ieee.org/m/410613
ORGANIZER:mr_anthony_cheung@ieee.org
SEQUENCE:20
SUMMARY:Zero Dollar Consultancy with Phil Gerbyshak: Kickstart Your Consult
 ing Journey!
URL;VALUE=URI:https://events.vtools.ieee.org/m/410613
X-ALT-DESC:Description: &lt;br /&gt;&lt;p&gt;Overview:&lt;br&gt;Ready to dive into the world 
 of consulting without breaking the bank? Join Phil Gerbyshak for &quot;Zero Dol
 lar Consultancy\,&quot; where you&#39;ll learn how to launch your consulting busine
 ss with minimal financial investment. Get the inside scoop on snagging you
 r first clients\, using budget-friendly tools\, and staying motivated thro
 ugh the ups and downs.&lt;/p&gt;\n&lt;p&gt;Key Learning Objectives:&lt;br&gt;1. Starting You
 r Consulting Business:&lt;br&gt;&amp;nbsp\; &amp;nbsp\;- Learn the basics of getting you
 r consulting gig off the ground without emptying your wallet.&lt;br&gt;&amp;nbsp\; &amp;
 nbsp\;- Find out how to carve your niche and show off your expertise in th
 e market.&lt;/p&gt;\n&lt;p&gt;2. Getting Customers on a Budget:&lt;br&gt;&amp;nbsp\; &amp;nbsp\;- Di
 scover sneaky (but ethical!) ways to reel in those first clients without s
 plurging on marketing.&lt;br&gt;&amp;nbsp\; &amp;nbsp\;- Dive into the art of networking
  and leveraging referrals to keep the client train chugging along.&lt;/p&gt;\n&lt;p
 &gt;3. Budget-Friendly Tools:&lt;br&gt;&amp;nbsp\; &amp;nbsp\;- Explore the wild world of a
 ffordable software and tools to keep your business running smoothly.&lt;br&gt;&amp;n
 bsp\; &amp;nbsp\;- Find out which freebies and low-cost goodies can help you s
 tay organized and professional.&lt;/p&gt;\n&lt;p&gt;4. Staying Sane and Bouncing Back:
 &lt;br&gt;&amp;nbsp\; &amp;nbsp\;- Phil&#39;s got your back with tips on staying motivated\,
  avoiding burnout\, and bouncing back from setbacks.&lt;br&gt;&amp;nbsp\; &amp;nbsp\;- L
 earn how to take care of yourself while hustling hard in the consulting ga
 me.&lt;/p&gt;\n&lt;p&gt;Program Format:&lt;br&gt;No boring lectures here! Dive into &quot;Zero Do
 llar Consultancy&quot; with Phil Gerbyshak through a mix of live sessions\, int
 eractive workshops\, and handy resources. Ask all your burning questions a
 nd get real\, practical advice from someone who&#39;s been there\, done that.&lt;
 /p&gt;\n&lt;p&gt;Plenty of Time for Q&amp;amp\;A:&lt;br&gt;Got a question? Fire away! Whether
  it&#39;s about snagging clients\, dealing with stress\, or just sharing your 
 own experiences\, there&#39;s plenty of time to chat and learn from Phil and y
 our fellow consulting hopefuls.&lt;/p&gt;\n&lt;p&gt;Ready to kickstart your consulting
  journey? Sign up for &quot;Zero Dollar Consultancy&quot; today and get ready to hus
 tle smarter\, not harder!&lt;/p&gt;
END:VEVENT
END:VCALENDAR

