BEGIN:VCALENDAR
VERSION:2.0
PRODID:IEEE vTools.Events//EN
CALSCALE:GREGORIAN
BEGIN:VTIMEZONE
TZID:Asia/Kolkata
BEGIN:STANDARD
DTSTART:19451014T230000
TZOFFSETFROM:+0630
TZOFFSETTO:+0530
TZNAME:IST
END:STANDARD
END:VTIMEZONE
BEGIN:VEVENT
DTSTAMP:20240310T101730Z
UID:07F1CEF7-29EB-440F-9F24-B3076AE42C63
DTSTART;TZID=Asia/Kolkata:20240213T110000
DTEND;TZID=Asia/Kolkata:20240213T154500
DESCRIPTION:GGIC Katra school visited as one day higher institutional visit
  for awareness and enhancing knowledge about higher institute for high sch
 ool and intermediate students on 13/02/2024\n\nSpeaker(s): Prof. H.P. Shuk
 la\, \n\nUCER\, UCER\, Prayagraj\, Uttar Pradesh\, India\, 211010
LOCATION:UCER\, UCER\, Prayagraj\, Uttar Pradesh\, India\, 211010
ORGANIZER:vineettiwari@united.ac.in
SEQUENCE:7
SUMMARY:GGIC Katra school visit
URL;VALUE=URI:https://events.vtools.ieee.org/m/410899
X-ALT-DESC:Description: &lt;br /&gt;&lt;p&gt;GGIC Katra school visited as one day highe
 r institutional visit for awareness and enhancing knowledge about higher i
 nstitute for high school and intermediate students on 13/02/2024&lt;/p&gt;
END:VEVENT
END:VCALENDAR

