BEGIN:VCALENDAR
VERSION:2.0
PRODID:IEEE vTools.Events//EN
CALSCALE:GREGORIAN
BEGIN:VTIMEZONE
TZID:America/New_York
BEGIN:DAYLIGHT
DTSTART:20240310T030000
TZOFFSETFROM:-0500
TZOFFSETTO:-0400
RRULE:FREQ=YEARLY;BYDAY=2SU;BYMONTH=3
TZNAME:EDT
END:DAYLIGHT
BEGIN:STANDARD
DTSTART:20241103T010000
TZOFFSETFROM:-0400
TZOFFSETTO:-0500
RRULE:FREQ=YEARLY;BYDAY=1SU;BYMONTH=11
TZNAME:EST
END:STANDARD
END:VTIMEZONE
BEGIN:VEVENT
DTSTAMP:20240328T163916Z
UID:BFA6291E-3D57-477B-84FC-B5197B7CB4C1
DTSTART;TZID=America/New_York:20240313T120000
DTEND;TZID=America/New_York:20240313T130000
DESCRIPTION:We scheduled an &#39;Career Development Session&#39; at the end of the 
 month( 29 of March)\, and we will discuss our plans.\n\nStorrs\, Connectic
 ut\, United States
LOCATION:Storrs\, Connecticut\, United States
ORGANIZER:efstathia.safikou@uconn.edu
SEQUENCE:18
SUMMARY:E-board meeting
URL;VALUE=URI:https://events.vtools.ieee.org/m/411148
X-ALT-DESC:Description: &lt;br /&gt;&lt;p&gt;We scheduled an &#39;Career Development Sessio
 n&#39; at the end of the month( 29 of March)\, and we will discuss our plans.&lt;
 /p&gt;
END:VEVENT
END:VCALENDAR

