BEGIN:VCALENDAR
VERSION:2.0
PRODID:IEEE vTools.Events//EN
CALSCALE:GREGORIAN
BEGIN:VTIMEZONE
TZID:America/New_York
BEGIN:DAYLIGHT
DTSTART:20240310T030000
TZOFFSETFROM:-0500
TZOFFSETTO:-0400
RRULE:FREQ=YEARLY;BYDAY=2SU;BYMONTH=3
TZNAME:EDT
END:DAYLIGHT
BEGIN:STANDARD
DTSTART:20241103T010000
TZOFFSETFROM:-0400
TZOFFSETTO:-0500
RRULE:FREQ=YEARLY;BYDAY=1SU;BYMONTH=11
TZNAME:EST
END:STANDARD
END:VTIMEZONE
BEGIN:VEVENT
DTSTAMP:20240322T230019Z
UID:C8E8ACD1-526D-4015-9651-EC597513D6AE
DTSTART;TZID=America/New_York:20240319T130000
DTEND;TZID=America/New_York:20240319T140000
DESCRIPTION:Abstract: 3D integration technology enables heterogeneous syste
 m scaling by offering higher I/O densities\, shorter interconnect lengths\
 , higher bandwidth and smaller form factors compared to 2D packaging solut
 ions. In recent years\, many products have been released taking advantage 
 of this technology to combine logic\, memory and imaging and/or optical co
 mponents into 3D stacked die\, or 2.5D interposer configurations. Due to t
 he vertical integration of thinned silicon chips\, the strong thermal coup
 ling between the tiers in the 3D stack\, and the difficulty to remove heat
  from within the 3D die stack\, thermal management is one of the major cha
 llenges of 3D integration technology. The incorporation of 3DIC and co-pac
 kaged optics on 2.5D interposer architectures to boost the compute through
 put\, has further complicated the cooling challenge.\n\nIn this talk\, the
  thermal impact of the recent scaling trends in 3D die and wafer stacking 
 and CPO\, including hybrid bonding\, backside power delivery\, and BEOL sc
 aling will be discussed. Furthermore\, the thermal opportunities of 3D fun
 ctional partitioning and advanced liquid cooling solutions\, to enable 2.5
 D HPC applications of multiple kW\, will be addressed.\n\nSpeaker(s): Dr. 
 Herman Oprins\n\nVirtual: https://events.vtools.ieee.org/m/411159
LOCATION:Virtual: https://events.vtools.ieee.org/m/411159
ORGANIZER:
SEQUENCE:12
SUMMARY:Thermal challenges and advanced cooling opportunities for 2.5D and 
 3D high performance computing
URL;VALUE=URI:https://events.vtools.ieee.org/m/411159
X-ALT-DESC:Description: &lt;br /&gt;&lt;p class=&quot;x_elementtoproof&quot;&gt;&lt;strong&gt;&lt;span dat
 a-ogsc=&quot;black&quot;&gt;Abstract&lt;/span&gt;&lt;/strong&gt;&lt;span data-ogsc=&quot;black&quot;&gt;:&amp;nbsp\;&lt;/s
 pan&gt;&lt;span data-ogsc=&quot;black&quot;&gt;3D integration technology enables heterogeneou
 s system scaling by offering higher I/O densities\, shorter interconnect l
 engths\, higher bandwidth and smaller form factors compared to 2D packagin
 g solutions. In recent years\, many products have been released taking adv
 antage of this technology to combine logic\, memory and imaging and/or opt
 ical components into 3D stacked die\, or 2.5D interposer configurations. D
 ue to the vertical integration of thinned silicon chips\, the strong therm
 al coupling between the tiers in the 3D stack\, and the difficulty to remo
 ve heat from within the 3D die stack\, thermal management is one of the ma
 jor challenges of 3D integration technology. The incorporation of 3DIC and
  co-packaged optics on 2.5D interposer architectures to boost the compute 
 throughput\, has further complicated the cooling challenge.&lt;/span&gt;&lt;/p&gt;\n&lt;p
  class=&quot;x_elementtoproof&quot;&gt;&lt;span data-ogsc=&quot;black&quot;&gt;In this talk\, the therm
 al impact of the recent scaling trends in 3D die and wafer stacking and CP
 O\, including hybrid bonding\, backside power delivery\, and BEOL scaling 
 will be discussed. Furthermore\, the thermal opportunities of 3D functiona
 l partitioning and advanced liquid cooling solutions\, to enable 2.5D HPC 
 applications of multiple kW\, will be addressed.&lt;/span&gt;&lt;/p&gt;
END:VEVENT
END:VCALENDAR

