BEGIN:VCALENDAR
VERSION:2.0
PRODID:IEEE vTools.Events//EN
CALSCALE:GREGORIAN
BEGIN:VTIMEZONE
TZID:America/Los_Angeles
BEGIN:DAYLIGHT
DTSTART:20240310T030000
TZOFFSETFROM:-0800
TZOFFSETTO:-0700
RRULE:FREQ=YEARLY;BYDAY=2SU;BYMONTH=3
TZNAME:PDT
END:DAYLIGHT
BEGIN:STANDARD
DTSTART:20241103T010000
TZOFFSETFROM:-0700
TZOFFSETTO:-0800
RRULE:FREQ=YEARLY;BYDAY=1SU;BYMONTH=11
TZNAME:PST
END:STANDARD
END:VTIMEZONE
BEGIN:VEVENT
DTSTAMP:20240323T071751Z
UID:D120FD81-3CE4-4F5C-A089-F7FAE9225F7C
DTSTART;TZID=America/Los_Angeles:20240320T180000
DTEND;TZID=America/Los_Angeles:20240320T203000
DESCRIPTION:In-Person Location - Rusty’s Pizza ­­ 5934 Calle Real\, Gol
 eta\, CA 93117\n\nor Optional Virtual Webex Attendance\n\n6:00 PM – Comp
 limentary Pizza\, Salad\, Beverage­\n\n6:25 PM – Central Coast Status\n
 \n6:30 PM – Dr. Philip Lubin Presents\n\nPlease join us on March 20th wh
 en Dr. Philip Lubin will speak about his study on directed energy propulsi
 on for exploring other worlds as well as in protecting the Earth from aste
 roids and comets in his talk &quot;Planetary Defense using Hypervelocity Penetr
 ators&quot;. Guests are welcome. Please Register Yourself and Guests @ Register
  Now below. Note Attendance Type: In-Person or Virtual.\n\nBest regards\, 
 Ruth Franklin IEEE Central Coast Chair\n\nSpeaker(s): Philip Lubin\, \n\nR
 oom: Event Room\, Rusty&#39;s Pizza\, 5934 Calle Real\, Goleta\, California\, 
 United States\, 93117\, Virtual: https://events.vtools.ieee.org/m/411182
LOCATION:Room: Event Room\, Rusty&#39;s Pizza\, 5934 Calle Real\, Goleta\, Cali
 fornia\, United States\, 93117\, Virtual: https://events.vtools.ieee.org/m
 /411182
ORGANIZER:ruth.franklin@ieee.org
SEQUENCE:25
SUMMARY:IEEE CC Event 20 March - Planetary Defense using Hypervelocity Pene
 trators - Philip Lubin PhD UCSB Physics Deepspace
URL;VALUE=URI:https://events.vtools.ieee.org/m/411182
X-ALT-DESC:Description: &lt;br /&gt;&lt;p&gt;&lt;strong&gt;In-Person Location - Rusty&amp;rsquo\;
 s Pizza &amp;shy\;&amp;shy\;&amp;nbsp\;&lt;/strong&gt;5934 Calle Real\, Goleta\, CA 93117&lt;/p
 &gt;\n&lt;p&gt;&lt;strong&gt;or Optional&amp;nbsp\;&lt;/strong&gt;&lt;strong&gt;Virtual Webex Attendance&amp;
 nbsp\; &amp;nbsp\;&lt;/strong&gt;&lt;/p&gt;\n&lt;p&gt;6:00 PM &amp;ndash\; Complimentary Pizza\, Sal
 ad\, Beverage&amp;shy\;&lt;/p&gt;\n&lt;p&gt;6:25 PM &amp;ndash\; Central Coast Status&lt;/p&gt;\n&lt;p&gt;
 6:30 PM &amp;ndash\; Dr. Philip Lubin Presents&lt;/p&gt;\n&lt;p&gt;Please join us on March
  20th when Dr. Philip Lubin will speak about his study on directed energy 
 propulsion for exploring other worlds as well as in protecting the Earth f
 rom asteroids and comets in his talk &lt;strong&gt;&quot;Planetary Defense using Hype
 rvelocity Penetrators&quot;&lt;/strong&gt;. Guests are welcome. Please Register Yours
 elf and Guests @ &lt;strong&gt;Register Now&lt;/strong&gt;&amp;nbsp\;below. Note Attendanc
 e Type: In-Person or Virtual.&lt;/p&gt;\n&lt;p&gt;Best regards\, Ruth Franklin IEEE Ce
 ntral Coast Chair&lt;/p&gt;
END:VEVENT
END:VCALENDAR

